BEGIN:VCALENDAR
VERSION:2.0
PRODID:-//Department of Mental Health - ECPv6.15.20//NONSGML v1.0//EN
CALSCALE:GREGORIAN
METHOD:PUBLISH
X-WR-CALNAME:Department of Mental Health
X-ORIGINAL-URL:https://dmh.lacounty.gov
X-WR-CALDESC:Events for Department of Mental Health
REFRESH-INTERVAL;VALUE=DURATION:PT1H
X-Robots-Tag:noindex
X-PUBLISHED-TTL:PT1H
BEGIN:VTIMEZONE
TZID:America/Los_Angeles
BEGIN:DAYLIGHT
TZOFFSETFROM:-0800
TZOFFSETTO:-0700
TZNAME:PDT
DTSTART:20240310T100000
END:DAYLIGHT
BEGIN:STANDARD
TZOFFSETFROM:-0700
TZOFFSETTO:-0800
TZNAME:PST
DTSTART:20241103T090000
END:STANDARD
BEGIN:DAYLIGHT
TZOFFSETFROM:-0800
TZOFFSETTO:-0700
TZNAME:PDT
DTSTART:20250309T100000
END:DAYLIGHT
BEGIN:STANDARD
TZOFFSETFROM:-0700
TZOFFSETTO:-0800
TZNAME:PST
DTSTART:20251102T090000
END:STANDARD
BEGIN:DAYLIGHT
TZOFFSETFROM:-0800
TZOFFSETTO:-0700
TZNAME:PDT
DTSTART:20260308T100000
END:DAYLIGHT
BEGIN:STANDARD
TZOFFSETFROM:-0700
TZOFFSETTO:-0800
TZNAME:PST
DTSTART:20261101T090000
END:STANDARD
END:VTIMEZONE
BEGIN:VEVENT
DTSTART;TZID=America/Los_Angeles:20250501T100000
DTEND;TZID=America/Los_Angeles:20250501T120000
DTSTAMP:20260420T032308
CREATED:20241126T211859Z
LAST-MODIFIED:20241126T211859Z
UID:33398-1746093600-1746100800@dmh.lacounty.gov
SUMMARY:Black & African Heritage (BAH) UsCC Meeting – May 1\, 2025
DESCRIPTION:Join meeting via MS Teams\nMeeting ID: 293 758 224 936\nPasscode: U9hBUP \nDial in by phone\n+1 323-776-6996\nPhone conference ID: 720 694 564# \nFor more information about this meeting\, please email BAHUsCC@dmh.lacounty.gov. \nLearn more about BAH UsCC.
URL:https://dmh.lacounty.gov/event/black-african-heritage-bah-uscc-meeting-may-1-2025/
LOCATION:Online
CATEGORIES:General Events,Online Events
END:VEVENT
BEGIN:VEVENT
DTSTART;TZID=America/Los_Angeles:20250501T100000
DTEND;TZID=America/Los_Angeles:20250501T120000
DTSTAMP:20260420T032308
CREATED:20241226T183607Z
LAST-MODIFIED:20241226T212603Z
UID:35363-1746093600-1746100800@dmh.lacounty.gov
SUMMARY:Faith-Based Advocacy Council Executive Board Meeting - May 1\, 2025
DESCRIPTION:The Faith-Based Advocacy Council meets monthly to discuss and collaborate on efforts to sustain and strengthen LACDMH’s partnership with L.A. County’s diverse faith-based communities to optimize the physical\, emotional\, and spiritual wellbeing of L.A. County residents. \nFor more information about the council or this event\, email CVFierro@dmh.lacounty.gov. \nPlease see below for event details: \nClick here to join the meeting on Microsoft Teams\nMeeting ID: 998 358 247 \nDownload Teams | Join on the web \nEnglish Phone Line: 323-776-6996\, passcode: 998358247# \nSpanish Phone Line: 323-776-6996\, passcode: 483959790# \nKorean Phone Line: 323-776-6996\, passcode: 325977291#
URL:https://dmh.lacounty.gov/event/faith-based-advocacy-council-executive-board-meeting-may-1-2025/
LOCATION:CA
CATEGORIES:General Events,Online Events
END:VEVENT
BEGIN:VEVENT
DTSTART;TZID=America/Los_Angeles:20250501T130000
DTEND;TZID=America/Los_Angeles:20250501T143000
DTSTAMP:20260420T032308
CREATED:20250103T211546Z
LAST-MODIFIED:20250103T230903Z
UID:36092-1746104400-1746109800@dmh.lacounty.gov
SUMMARY:Service Area 1 Health Neighborhood Meeting - May 1\, 2025
DESCRIPTION:English\nJoin the meeting now\n(323) 776-6996\nConference ID 904 546 773# \nSpanish\nJoin the meeting now\nCall-In#\n(323) 776-6996\nConference ID 329 414 448# \nFor more information about this meeting\, please contact Gabriela Muniz at GMuniz@dmh.lacounty.gov or (213) 334-0653. \nLearn more about Health Neighborhoods
URL:https://dmh.lacounty.gov/event/sa1-health-neighborhood-meeting-may-1-2025/
LOCATION:Online
CATEGORIES:General Events,Online Events
END:VEVENT
BEGIN:VEVENT
DTSTART;TZID=America/Los_Angeles:20250501T140000
DTEND;TZID=America/Los_Angeles:20250501T150000
DTSTAMP:20260420T032308
CREATED:20250501T232722Z
LAST-MODIFIED:20250501T232920Z
UID:44803-1746108000-1746111600@dmh.lacounty.gov
SUMMARY:Anger Management (Non-Court Ordered)
DESCRIPTION:
URL:https://dmh.lacounty.gov/event/44803-anger-management/
LOCATION:MLK Behavioral Health Center\, 12021 Wilmington Avenue.\, Bldg. 18\, Room D\, Los Angeles\, CA\, 90059\, United States
CATEGORIES:Veteran Events
END:VEVENT
BEGIN:VEVENT
DTSTART;TZID=America/Los_Angeles:20250501T140000
DTEND;TZID=America/Los_Angeles:20250501T160000
DTSTAMP:20260420T032308
CREATED:20241126T003337Z
LAST-MODIFIED:20241126T003337Z
UID:33301-1746108000-1746115200@dmh.lacounty.gov
SUMMARY:LGBTQIA2-S UsCC Meeting May 1\, 2025
DESCRIPTION:Join the meeting via MS Teams\nMeeting ID: 271 812 134 464\n\n\n\nDial in by phone\n+1 323-776-6996\n\nPhone conference ID: 201 879 972#\n\n\nFor more information about this meeting\, please email LGBTQIA2SUsCC@dmh.lacounty.gov. \nLearn more about LACDMH’s LGBTQIA2-S UsCC.
URL:https://dmh.lacounty.gov/event/lgbtqia2-s-uscc-meeting-may-1-2025/
LOCATION:Online
CATEGORIES:General Events,Online Events
END:VEVENT
BEGIN:VEVENT
DTSTART;TZID=America/Los_Angeles:20250501T143000
DTEND;TZID=America/Los_Angeles:20250501T160000
DTSTAMP:20260420T032308
CREATED:20250113T205421Z
LAST-MODIFIED:20250113T205421Z
UID:36989-1746109800-1746115200@dmh.lacounty.gov
SUMMARY:Service Area 8 Health Neighborhood (Inglewood) Meeting - May 1\, 2025
DESCRIPTION:Meeting Details TBD. \nClick here to join the meeting\n \nEnglish Call-In Information:\n(323) 776-6996; ID: 248 322 601# \nPlease email kphan@dmh.lacounty.gov for more information. \nLearn more about Service Area 8 Health Neighborhood
URL:https://dmh.lacounty.gov/event/service-area-8-health-neighborhood-inglewood-meeting-may-1-2025/
LOCATION:Online
CATEGORIES:General Events,Online Events,Service Area 8 Event,Service Area Events
END:VEVENT
BEGIN:VEVENT
DTSTART;TZID=America/Los_Angeles:20250502T100000
DTEND;TZID=America/Los_Angeles:20250502T120000
DTSTAMP:20260420T032308
CREATED:20250101T000638Z
LAST-MODIFIED:20250103T234906Z
UID:35874-1746180000-1746187200@dmh.lacounty.gov
SUMMARY:SALT 8 MEETING - MAY 2\, 2025
DESCRIPTION:Meeting Details TBA \nSALT 8 Meeting – Virtually via MS Teams (for in-person location email SALT8@dmh.lacounty.gov) \nVirtual Conference:\nJoin Meeting via MS Teams \nCall In Information:\nEnglish: (323) 776-6996\, access code 436 128 380#\nSpanish: (888) 204-5987\, código de acceso 9639884# \nCART Link:\nhttps://www.streamtext.net/player?event=LACDMH_SALT8\n \nLearn more about SALT 8\nFor more information about this meeting\, please email SALT8@dmh.lacounty.gov
URL:https://dmh.lacounty.gov/event/salt-8-meeting-may-2-2025/
LOCATION:CA
CATEGORIES:General Events,Online Events,Service Area 8 Event,Service Area Events
END:VEVENT
BEGIN:VEVENT
DTSTART;TZID=America/Los_Angeles:20250502T100000
DTEND;TZID=America/Los_Angeles:20250502T120000
DTSTAMP:20260420T032308
CREATED:20250418T234240Z
LAST-MODIFIED:20250418T234240Z
UID:44212-1746180000-1746187200@dmh.lacounty.gov
SUMMARY:SALT 8 Mental Health Awareness Month: Advancing Maternal Mental Health Event - May 2\, 2025
DESCRIPTION:The Service Area 8 Leadership Team (SALT 8) invites you to join our in-person Mental Health Awareness Month Event to raise awareness about maternal mental health with our partners at Harbor Regional Center in Torrance. Learn from a panel presentation of experts and advocates about the resources and information available for women and families impacted by mental health issues before\, during\, and after pregnancy. \nSeats are limited – so Register today to reserve your seat at https://forms.office.com/g/Z2VSccFGvG \nSpanish interpretation and CART services will be available. \nContinental breakfast will be provided while supplies last. \nTo register or obtain more information about this event\, please email SALT8@dmh.lacounty.gov. \nEvent flyer in English & Spanish
URL:https://dmh.lacounty.gov/event/salt-8-mental-health-awareness-month-advancing-maternal-mental-health-event-may-2-2025/
LOCATION:Harbor Regional Center\, 21231 Hawthorne Blvd\, Torrance\, CA\, 90503\, United States
CATEGORIES:General Events,Service Area 8 Event,Service Area Events
END:VEVENT
BEGIN:VEVENT
DTSTART;TZID=America/Los_Angeles:20250502T110000
DTEND;TZID=America/Los_Angeles:20250502T123000
DTSTAMP:20260420T032308
CREATED:20250501T233449Z
LAST-MODIFIED:20250501T233449Z
UID:44821-1746183600-1746189000@dmh.lacounty.gov
SUMMARY:Financial Literacy for Veterans and Military Families
DESCRIPTION:
URL:https://dmh.lacounty.gov/event/44821-financial-literacy/
LOCATION:US VETS – Inglewood\, 733 Hindry Ave\, Inglewood\, California\, 90301
CATEGORIES:Veteran Events
END:VEVENT
BEGIN:VEVENT
DTSTART;TZID=America/Los_Angeles:20250503T120000
DTEND;TZID=America/Los_Angeles:20250503T140000
DTSTAMP:20260420T032308
CREATED:20250502T230909Z
LAST-MODIFIED:20250502T231149Z
UID:44900-1746273600-1746280800@dmh.lacounty.gov
SUMMARY:Native Excellence & Wellness Series Workshops - IN PERSON
DESCRIPTION:Please join us for this free event! \nWorkshop topic: Footprints of Our Ancestors: Native Excellence in Society \nClick here to RSVP
URL:https://dmh.lacounty.gov/event/native-excellence-wellness-series-workshops-in-person/
LOCATION:Huntington Park Library\, 6518 Miles Ave.\, Los Angeles\, CA\, 90255\, United States
CATEGORIES:General Events
END:VEVENT
BEGIN:VEVENT
DTSTART;TZID=America/Los_Angeles:20250504T090000
DTEND;TZID=America/Los_Angeles:20250504T180000
DTSTAMP:20260420T032308
CREATED:20250429T193811Z
LAST-MODIFIED:20250429T193851Z
UID:44490-1746349200-1746381600@dmh.lacounty.gov
SUMMARY:Armenian Wellness Festival
DESCRIPTION:Join us for this free event.
URL:https://dmh.lacounty.gov/event/armenian-wellness-festival/
LOCATION:Pacific Community Center\, 501 S. Pacific Avenue\, Glendale\, 91204\, United States
END:VEVENT
BEGIN:VEVENT
DTSTART;TZID=America/Los_Angeles:20250504T090000
DTEND;TZID=America/Los_Angeles:20250504T180000
DTSTAMP:20260420T032308
CREATED:20250429T194241Z
LAST-MODIFIED:20250429T194241Z
UID:44497-1746349200-1746381600@dmh.lacounty.gov
SUMMARY:Armenian Wellness Festival
DESCRIPTION:Please join us for this free event. \n 
URL:https://dmh.lacounty.gov/event/armenian-wellness-festival-2/
LOCATION:Pacific Community Center\, 501 S. Pacific Avenue\, Glendale\, 91204\, United States
CATEGORIES:General Events
END:VEVENT
BEGIN:VEVENT
DTSTART;TZID=America/Los_Angeles:20250505T110000
DTEND;TZID=America/Los_Angeles:20250505T123000
DTSTAMP:20260420T032308
CREATED:20250108T190837Z
LAST-MODIFIED:20250108T190837Z
UID:36456-1746442800-1746448200@dmh.lacounty.gov
SUMMARY:Service Area 6 Health Neighborhood Meeting - May 5\, 2025
DESCRIPTION:Meeting Details TBD. \nPlease email KThompson@dmh.lacounty.gov for meeting information. \nLearn more about Service Area 6 Health Neighborhoods
URL:https://dmh.lacounty.gov/event/service-area-6-health-neighborhood-meeting-may-5-2025/
LOCATION:CA
CATEGORIES:General Events,Service Area 6 Event,Service Area Events
END:VEVENT
BEGIN:VEVENT
DTSTART;TZID=America/Los_Angeles:20250505T110000
DTEND;TZID=America/Los_Angeles:20250505T150000
DTSTAMP:20260420T032308
CREATED:20250425T194338Z
LAST-MODIFIED:20250425T194906Z
UID:44408-1746442800-1746457200@dmh.lacounty.gov
SUMMARY:Service Area 6 May Mental Health Awareness Event - May 5\, 2025
DESCRIPTION:Coming together in support of our mental wellbeing is important. That’s why LACDMH is working to help LA County residents proactively get support for their mental health. \nJoin us for a community event focused on mental health\, offering resources and wellness activities. \nCome & enjoy: \n\nFree food\, music and giveaways\nFree community resources\nMeditation and other wellness activities\n\nWe’re bringing communities together in wellness by encouraging everyone to pay attention to their own needs and those around them.  Drop by this and other Take Action events\, participate in fun and health-promoting activities\, and learn more about what LACDMH can do for you! \nFor more information\, visit this page on the Take Action LA website.
URL:https://dmh.lacounty.gov/event/sa-6-may-mental-health-awareness-event-may-5-2025/
LOCATION:LA Southwest College\, 1600 W Imperial Hwy\, Los Angeles\, CA\, 90047\, United States
CATEGORIES:General Events,Service Area 6 Event,Service Area Events
END:VEVENT
BEGIN:VEVENT
DTSTART;TZID=America/Los_Angeles:20250505T110000
DTEND;TZID=America/Los_Angeles:20250505T150000
DTSTAMP:20260420T032308
CREATED:20250501T212439Z
LAST-MODIFIED:20250501T212457Z
UID:44760-1746442800-1746457200@dmh.lacounty.gov
SUMMARY:Service Area 6 May Mental Health Awareness Event at LA Southwest College
DESCRIPTION:Event Description\nJoin us for a community event focused on mental health\, offering resources and wellness activities. Come & enjoy:  * Free food\, music and giveaways   * Free community resources   * Meditation\, yoga and other wellness activities\n\n\n–\nContact Host\n\ntakeactionevents@calmhsa.org\n–\n\n\n\nNo RSVP Required
URL:https://dmh.lacounty.gov/event/44760-service-area-6-may-mental-health-awareness-event-at-la-southwest-college/
LOCATION:LA Southwest College\, 1600 W Imperial Hwy\, Los Angeles\, CA\, 90047\, United States
CATEGORIES:Veteran Events
END:VEVENT
BEGIN:VEVENT
DTSTART;TZID=America/Los_Angeles:20250506T093000
DTEND;TZID=America/Los_Angeles:20250506T110000
DTSTAMP:20260420T032308
CREATED:20250121T194532Z
LAST-MODIFIED:20250121T194549Z
UID:37512-1746523800-1746529200@dmh.lacounty.gov
SUMMARY:Service Area 8 Clergy Roundtable - May 6\, 2025
DESCRIPTION:Service Area 8 Clergy Roundtable Meeting \nDetails TBD. \nIn-person Location:\nLong Beach Api Family MHC\n4510 EAST PACIFIC COAST HWY. STE. 600\nLONG BEACH CA 90804 \nFor more information about this meeting please email kphan@dmh.lacounty.gov. \nLearn more about Service Area 8.
URL:https://dmh.lacounty.gov/event/service-area-8-clergy-roundtable-may-6-2025/
LOCATION:4510 East Pacific Coast Highway\, 4510 E Pacific Coast Hwy #600\, Long Beach\, CA\, 90804\, United States
CATEGORIES:General Events,Service Area 8 Event,Service Area Events
END:VEVENT
BEGIN:VEVENT
DTSTART;TZID=America/Los_Angeles:20250507T110000
DTEND;TZID=America/Los_Angeles:20250507T150000
DTSTAMP:20260420T032308
CREATED:20250425T194747Z
LAST-MODIFIED:20250425T194748Z
UID:44417-1746615600-1746630000@dmh.lacounty.gov
SUMMARY:Service Area 1 May Mental Health Awareness Event - May 7\, 2025
DESCRIPTION:Coming together in support of our mental wellbeing is important. That’s why LACDMH is working to help LA County residents proactively get support for their mental health. \nJoin us for a community event focused on mental health\, offering resources and wellness activities. \nCome & enjoy: \n\nFree food\, music and giveaways\nFree community resources\nMeditation and other wellness activities\n\nWe’re bringing communities together in wellness by encouraging everyone to pay attention to their own needs and those around them.  Drop by this and other Take Action events\, participate in fun and health-promoting activities\, and learn more about what LACDMH can do for you! \nFor more information about this event\, visit this page on the Take Action LA website.
URL:https://dmh.lacounty.gov/event/service-area-1-may-mental-health-awareness-event-may-7-2025/
LOCATION:Antelope Valley College\, 3041 West Avenue K\, Lancaster\, CA\, 93536\, United States
CATEGORIES:General Events,Service Area 1 Event,Service Area Events
END:VEVENT
BEGIN:VEVENT
DTSTART;TZID=America/Los_Angeles:20250507T110000
DTEND;TZID=America/Los_Angeles:20250507T150000
DTSTAMP:20260420T032308
CREATED:20250501T210533Z
LAST-MODIFIED:20250501T210832Z
UID:44735-1746615600-1746630000@dmh.lacounty.gov
SUMMARY:Service Area 1 May Mental Health Awareness Event at Antelope Valley College
DESCRIPTION:Event Description\nJoin us for a community event focused on mental health\, offering resources and wellness activities. Come & enjoy:  * Free food\, music and giveaways   * Free community resources   * Meditation\, yoga and other wellness activities\n\n–\n\nContact Host\n\ntakeactionevents@calmhsa.org\n\n\n–\n\nNo RSVP Required
URL:https://dmh.lacounty.gov/event/44735-service-area-1-may-mental-health-awareness-event-at-antelope-valley-college/
LOCATION:Antelope Valley College-Lancaster Campus\, 3041 West Avenue K\, Lancaster\, CA\, 93536
CATEGORIES:Veteran Events
END:VEVENT
BEGIN:VEVENT
DTSTART;TZID=America/Los_Angeles:20250507T120000
DTEND;TZID=America/Los_Angeles:20250507T130000
DTSTAMP:20260420T032308
CREATED:20250501T221644Z
LAST-MODIFIED:20250501T221644Z
UID:44772-1746619200-1746622800@dmh.lacounty.gov
SUMMARY:Veteran Group Support (Weekly)
DESCRIPTION:Join us for a weekly expert-led support group designed for Veterans to explore and strengthen personal boundaries\, commitment management\, and healthy coping mechanisms. This safe and supportive space allows Veterans to share experiences\, and gain peer support. \n\n\nContact for More Information: \nEduardo Madrid – equelemadrid@dmh.lacounty.gov / 213-435-6095
URL:https://dmh.lacounty.gov/event/44772-veteran-group-support/
LOCATION:VPAN JVS SoCal – South El Monte\, 1180 Durfee Ave Ste 200\, South El Monte\, CA\, 91733\, United States
CATEGORIES:Veteran Events
END:VEVENT
BEGIN:VEVENT
DTSTART;TZID=America/Los_Angeles:20250507T140000
DTEND;TZID=America/Los_Angeles:20250507T160000
DTSTAMP:20260420T032308
CREATED:20241125T230457Z
LAST-MODIFIED:20241125T230457Z
UID:33222-1746626400-1746633600@dmh.lacounty.gov
SUMMARY:American Indian/Alaska Native (AI/AN) UsCC Meeting – May. 7\, 2025
DESCRIPTION:Join the meeting via MS Teams\nMeeting ID: 274 059 398 422\nPasscode: yp66mP\n\n\n\nDial in by phone\n+1 323-776-6996\nPhone conference ID: 307 465 115#\n\n\n\nVisit LACDMH’s Access for AI/AN UsCC page for meeting details and to learn more about this UsCC group. \nFor more information about this meeting\, please email AIANUsCC@dmh.lacounty.gov.
URL:https://dmh.lacounty.gov/event/american-indian-alaska-native-ai-an-uscc-meeting-may-7-2025/
LOCATION:CA
CATEGORIES:General Events,Online Events
END:VEVENT
BEGIN:VEVENT
DTSTART;TZID=America/Los_Angeles:20250508T093000
DTEND;TZID=America/Los_Angeles:20250508T130000
DTSTAMP:20260420T032308
CREATED:20250123T172257Z
LAST-MODIFIED:20250123T172342Z
UID:37677-1746696600-1746709200@dmh.lacounty.gov
SUMMARY:Service Area 5 Clergy Breakfast - May 8\, 2025
DESCRIPTION:Service Area 5 Clergy Breakfast \nDetails TBD. \nFor more information about this meeting please call 310-482-6600. \nLearn more about Service Area 5.
URL:https://dmh.lacounty.gov/event/service-area-5-clergy-breakfast-may-8-2025/
LOCATION:CA
CATEGORIES:General Events,Service Area 5 Event
END:VEVENT
BEGIN:VEVENT
DTSTART;TZID=America/Los_Angeles:20250508T093000
DTEND;TZID=America/Los_Angeles:20250508T233000
DTSTAMP:20260420T032309
CREATED:20241227T200356Z
LAST-MODIFIED:20250206T162518Z
UID:35517-1746696600-1746747000@dmh.lacounty.gov
SUMMARY:SALT 2 MEETING - MAY 8\, 2025
DESCRIPTION:Meeting Details TBA \nLocation: Zev Yaroslavsky Family Support Center\nAddress: 7555 Van Nuys Blvd\, Van Nuys\, CA 91405\nTime: 930 – 11:30 AM \nVirtual Conference:\n\nClick here to join the meeting \nEnglish Call-In #\n323-776-6996\nConference ID\n702 322 66# \nSpanish Call-In #\n888-204-5987\nConference ID\ncódigo de acceso 9639884# \nCART Link:\nhttps://www.streamtext.net/player?event=SALT-2 \nFor more information about this meeting\, please email SALT2@dmh.lacounty.gov. \nLearn more about SALT 2
URL:https://dmh.lacounty.gov/event/salt-2-meeting-may-8-2025/
LOCATION:Zev Yaroslavsky Family Support Center\, 7555 Van Nuys Blvd\, Van Nuys\, CA\, 91405\, United States
CATEGORIES:General Events,Online Events,Service Area 2 Event,Service Area Events
END:VEVENT
BEGIN:VEVENT
DTSTART;TZID=America/Los_Angeles:20250508T100000
DTEND;TZID=America/Los_Angeles:20250508T130000
DTSTAMP:20260420T032309
CREATED:20250425T195101Z
LAST-MODIFIED:20250425T195156Z
UID:44423-1746698400-1746709200@dmh.lacounty.gov
SUMMARY:Service Area 5 May Mental Health Awareness Event - May 8\, 2025
DESCRIPTION:Coming together in support of our mental wellbeing is important. That’s why LACDMH is working to help LA County residents proactively get support for their mental health. \nJoin us for a community event focused on mental health\, offering resources and wellness activities. \nCome & enjoy: \n\nFree food\, music and giveaways\nFree community resources\nMeditation and other wellness activities\n\nWe’re bringing communities together in wellness by encouraging everyone to pay attention to their own needs and those around them.  Drop by this and other Take Action events\, participate in fun and health-promoting activities\, and learn more about what LACDMH can do for you! \nFor more information\, visit this page on the Take Action LA website.
URL:https://dmh.lacounty.gov/event/service-area-5-may-mental-health-awareness-event-may-8-2025/
LOCATION:Santa Monica College\, 1900 Pico Blvd.\, Santa Monica\, CA\, 90405\, United States
CATEGORIES:General Events,Service Area 5 Event,Service Area Events
END:VEVENT
BEGIN:VEVENT
DTSTART;TZID=America/Los_Angeles:20250508T110000
DTEND;TZID=America/Los_Angeles:20250508T120000
DTSTAMP:20260420T032309
CREATED:20250501T233813Z
LAST-MODIFIED:20250501T233813Z
UID:44827-1746702000-1746705600@dmh.lacounty.gov
SUMMARY:Table Talk: A Women Veterans Support Group
DESCRIPTION:
URL:https://dmh.lacounty.gov/event/44827-table-talk/
LOCATION:VPAN JVS SoCal – Palmdale\, 38345 30th St E Suite A-1\, Palmdale\, CA\, 93550
CATEGORIES:Veteran Events
END:VEVENT
BEGIN:VEVENT
DTSTART;TZID=America/Los_Angeles:20250508T110000
DTEND;TZID=America/Los_Angeles:20250508T133000
DTSTAMP:20260420T032309
CREATED:20240807T171237Z
LAST-MODIFIED:20250506T173722Z
UID:28383-1746702000-1746711000@dmh.lacounty.gov
SUMMARY:BEHAVIORAL HEALTH COMMISSION (BHC) REGULAR MEETING - May 8\, 2025
DESCRIPTION:BHC REGULAR MEETING\nDownload agenda English Spanish\nHybrid Meeting\n\nWatch live broadcast: MS Teams Link \nJoin in-person: 510 S Vermont Ave.\, 9th floor (Level T) Conference Room\, Los Angeles 90020. FREE parking is available at 523 Shatto Place\, Los Angeles\, CA 90020.\n\n\nLive Closed Captioning (CART) Link \nAmerican Sign Language (ASL) Link \nMembers of the public can address the BHC during the live event by attending in-person (see location above)\, by phone\, by email\, or by regular mail. \nBy telephone: \nTo listen or make public comment in English\, please call 1-844-291-6362\, enter conference code 4972277\nTo listen or make public comment in Spanish\, please call 323-776-6996\, conference ID 444855048\nTo listen or make public comment in Korean\, please call 323-776-6996\, conference ID 228880303 \nBy mail: \n\nElectronic Mail (Email): Email your public comment to mhcommission@dmh.lacounty.gov .  Email must be received 1 day prior to the date of the meeting.\nRegular Mail: Mail your public comment to the following address: 510 S. Vermont Avenue\, Attention: Behavioral Health Commission (22-111)\, Los Angeles\, CA 90020. Mail must be received 5 days prior to the date of the meeting.\n\nFor more information about this meeting\, please email MHCommission@dmh.lacounty.gov
URL:https://dmh.lacounty.gov/event/mental-health-commission-mhc-executive-committee-meeting-may-8-2025/
LOCATION:DMH Headquarters -Terrace Level Conference Rooms -BH Commission Meetings\, 510 S Vermont Avenue\, 9th Floor\, (T) Level\, Los Angeles\, CA\, 90020\, United States
CATEGORIES:General Events,Online Events,Provider Central,Service Area Events
END:VEVENT
BEGIN:VEVENT
DTSTART;TZID=America/Los_Angeles:20250508T110000
DTEND;TZID=America/Los_Angeles:20250508T150000
DTSTAMP:20260420T032309
CREATED:20250501T212227Z
LAST-MODIFIED:20250501T212253Z
UID:44757-1746702000-1746716400@dmh.lacounty.gov
SUMMARY:Service Area 5 May Mental Health Awareness Event at Santa Monica College
DESCRIPTION:Event Description\nJoin us for a community event focused on mental health\, offering resources and wellness activities. Come & enjoy:  * Free food\, music and giveaways   * Free community resources   * Meditation\, yoga and other wellness activities\n\n\n–\nContact Host\n\ntakeactionevents@calmhsa.org\n–\n\n\n\nNo RSVP Required
URL:https://dmh.lacounty.gov/event/44757-service-area-5-may-mental-health-awareness-event-at-santa-monica-college/
LOCATION:Santa Monica College\, 1900 Pico Blvd.\, Santa Monica\, CA\, 90405\, United States
CATEGORIES:Veteran Events
END:VEVENT
BEGIN:VEVENT
DTSTART;TZID=America/Los_Angeles:20250508T140000
DTEND;TZID=America/Los_Angeles:20250508T150000
DTSTAMP:20260420T032309
CREATED:20250501T233111Z
LAST-MODIFIED:20250501T233111Z
UID:44808-1746712800-1746716400@dmh.lacounty.gov
SUMMARY:Anger Management (Non-Court Ordered)
DESCRIPTION:
URL:https://dmh.lacounty.gov/event/44808-anger-management/
LOCATION:MLK Behavioral Health Center\, 12021 Wilmington Avenue.\, Bldg. 18\, Room D\, Los Angeles\, CA\, 90059\, United States
CATEGORIES:Veteran Events
END:VEVENT
BEGIN:VEVENT
DTSTART;TZID=America/Los_Angeles:20250508T140000
DTEND;TZID=America/Los_Angeles:20250508T160000
DTSTAMP:20260420T032309
CREATED:20241227T214024Z
LAST-MODIFIED:20241227T214421Z
UID:35553-1746712800-1746720000@dmh.lacounty.gov
SUMMARY:SALT 3 MEETING - MAY 8\, 2025
DESCRIPTION:Meeting Details TBA \nVirtual Conference: Join Meeting via MS Teams \nCall-In Information:\nEnglish: (323) 776-6996\, access code 563 246 482#\nSpanish: (888) 204-5987\, código de acceso 9639884# \nCART Link:\nhttps://www.streamtext.net/player?event=SALT-3 \nFor more information about this meeting\, please email SALT3@dmh.lacounty.gov. \nLearn more about SALT 3
URL:https://dmh.lacounty.gov/event/salt-3-meeting-may-8-2025/
LOCATION:CA
CATEGORIES:General Events,Online Events,Service Area 3 Event,Service Area Events
END:VEVENT
BEGIN:VEVENT
DTSTART;TZID=America/Los_Angeles:20250509T090000
DTEND;TZID=America/Los_Angeles:20250509T133000
DTSTAMP:20260420T032309
CREATED:20250502T161455Z
LAST-MODIFIED:20250502T161455Z
UID:44867-1746781200-1746797400@dmh.lacounty.gov
SUMMARY:Veteran Hiring Event
DESCRIPTION:
URL:https://dmh.lacounty.gov/event/44867-vet-hiring/
LOCATION:Bob Hope Patriotic Hall\, 1816 South Figueroa Street\, Los Angeles\, CA\, 90015\, United States
CATEGORIES:Veteran Events
END:VEVENT
BEGIN:VEVENT
DTSTART;TZID=America/Los_Angeles:20250509T100000
DTEND;TZID=America/Los_Angeles:20250509T120000
DTSTAMP:20260420T032309
CREATED:20241231T231522Z
LAST-MODIFIED:20250103T234806Z
UID:35836-1746784800-1746792000@dmh.lacounty.gov
SUMMARY:SALT 7 MEETING - MAY 9\, 2025
DESCRIPTION:Meeting Details TBA \nSALT 7 Meeting – Virtually via MS Teams (for in-person location email SALT7@dmh.lacounty.gov) \nVirtual Conference:\nJoin Meeting via MS Teams \nCall In Information:\nEnglish: (323) 776-6996\, access code 350 434 600#\nSpanish: (888) 204-5987\, código de acceso 9488276# \nCART Link:\nhttps://www.streamtext.net/player?event=SALT-7 \nFor more information about this meeting\, please email SALT7@dmh.lacounty.gov\nLearn more about SALT 7
URL:https://dmh.lacounty.gov/event/salt-7-meeting-may-9-2025/
LOCATION:CA
CATEGORIES:General Events,Online Events,Service Area 7 Event,Service Area Events
END:VEVENT
END:VCALENDAR