BEGIN:VCALENDAR
VERSION:2.0
PRODID:-//Department of Mental Health - ECPv6.15.20//NONSGML v1.0//EN
CALSCALE:GREGORIAN
METHOD:PUBLISH
X-WR-CALNAME:Department of Mental Health
X-ORIGINAL-URL:https://dmh.lacounty.gov
X-WR-CALDESC:Events for Department of Mental Health
REFRESH-INTERVAL;VALUE=DURATION:PT1H
X-Robots-Tag:noindex
X-PUBLISHED-TTL:PT1H
BEGIN:VTIMEZONE
TZID:America/Los_Angeles
BEGIN:DAYLIGHT
TZOFFSETFROM:-0800
TZOFFSETTO:-0700
TZNAME:PDT
DTSTART:20250309T100000
END:DAYLIGHT
BEGIN:STANDARD
TZOFFSETFROM:-0700
TZOFFSETTO:-0800
TZNAME:PST
DTSTART:20251102T090000
END:STANDARD
BEGIN:DAYLIGHT
TZOFFSETFROM:-0800
TZOFFSETTO:-0700
TZNAME:PDT
DTSTART:20260308T100000
END:DAYLIGHT
BEGIN:STANDARD
TZOFFSETFROM:-0700
TZOFFSETTO:-0800
TZNAME:PST
DTSTART:20261101T090000
END:STANDARD
BEGIN:DAYLIGHT
TZOFFSETFROM:-0800
TZOFFSETTO:-0700
TZNAME:PDT
DTSTART:20270314T100000
END:DAYLIGHT
BEGIN:STANDARD
TZOFFSETFROM:-0700
TZOFFSETTO:-0800
TZNAME:PST
DTSTART:20271107T090000
END:STANDARD
END:VTIMEZONE
BEGIN:VEVENT
DTSTART;VALUE=DATE:20260501
DTEND;VALUE=DATE:20260601
DTSTAMP:20260425T062732
CREATED:20260403T225155Z
LAST-MODIFIED:20260407T192910Z
UID:62598-1777593600-1780271999@dmh.lacounty.gov
SUMMARY:Take Action for Mental Health L.A. County
DESCRIPTION:LACDMH’s Take Action movement promotes wellness and wellbeing while sharing the vast array of resources and services provided by the nation’s largest behavioral health department.\n‍\nWe’re bringing communities together in wellness by encouraging everyone to pay attention to their own needs and those around them. Drop by one of our Take Action events and learn more about what LACDMH can do for you! \nFor a full list of this year’s events\, visit https://takeactionla.com.
URL:https://dmh.lacounty.gov/event/take-action-2026/
LOCATION:CA
CATEGORIES:General Events
END:VEVENT
BEGIN:VEVENT
DTSTART;TZID=America/Los_Angeles:20260521T100000
DTEND;TZID=America/Los_Angeles:20260521T120000
DTSTAMP:20260425T062732
CREATED:20251231T164159Z
LAST-MODIFIED:20260203T163534Z
UID:56037-1779357600-1779364800@dmh.lacounty.gov
SUMMARY:SALT 6 MEETING - May 21\, 2026
DESCRIPTION:For more information\, please email SALT6@dmh.lacounty.gov. \nLearn more about SALT 6
URL:https://dmh.lacounty.gov/event/salt-6-meeting-may-21-2026/
LOCATION:MLK Behavioral Health Center\, Bldg 18\, Room D\, 12021 Wilmington Ave\, Los Angeles\, CA\, 90059\, United States
CATEGORIES:General Events,Service Area 6 Event,Service Area Events
END:VEVENT
BEGIN:VEVENT
DTSTART;TZID=America/Los_Angeles:20260521T140000
DTEND;TZID=America/Los_Angeles:20260521T160000
DTSTAMP:20260425T062732
CREATED:20260313T211319Z
LAST-MODIFIED:20260313T211319Z
UID:60122-1779372000-1779379200@dmh.lacounty.gov
SUMMARY:Service Area 7 Town Hall Series: Staying Connected & Informed - May 21\, 2026
DESCRIPTION:Service Area 7 cordially invites you to attend the Staying Connected & Informed workshops.  \nJoin virtual meeting via Microsoft Teams \nLínea de traducción al español: 1-888-204-5984-Access Code 9488276# \nFor more information about this meeting\, please email SALT7@dmh.lacounty.gov \nLearn more about SALT 7
URL:https://dmh.lacounty.gov/event/service-area-7-town-hall-series-staying-connected-informed-may-21-2026/
LOCATION:Online
CATEGORIES:General Events,Online Events,Service Area 7 Event,Service Area Events
END:VEVENT
BEGIN:VEVENT
DTSTART;TZID=America/Los_Angeles:20260521T143000
DTEND;TZID=America/Los_Angeles:20260521T160000
DTSTAMP:20260425T062732
CREATED:20260106T214653Z
LAST-MODIFIED:20260106T214653Z
UID:56732-1779373800-1779379200@dmh.lacounty.gov
SUMMARY:Service Area 8 Health Neighborhood (Hawthorne-Lennox) Meeting - May 21\, 2026
DESCRIPTION:Join the Meeting on Microsoft Teams \nFor more information\, email VWilliams@dmh.lacounty.gov or visit the Service Area 8 Health Neighborhoods webpage.
URL:https://dmh.lacounty.gov/event/service-area-8-health-neighborhood-hawthorne-lennox-meeting-may-21-2026/
LOCATION:Online
CATEGORIES:General Events,Online Events,Service Area 8 Event,Service Area Events
END:VEVENT
BEGIN:VEVENT
DTSTART;TZID=America/Los_Angeles:20260521T150000
DTEND;TZID=America/Los_Angeles:20260521T170000
DTSTAMP:20260425T062732
CREATED:20251229T192803Z
LAST-MODIFIED:20251229T192803Z
UID:55902-1779375600-1779382800@dmh.lacounty.gov
SUMMARY:SALT 1 MEETING - May 21\, 2026
DESCRIPTION:Join via the following options: \n\nOnline: on Microsoft Teams Meeting\, or\nCall-in (audio only): 323-776-6996\, English conference ID: 858 484 323#\nSpanish translation: 888-204-5987\, ID: 963 9884#\nClosed Captioning Link\nNote: Please mute your phone. Do not place on hold. Press *6 to unmute to ask questions or comment.\n\nFor more information about this meeting\, please email SALT1@dmh.lacounty.gov or call SALT 1 Liaison Yvette Perez at (661) 506-2913. \nLearn more about SALT 1
URL:https://dmh.lacounty.gov/event/salt-1-meeting-may-21-2026/
LOCATION:CA
CATEGORIES:General Events,Online Events,Service Area 1 Event,Service Area Events
END:VEVENT
BEGIN:VEVENT
DTSTART;TZID=America/Los_Angeles:20260522T130000
DTEND;TZID=America/Los_Angeles:20260522T140000
DTSTAMP:20260425T062732
CREATED:20260105T205314Z
LAST-MODIFIED:20260105T205314Z
UID:56606-1779454800-1779458400@dmh.lacounty.gov
SUMMARY:Service Area 5 Health Neighborhood (Pico-Robertson) Meeting - May 22\, 2026
DESCRIPTION:Join the Meeting on Zoom \nFor more information\, email BNavarro@dmh.lacounty.gov or visit the Service Area 5 Health Neighborhoods webpage.
URL:https://dmh.lacounty.gov/event/service-area-5-health-neighborhood-pico-robertson-meeting-may-22-2026/
LOCATION:Online
CATEGORIES:General Events,Online Events,Service Area 5 Event,Service Area Events
END:VEVENT
BEGIN:VEVENT
DTSTART;TZID=America/Los_Angeles:20260525T140000
DTEND;TZID=America/Los_Angeles:20260525T160000
DTSTAMP:20260425T062732
CREATED:20251231T200759Z
LAST-MODIFIED:20260416T165226Z
UID:56163-1779717600-1779724800@dmh.lacounty.gov
SUMMARY:Asian Pacific Islander (API) UsCC Meeting – May 25\, 2026
DESCRIPTION:Join the API UsCC meeting\nMeeting ID: 227 736 221 164 496\nPasscode: gt3iA9sg\n————————————————–\n\nDial in by phone (English)\n+1 323-776-6996\,\,964405855# United States\, Los Angeles\nFind a local number\n\nPhone conference ID: 964 405 855#\n————————————————–\nDial in by phone (Korean)\n+1 323-776-6996\,\,871723820#United States\, Los Angeles\n\nFind a local number\n\nPhone conference ID: 871 723 820#\n\nFor more information about this meeting\, please email APIUsCC@dmh.lacounty.gov. \nLearn more about LACDMH’s API UsCC
URL:https://dmh.lacounty.gov/event/asian-pacific-islander-api-uscc-meeting-may-25-2026/
LOCATION:CA
CATEGORIES:General Events,Online Events
END:VEVENT
BEGIN:VEVENT
DTSTART;TZID=America/Los_Angeles:20260526T093000
DTEND;TZID=America/Los_Angeles:20260526T113000
DTSTAMP:20260425T062732
CREATED:20260127T172549Z
LAST-MODIFIED:20260313T204401Z
UID:57838-1779787800-1779795000@dmh.lacounty.gov
SUMMARY:Service Area 7 Clergy Roundtable - May 26\, 2026
DESCRIPTION:Join this Meeting In-Person or via Microsoft Teams. \nFor more information\, email SA7ClergyCollab@dmh.lacounty.gov or visit Service Area 7 Clergy Interfaith Collaborative webpage.
URL:https://dmh.lacounty.gov/event/service-area-7-clergy-roundtable-may-26-2026/
LOCATION:St Gertrude the Great Church\, 7025 Garfield Ave\, Bell Gardens\, CA\, 90201\, United States
CATEGORIES:General Events,Service Area 7 Event,Service Area Events
END:VEVENT
BEGIN:VEVENT
DTSTART;TZID=America/Los_Angeles:20260526T130000
DTEND;TZID=America/Los_Angeles:20260526T143000
DTSTAMP:20260425T062732
CREATED:20251231T222040Z
LAST-MODIFIED:20251231T222040Z
UID:56271-1779800400-1779805800@dmh.lacounty.gov
SUMMARY:Service Area 2 Health Neighborhoods Meeting - May 26\, 2026
DESCRIPTION:Join the Meeting on Microsoft Teams \nMeeting ID: 288 433 861 241 28\nPasscode: YJ9JH9Dc \nFor more information\, email RSafaryan@dmh.lacounty.gov / FXie@dmh.lacounty.gov or visit the Service Area 2 Health Neighborhood webpage.
URL:https://dmh.lacounty.gov/event/service-area-2-health-neighborhoods-meeting-may-26-2026/
LOCATION:CA
CATEGORIES:General Events,Online Events,Service Area 2 Event,Service Area Events
END:VEVENT
BEGIN:VEVENT
DTSTART;TZID=America/Los_Angeles:20260526T150000
DTEND;TZID=America/Los_Angeles:20260526T170000
DTSTAMP:20260425T062732
CREATED:20251231T162020Z
LAST-MODIFIED:20260320T193743Z
UID:56015-1779807600-1779814800@dmh.lacounty.gov
SUMMARY:SALT 5 Meeting - May 26\, 2026
DESCRIPTION:Meeting Link:\nSALT 5 Community Meeting | Meeting-Join | Microsoft Teams \nEnglish Dial in by phone\n+1 323-776-6996\,\,184449960#\nPhone conference ID: 184 449 960# \nSpanish Dial in by phone\n+1 323-776-6996\, \,989783082#\nPhone conference ID: 989 783 082# \nFor more information about this meeting\, please email SALT5@dmh.lacounty.gov. \nLearn more about SALT 5
URL:https://dmh.lacounty.gov/event/salt-5-meeting-may-26-2026/
LOCATION:CA
CATEGORIES:General Events,Online Events,Service Area 5 Event,Service Area Events
END:VEVENT
BEGIN:VEVENT
DTSTART;TZID=America/Los_Angeles:20260527T140000
DTEND;TZID=America/Los_Angeles:20260527T160000
DTSTAMP:20260425T062732
CREATED:20251223T235513Z
LAST-MODIFIED:20251223T235513Z
UID:55571-1779890400-1779897600@dmh.lacounty.gov
SUMMARY:Eastern European/Middle Eastern (EE/ME) UsCC Meeting – May 27\, 2026
DESCRIPTION:Click here to join the meeting \nOr call in (audio only)\n323-776-6996\, Conference ID: 171 510 211# \nFor more information about this meeting\, please email EEMEUsCC@dmh.lacounty.gov. \nLearn more about LACDMH’s EE/ME UsCCn more about LACDMH’s EE/ME UsCC
URL:https://dmh.lacounty.gov/event/eastern-european-middle-eastern-ee-me-uscc-meeting-may-27-2026/
LOCATION:CA
CATEGORIES:General Events,Online Events
END:VEVENT
BEGIN:VEVENT
DTSTART;TZID=America/Los_Angeles:20260528T100000
DTEND;TZID=America/Los_Angeles:20260528T120000
DTSTAMP:20260425T062732
CREATED:20260113T162004Z
LAST-MODIFIED:20260113T162004Z
UID:57169-1779962400-1779969600@dmh.lacounty.gov
SUMMARY:Service Area 1 Clergy Roundtable - May 28\, 2026
DESCRIPTION:For more information\, email DLunaMiller@dmh.lacounty.gov or visit the Service Area 1 Clergy Interfaith Collaborative webpage.
URL:https://dmh.lacounty.gov/event/service-area-1-clergy-roundtable-may-28-2026/
LOCATION:Palmdale Mental Health\, 2260 E Palmdale Blvd #J\, Palmdale\, CA\, 93550\, United States
CATEGORIES:General Events,Service Area 1 Event
END:VEVENT
BEGIN:VEVENT
DTSTART;TZID=America/Los_Angeles:20260528T100000
DTEND;TZID=America/Los_Angeles:20260528T120000
DTSTAMP:20260425T062732
CREATED:20260113T163439Z
LAST-MODIFIED:20260113T163654Z
UID:57184-1779962400-1779969600@dmh.lacounty.gov
SUMMARY:Service Area 2 Clergy Roundtable - May 28\, 2026
DESCRIPTION:Join on Microsoft Teams \nCall In at (323) 776-6996\nPhone Conference ID: 547 562 613# \nFor more information\, email CrRojas@dmh.lacounty.gov or visit the Service Area 2 Clergy Interfaith Collaborative webpage.
URL:https://dmh.lacounty.gov/event/service-area-2-clergy-roundtable-may-28-2026/
LOCATION:Online
CATEGORIES:General Events,Online Events,Service Area 2 Event
END:VEVENT
BEGIN:VEVENT
DTSTART;TZID=America/Los_Angeles:20260528T100000
DTEND;TZID=America/Los_Angeles:20260528T140000
DTSTAMP:20260425T062732
CREATED:20260424T215044Z
LAST-MODIFIED:20260424T215106Z
UID:63631-1779962400-1779976800@dmh.lacounty.gov
SUMMARY:Take Action LA Service Area 3 Event @ Pasadena City College - May 28\, 2026
DESCRIPTION:Join us for a community event focused on mental health\, offering resources and wellness activities. \nCome & enjoy: \n\nFree food\, music\, and giveaways\nFree community resources\nMeditation and other wellness activities\n\nNo RSVP Required. Visit this page for more details about this event and takeactionla.com for information about the campaign and all of its events throughout L.A. County\, including the nine LACDMH-hosted events posted below:
URL:https://dmh.lacounty.gov/event/take-action-la-service-area-3-event-may-28-2026/
LOCATION:Pasadena City College\, 1570 E Colorado Blvd.\, Pasadena\, CA\, 91106\, United States
CATEGORIES:General Events,Service Area 3 Event,Service Area Events
END:VEVENT
BEGIN:VEVENT
DTSTART;TZID=America/Los_Angeles:20260528T120000
DTEND;TZID=America/Los_Angeles:20260528T130000
DTSTAMP:20260425T062732
CREATED:20260105T193920Z
LAST-MODIFIED:20260105T193920Z
UID:56583-1779969600-1779973200@dmh.lacounty.gov
SUMMARY:Service Area 5 Health Neighborhood (Palms/Mar Vista) Meeting - May 28\, 2026
DESCRIPTION:Join the Meeting on Microsoft Teams \nMeeting ID: 248 918 478 713\nPasscode: FFJm3c \nFor more information\, email BNavarro@dmh.lacounty.gov or visit the Service Area 5 Health Neighborhoods webpage.
URL:https://dmh.lacounty.gov/event/service-area-5-health-neighborhood-palms-mar-vista-meeting-may-28-2026/
LOCATION:Online
CATEGORIES:General Events,Online Events,Service Area 5 Event,Service Area Events
END:VEVENT
BEGIN:VEVENT
DTSTART;TZID=America/Los_Angeles:20260528T120000
DTEND;TZID=America/Los_Angeles:20260528T140000
DTSTAMP:20260425T062732
CREATED:20260121T175904Z
LAST-MODIFIED:20260121T175906Z
UID:57623-1779969600-1779976800@dmh.lacounty.gov
SUMMARY:BEHAVIORAL HEALTH COMMISSION (BHC) EXECUTIVE COMMITTEE MEETING – May 28\, 2026
DESCRIPTION:EXECUTIVE COMMITTEE MEETING\nAgenda ENGLISH SPANISH \nOptions to participate: \n\nWatch live stream: MS Teams Link \nJoin in person: 510 S Vermont Ave.\, 9th floor (T) Level Conference Room\, Los Angeles 90020; validated parking is available at 523 Shatto Place\, Los Angeles\, CA 90020. \n\n\nLink to download meeting documents \nLive Closed Captioning (CART) Link  \nMembers of the public can address the BHC during the live event by attending in-person (see location above)\, by phone\, by email\, or by regular mail. \nBy Telephone:\nEnglish: 844-291-6362 | Access Code: 9271524\nSpanish: 323-776-6996 | Conference ID: 334948926\nKorean: 323-776-6996 | Conference ID: 760466419\n \nWritten Public Comment: \n\nElectronic Mail (Email): Send your mail to the Commission at mhcommission@dmh.lacounty.gov. Email must be received 3 days prior to the meeting date.\nRegular Mail: Mail to the following address: Attention: Los Angeles County Behavioral Health Commission\, Vermont Corridor Headquarters\, 510 S. Vermont Avenue\, (22-111)\, Los Angeles\, CA 90020. Must be received 3 days prior to meeting date.\n\nFor more information about this meeting\, please send an email to MHCommission@dmh.lacounty.gov
URL:https://dmh.lacounty.gov/event/behavioral-health-commission-bhc-executive-committee-meeting-may-28-2026/
LOCATION:DMH Headquarters -Terrace Level Conference Rooms -BH Commission Meetings\, 510 S Vermont Avenue\, 9th Floor\, (T) Level\, Los Angeles\, CA\, 90020\, United States
CATEGORIES:General Events,Online Events,Provider Central,Service Area Events,Veteran Events
END:VEVENT
BEGIN:VEVENT
DTSTART;TZID=America/Los_Angeles:20260603T140000
DTEND;TZID=America/Los_Angeles:20260603T160000
DTSTAMP:20260425T062732
CREATED:20251202T223008Z
LAST-MODIFIED:20260323T194749Z
UID:53680-1780495200-1780502400@dmh.lacounty.gov
SUMMARY:American Indian/Alaska Native (AI/AN) UsCC Meeting – June 3\, 2026
DESCRIPTION:Join the meeting now \nMeeting ID: 218 592 245 567 91 \n\n\nPasscode: GE2Lo3TA\n\n\n\n\nDial in by phone\n+1 323-776-6996\,\,701316453# United States\, Los Angeles\nFind a local number\n\nPhone conference ID: 701 316 453#\n________________________________________________________________________________________________ \n\nVisit LACDMH’s Access for AI/AN UsCC page for meeting details and to learn more about this UsCC group.\n\n\n\nFor more information about this meeting\, please email AIANUsCC@dmh.lacounty.gov.
URL:https://dmh.lacounty.gov/event/american-indian-alaska-native-ai-an-uscc-meeting-june-3-2026/
LOCATION:CA
CATEGORIES:General Events,Online Events
END:VEVENT
BEGIN:VEVENT
DTSTART;TZID=America/Los_Angeles:20260604T100000
DTEND;TZID=America/Los_Angeles:20260604T120000
DTSTAMP:20260425T062732
CREATED:20251224T001627Z
LAST-MODIFIED:20260320T163043Z
UID:55586-1780567200-1780574400@dmh.lacounty.gov
SUMMARY:Black & African Heritage (BAH) UsCC Meeting – June 4\, 2026
DESCRIPTION:Click here to join the meeting\nMeeting ID: 257 986 099 035 3\nPasscode: Tc2kf9fu \nOr call in (audio only)\n(323) 776-6996\, Conference ID: 463 610 868# \n*6 to mute and unmute\n*5 to raise and lower hand \nFor more information about this meeting\, please email BAHUsCC@dmh.lacounty.gov. \nLearn more about BAH UsCC.
URL:https://dmh.lacounty.gov/event/black-african-heritage-bah-uscc-meeting-june-4-2026/
LOCATION:CA
CATEGORIES:General Events,Online Events
END:VEVENT
BEGIN:VEVENT
DTSTART;TZID=America/Los_Angeles:20260604T100000
DTEND;TZID=America/Los_Angeles:20260604T120000
DTSTAMP:20260425T062732
CREATED:20251229T182744Z
LAST-MODIFIED:20260313T000955Z
UID:55852-1780567200-1780574400@dmh.lacounty.gov
SUMMARY:Faith-Based Advocacy Council Executive Board Meeting - June 4\, 2026
DESCRIPTION:The Faith-Based Advocacy Council meets monthly to discuss and collaborate on efforts to sustain and strengthen LACDMH’s partnership with L.A. County’s diverse faith-based communities to optimize the physical\, emotional\, and spiritual wellbeing of L.A. County residents. \nFor more information about the council or this event\, email CVFierro@dmh.lacounty.gov. \nPlease see below for event details: \nClick here to join the meeting on Microsoft Teams \nEnglish Phone Line: 323-776-6996\, passcode: 998358247# \nSpanish Phone Line: 323-776-6996\, passcode: 483959790# \nKorean Phone Line: 323-776-6996\, passcode: 325977291#
URL:https://dmh.lacounty.gov/event/faith-based-advocacy-council-executive-board-meeting-june-4-2026/
LOCATION:CA
CATEGORIES:General Events,Online Events
END:VEVENT
BEGIN:VEVENT
DTSTART;TZID=America/Los_Angeles:20260604T130000
DTEND;TZID=America/Los_Angeles:20260604T143000
DTSTAMP:20260425T062732
CREATED:20251231T215709Z
LAST-MODIFIED:20251231T215709Z
UID:56250-1780578000-1780583400@dmh.lacounty.gov
SUMMARY:Service Area 1 Health Neighborhood Meeting - June 4\, 2026
DESCRIPTION:Join the Meeting on Microsoft Teams \nMeeting ID: 235 465 750 561\nPasscode: wi8bEN \nFor more information\, email Gabriela Muniz at gmuniz@dmh.lacounty.gov or visit the SA1 Health Neighborhood webpage.
URL:https://dmh.lacounty.gov/event/service-area-1-health-neighborhood-meeting-june-4-2026/
LOCATION:CA
CATEGORIES:General Events,Online Events,Service Area 1 Event
END:VEVENT
BEGIN:VEVENT
DTSTART;TZID=America/Los_Angeles:20260604T140000
DTEND;TZID=America/Los_Angeles:20260604T160000
DTSTAMP:20260425T062732
CREATED:20251223T225528Z
LAST-MODIFIED:20260320T211826Z
UID:55523-1780581600-1780588800@dmh.lacounty.gov
SUMMARY:LGBTQIA2-S UsCC Meeting - June 4\, 2026
DESCRIPTION:Join the meeting via MS Teams\n\nMeeting ID: 292 259 908 397 99\nPasscode: 3zv2EH7d\n\n\n\n\nDial in by phone\n+1 323-776-6996\n\nPhone conference ID: 305 430 527#\n\nFor more information about this meeting\, please email LGBTQIA2SUsCC@dmh.lacounty.gov.\n\n\nLearn more about LACDMH’s LGBTQIA2-S UsCC.
URL:https://dmh.lacounty.gov/event/lgbtqia2-s-uscc-meeting-june-4-2026/
LOCATION:CA
CATEGORIES:General Events,Online Events
END:VEVENT
BEGIN:VEVENT
DTSTART;TZID=America/Los_Angeles:20260604T143000
DTEND;TZID=America/Los_Angeles:20260604T160000
DTSTAMP:20260425T062732
CREATED:20260108T220414Z
LAST-MODIFIED:20260108T220414Z
UID:56860-1780583400-1780588800@dmh.lacounty.gov
SUMMARY:Service Area 8 Health Neighborhood (Inglewood) Meeting - June 4\, 2026
DESCRIPTION:Join the Meeting on Microsoft Teams \nFor more information\, email VWilliams@dmh.lacounty.gov or visit the Service Area 8 Health Neighborhoods webpage.
URL:https://dmh.lacounty.gov/event/service-area-8-health-neighborhood-inglewood-meeting-june-4-2026/
LOCATION:Online
CATEGORIES:General Events,Online Events,Service Area 8 Event
END:VEVENT
BEGIN:VEVENT
DTSTART;TZID=America/Los_Angeles:20260605T100000
DTEND;TZID=America/Los_Angeles:20260605T120000
DTSTAMP:20260425T062732
CREATED:20251231T180253Z
LAST-MODIFIED:20260115T161748Z
UID:56094-1780653600-1780660800@dmh.lacounty.gov
SUMMARY:SALT 8 MEETING - June 5\, 2026
DESCRIPTION:Meeting Details TBA \nSALT 8 Meeting – Virtually via MS Teams (for in-person location email SALT8@dmh.lacounty.gov) \nVirtual Conference:\nJoin Meeting via MS Teams \nCall In Information:\nEnglish: (323) 776-6996\, access code 436 128 380#\nConference ID: 348 673 416# \nSpanish: (323) 776-6996\, ID de conferencia: 515 674 20# \nCART Link:\nhttps://www.streamtext.net/player?event=LACDMH_SALT8\n \nFor more information about this meeting\, please email SALT8@dmh.lacounty.gov\nLearn more about SALT 8
URL:https://dmh.lacounty.gov/event/salt-8-meeting-june-5-2026/
LOCATION:CA
CATEGORIES:General Events,Online Events,Service Area 8 Event,Service Area Events
END:VEVENT
BEGIN:VEVENT
DTSTART;TZID=America/Los_Angeles:20260609T093000
DTEND;TZID=America/Los_Angeles:20260609T123000
DTSTAMP:20260425T062732
CREATED:20260204T001357Z
LAST-MODIFIED:20260204T001357Z
UID:58115-1780997400-1781008200@dmh.lacounty.gov
SUMMARY:BHSA Stakeholders Community Planning Team (CPT) Meeting - Jun. 9\, 2026
DESCRIPTION:Details to be announced closer to meeting date\, if you have questions\, email communitystakeholder@dmh.lacounty.gov
URL:https://dmh.lacounty.gov/event/bhsa-stakeholders-community-planning-team-cpt-meeting-jun-9-2026/
LOCATION:CA
CATEGORIES:General Events,Online Events
END:VEVENT
BEGIN:VEVENT
DTSTART;TZID=America/Los_Angeles:20260609T130000
DTEND;TZID=America/Los_Angeles:20260609T150000
DTSTAMP:20260425T062732
CREATED:20260106T194205Z
LAST-MODIFIED:20260313T202200Z
UID:56678-1781010000-1781017200@dmh.lacounty.gov
SUMMARY:Service Area 7 Health Neighborhood Meeting - June 9\, 2026
DESCRIPTION:Join the Meeting In-Person or via Microsoft Teams \nFor more information\, email SA7HealthNeighborhd@dmh.lacounty.gov or visit the Service Area 7 Health Neighborhood webpage.
URL:https://dmh.lacounty.gov/event/service-area-7-health-neighborhood-meeting-june-9-2026/
LOCATION:Spiritt Family Services\, 8000 Painter Avenue\, Whittier\, CA\, 90601\, United States
CATEGORIES:General Events,Online Events,Service Area 7 Event,Service Area Events
END:VEVENT
BEGIN:VEVENT
DTSTART;TZID=America/Los_Angeles:20260609T140000
DTEND;TZID=America/Los_Angeles:20260609T153000
DTSTAMP:20260425T062732
CREATED:20260106T210507Z
LAST-MODIFIED:20260106T210507Z
UID:56710-1781013600-1781019000@dmh.lacounty.gov
SUMMARY:Service Area 8 Health Neighborhood (Long Beach) Meeting - June 9\, 2026
DESCRIPTION:Join the Meeting on Microsoft Teams \nFor more information\, email VWilliams@dmh.lacounty.gov or visit the Service Area 8 Health Neighborhoods webpage.
URL:https://dmh.lacounty.gov/event/service-area-8-health-neighborhood-long-beach-meeting-june-9-2026/
LOCATION:Online
CATEGORIES:General Events,Online Events,Service Area 8 Event,Service Area Events
END:VEVENT
BEGIN:VEVENT
DTSTART;TZID=America/Los_Angeles:20260610T100000
DTEND;TZID=America/Los_Angeles:20260610T110000
DTSTAMP:20260425T062732
CREATED:20260113T165656Z
LAST-MODIFIED:20260113T165656Z
UID:57205-1781085600-1781089200@dmh.lacounty.gov
SUMMARY:Service Area 3 Clergy Roundtable - June 10\, 2026
DESCRIPTION:Join the Meeting on Microsoft Teams \nFor more information\, email LMFlores@dmh.lacounty.gov or visit the Service Area 3 Clergy Interfaith Collaborative webpage.
URL:https://dmh.lacounty.gov/event/service-area-3-clergy-roundtable-june-10-2026/
LOCATION:Online
CATEGORIES:General Events,Online Events,Service Area 3 Event
END:VEVENT
BEGIN:VEVENT
DTSTART;TZID=America/Los_Angeles:20260610T100000
DTEND;TZID=America/Los_Angeles:20260610T120000
DTSTAMP:20260425T062732
CREATED:20260107T192603Z
LAST-MODIFIED:20260416T170710Z
UID:56799-1781085600-1781092800@dmh.lacounty.gov
SUMMARY:Access for All UsCC Meeting - June 10\, 2026
DESCRIPTION:Join meeting via MS Teams \nMeeting ID: 249 725 997 968 31\nPasscode: w5LB2oH6\nCall In Information:\n \nEnglish: (323) 776-6996\, access code 264 689 712# \nSpanish: (323) 776-6996\, access code 712 244 436# \nCART (Communication Access Real-time Translation) services\, ASL and Spanish language interpretation will be provided. \nClick here for the ADA/Language Request Form \nFor more information about this meeting\, please email Access4AllUsCC@dmh.lacounty.gov. \nLearn more about LACDMH’s Access for All UsCC
URL:https://dmh.lacounty.gov/event/access-for-all-uscc-meeting-june-10-2026/
LOCATION:CA
CATEGORIES:General Events,Online Events
END:VEVENT
BEGIN:VEVENT
DTSTART;TZID=America/Los_Angeles:20260610T130000
DTEND;TZID=America/Los_Angeles:20260610T143000
DTSTAMP:20260425T062732
CREATED:20260127T163822Z
LAST-MODIFIED:20260127T163822Z
UID:57807-1781096400-1781101800@dmh.lacounty.gov
SUMMARY:Service Area 4 Clergy Roundtable - June 10\, 2026
DESCRIPTION:Join the Meeting on Microsoft Teams \nFor more information\, email GMendez@dmh.lacounty.gov.
URL:https://dmh.lacounty.gov/event/service-area-4-clergy-roundtable-june-10-2026/
LOCATION:Online
CATEGORIES:General Events,Online Events,Service Area 4 Event,Service Area Events
END:VEVENT
BEGIN:VEVENT
DTSTART;TZID=America/Los_Angeles:20260610T133000
DTEND;TZID=America/Los_Angeles:20260610T153000
DTSTAMP:20260425T062732
CREATED:20251229T180717Z
LAST-MODIFIED:20260409T163301Z
UID:55824-1781098200-1781105400@dmh.lacounty.gov
SUMMARY:CULTURAL COMPETENCY COMMITTEE MEETING – June 10\, 2026
DESCRIPTION:The Cultural Competency Committee (CCC) serves as an advisory group for the infusion of cultural competency in all of Los Angeles County Department of Mental Health (LACDMH) operations\, and meets monthly to discuss ways to increase LACDMH’s cultural awareness\, sensitivity\, and responsiveness to the needs of diverse cultural populations to foster hope\, wellness\, resilience\, and recovery in our communities. \nHandouts\, including meeting agendas and minutes\, are emailed prior to each meeting. For more information\, contact Guadalupe Aguilar at DMHCC@dmh.lacounty.gov. \nJOIN THE MEETING NOW \n\n\nMeeting ID: 279 033 970 974 5\nPasscode: QW7J9ob6\n \n\nDial in by phone\n(323) 776-6996\, Conference ID: 59003822# \n\n\nFind a local number\nPhone conference ID: 590 038 22# \n\n\n\n\n\n\n\n\nEspañol/Traducción llame a la línea:\n\n\nÚnase a la reunión ahora\nMeeting ID: 245 741 212 154 60\nPasscode: cN3P5e3J \nDial in by phone\n(323) 776-6996\, Conference ID: 10413151# \nCART Link
URL:https://dmh.lacounty.gov/event/cultural-competency-committee-meeting-june-10-2026/
LOCATION:CA
CATEGORIES:General Events,Online Events
END:VEVENT
END:VCALENDAR