BEGIN:VCALENDAR
VERSION:2.0
PRODID:-//Department of Mental Health - ECPv6.15.20//NONSGML v1.0//EN
CALSCALE:GREGORIAN
METHOD:PUBLISH
X-WR-CALNAME:Department of Mental Health
X-ORIGINAL-URL:https://dmh.lacounty.gov
X-WR-CALDESC:Events for Department of Mental Health
REFRESH-INTERVAL;VALUE=DURATION:PT1H
X-Robots-Tag:noindex
X-PUBLISHED-TTL:PT1H
BEGIN:VTIMEZONE
TZID:America/Los_Angeles
BEGIN:DAYLIGHT
TZOFFSETFROM:-0800
TZOFFSETTO:-0700
TZNAME:PDT
DTSTART:20250309T100000
END:DAYLIGHT
BEGIN:STANDARD
TZOFFSETFROM:-0700
TZOFFSETTO:-0800
TZNAME:PST
DTSTART:20251102T090000
END:STANDARD
BEGIN:DAYLIGHT
TZOFFSETFROM:-0800
TZOFFSETTO:-0700
TZNAME:PDT
DTSTART:20260308T100000
END:DAYLIGHT
BEGIN:STANDARD
TZOFFSETFROM:-0700
TZOFFSETTO:-0800
TZNAME:PST
DTSTART:20261101T090000
END:STANDARD
BEGIN:DAYLIGHT
TZOFFSETFROM:-0800
TZOFFSETTO:-0700
TZNAME:PDT
DTSTART:20270314T100000
END:DAYLIGHT
BEGIN:STANDARD
TZOFFSETFROM:-0700
TZOFFSETTO:-0800
TZNAME:PST
DTSTART:20271107T090000
END:STANDARD
END:VTIMEZONE
BEGIN:VEVENT
DTSTART;TZID=America/Los_Angeles:20260618T140000
DTEND;TZID=America/Los_Angeles:20260618T160000
DTSTAMP:20260421T160216
CREATED:20260313T211450Z
LAST-MODIFIED:20260313T211515Z
UID:60127-1781791200-1781798400@dmh.lacounty.gov
SUMMARY:Service Area 7 Town Hall Series: Staying Connected & Informed - June 18\, 2026
DESCRIPTION:Service Area 7 cordially invites you to attend the Staying Connected & Informed workshops. \nJoin virtual meeting via Microsoft Teams \nLínea de traducción al español: 1-888-204-5984-Access Code 9488276# \nFor more information about this meeting\, please email SALT7@dmh.lacounty.gov \nLearn more about SALT 7
URL:https://dmh.lacounty.gov/event/service-area-7-town-hall-series-staying-connected-informed-june-18-2026/
LOCATION:Online
CATEGORIES:General Events,Online Events,Service Area 7 Event,Service Area Events
END:VEVENT
BEGIN:VEVENT
DTSTART;TZID=America/Los_Angeles:20260618T143000
DTEND;TZID=America/Los_Angeles:20260618T160000
DTSTAMP:20260421T160216
CREATED:20260106T214926Z
LAST-MODIFIED:20260106T214926Z
UID:56734-1781793000-1781798400@dmh.lacounty.gov
SUMMARY:Service Area 8 Health Neighborhood (Hawthorne-Lennox) Meeting - June 18\, 2026
DESCRIPTION:Join the Meeting on Microsoft Teams \nFor more information\, email VWilliams@dmh.lacounty.gov or visit the Service Area 8 Health Neighborhoods webpage.
URL:https://dmh.lacounty.gov/event/service-area-8-health-neighborhood-hawthorne-lennox-meeting-june-18-2026/
LOCATION:Online
CATEGORIES:General Events,Online Events,Service Area 8 Event,Service Area Events
END:VEVENT
BEGIN:VEVENT
DTSTART;TZID=America/Los_Angeles:20260618T150000
DTEND;TZID=America/Los_Angeles:20260618T170000
DTSTAMP:20260421T160216
CREATED:20251229T193208Z
LAST-MODIFIED:20251229T193300Z
UID:55904-1781794800-1781802000@dmh.lacounty.gov
SUMMARY:SALT 1 MEETING - June 18\, 2026
DESCRIPTION:Join via the following options: \n\nOnline: on Microsoft Teams Meeting\, or\nCall-in (audio only): 323-776-6996\, English conference ID: 858 484 323#\nSpanish translation: 888-204-5987\, ID: 963 9884#\nClosed Captioning Link\nNote: Please mute your phone. Do not place on hold. Press *6 to unmute to ask questions or comment.\n\nFor more information about this meeting\, please email SALT1@dmh.lacounty.gov or call SALT 1 Liaison Yvette Perez at (661) 506-2913. \nLearn more about SALT 1
URL:https://dmh.lacounty.gov/event/salt-1-meeting-june-18-2026/
CATEGORIES:General Events,Online Events,Service Area 1 Event,Service Area Events
END:VEVENT
BEGIN:VEVENT
DTSTART;TZID=America/Los_Angeles:20260623T093000
DTEND;TZID=America/Los_Angeles:20260623T113000
DTSTAMP:20260421T160216
CREATED:20260127T172752Z
LAST-MODIFIED:20260313T204452Z
UID:57840-1782207000-1782214200@dmh.lacounty.gov
SUMMARY:Service Area 7 Clergy Roundtable - June 23\, 2026
DESCRIPTION:Join this Meeting In-Person or via Microsoft Teams. \nFor more information\, email SA7ClergyCollab@dmh.lacounty.gov or visit Service Area 7 Clergy Interfaith Collaborative webpage.
URL:https://dmh.lacounty.gov/event/service-area-7-clergy-roundtable-june-23-2026/
LOCATION:St Gertrude the Great Church\, 7025 Garfield Ave\, Bell Gardens\, CA\, 90201\, United States
CATEGORIES:General Events,Service Area 7 Event,Service Area Events
END:VEVENT
BEGIN:VEVENT
DTSTART;TZID=America/Los_Angeles:20260623T140000
DTEND;TZID=America/Los_Angeles:20260623T153000
DTSTAMP:20260421T160216
CREATED:20260105T185244Z
LAST-MODIFIED:20260105T185244Z
UID:56567-1782223200-1782228600@dmh.lacounty.gov
SUMMARY:Service Area 4 Health Neighborhood (Boyle Heights) Meeting - June 23\, 2026
DESCRIPTION:Join the Meeting on Microsoft Teams \nMeeting ID: 262 812 020 899 83\nPasscode: qk7Vv7nd \nFor more information\, email GMendez@dmh.lacounty.gov or visit the Service Area 4 Health Neighborhoods webpage.
URL:https://dmh.lacounty.gov/event/service-area-4-health-neighborhood-boyle-heights-meeting-june-23-2026/
LOCATION:Online
CATEGORIES:General Events,Online Events,Service Area 4 Event,Service Area Events
END:VEVENT
BEGIN:VEVENT
DTSTART;TZID=America/Los_Angeles:20260623T150000
DTEND;TZID=America/Los_Angeles:20260623T170000
DTSTAMP:20260421T160216
CREATED:20251231T162220Z
LAST-MODIFIED:20260320T193817Z
UID:56017-1782226800-1782234000@dmh.lacounty.gov
SUMMARY:SALT 5 Meeting - June 23\, 2026
DESCRIPTION:Meeting Link:\nSALT 5 Community Meeting | Meeting-Join | Microsoft Teams \nEnglish Dial in by phone\n+1 323-776-6996\,\,184449960#\nPhone conference ID: 184 449 960# \nSpanish Dial in by phone\n+1 323-776-6996\, \,989783082#\nPhone conference ID: 989 783 082# \nFor more information about this meeting\, please email SALT5@dmh.lacounty.gov. \nLearn more about SALT 5
URL:https://dmh.lacounty.gov/event/salt-5-meeting-june-23-2026/
CATEGORIES:General Events,Online Events,Service Area 5 Event,Service Area Events
END:VEVENT
BEGIN:VEVENT
DTSTART;TZID=America/Los_Angeles:20260625T100000
DTEND;TZID=America/Los_Angeles:20260625T120000
DTSTAMP:20260421T160216
CREATED:20260113T162109Z
LAST-MODIFIED:20260113T162109Z
UID:57171-1782381600-1782388800@dmh.lacounty.gov
SUMMARY:Service Area 1 Clergy Roundtable - June 25\, 2026
DESCRIPTION:For more information\, email DLunaMiller@dmh.lacounty.gov or visit the Service Area 1 Clergy Interfaith Collaborative webpage.
URL:https://dmh.lacounty.gov/event/service-area-1-clergy-roundtable-june-25-2026/
LOCATION:Palmdale Mental Health\, 2260 E Palmdale Blvd #J\, Palmdale\, CA\, 93550\, United States
CATEGORIES:General Events,Service Area 1 Event
END:VEVENT
BEGIN:VEVENT
DTSTART;TZID=America/Los_Angeles:20260625T100000
DTEND;TZID=America/Los_Angeles:20260625T120000
DTSTAMP:20260421T160216
CREATED:20260113T163630Z
LAST-MODIFIED:20260113T163707Z
UID:57186-1782381600-1782388800@dmh.lacounty.gov
SUMMARY:Service Area 2 Clergy Roundtable - June 25\, 2026
DESCRIPTION:Join on Microsoft Teams \nCall In at (323) 776-6996\nPhone Conference ID: 547 562 613# \nFor more information\, email CrRojas@dmh.lacounty.gov or visit the Service Area 2 Clergy Interfaith Collaborative webpage.
URL:https://dmh.lacounty.gov/event/service-area-2-clergy-roundtable-june-25-2026/
LOCATION:Online
CATEGORIES:General Events,Online Events,Service Area 2 Event
END:VEVENT
BEGIN:VEVENT
DTSTART;TZID=America/Los_Angeles:20260625T110000
DTEND;TZID=America/Los_Angeles:20260625T140000
DTSTAMP:20260421T160216
CREATED:20260121T180026Z
LAST-MODIFIED:20260121T180027Z
UID:57625-1782385200-1782396000@dmh.lacounty.gov
SUMMARY:BEHAVIORAL HEALTH COMMISSION (BHC) EXECUTIVE COMMITTEE MEETING – June 25\, 2026
DESCRIPTION:EXECUTIVE COMMITTEE MEETING\nAgenda ENGLISH SPANISH \nOptions to participate: \n\nWatch live stream: MS Teams Link \nJoin in person: 510 S Vermont Ave.\, 9th floor (T) Level Conference Room\, Los Angeles 90020; validated parking is available at 523 Shatto Place\, Los Angeles\, CA 90020. \n\n\nLink to download meeting documents \nLive Closed Captioning (CART) Link  \nMembers of the public can address the BHC during the live event by attending in-person (see location above)\, by phone\, by email\, or by regular mail. \nBy Telephone:\nEnglish: 844-291-6362 | Access Code: 9271524\nSpanish: 323-776-6996 | Conference ID: 334948926\nKorean: 323-776-6996 | Conference ID: 760466419\n \nWritten Public Comment: \n\nElectronic Mail (Email): Send your mail to the Commission at mhcommission@dmh.lacounty.gov. Email must be received 3 days prior to the meeting date.\nRegular Mail: Mail to the following address: Attention: Los Angeles County Behavioral Health Commission\, Vermont Corridor Headquarters\, 510 S. Vermont Avenue\, (22-111)\, Los Angeles\, CA 90020. Must be received 3 days prior to meeting date.\n\nFor more information about this meeting\, please send an email to MHCommission@dmh.lacounty.gov
URL:https://dmh.lacounty.gov/event/behavioral-health-commission-bhc-executive-committee-meeting-june-25-2026/
LOCATION:DMH Headquarters -Terrace Level Conference Rooms -BH Commission Meetings\, 510 S Vermont Avenue\, 9th Floor\, (T) Level\, Los Angeles\, CA\, 90020\, United States
CATEGORIES:General Events,Online Events,Provider Central,Service Area Events,Veteran Events
END:VEVENT
BEGIN:VEVENT
DTSTART;TZID=America/Los_Angeles:20260625T120000
DTEND;TZID=America/Los_Angeles:20260625T130000
DTSTAMP:20260421T160216
CREATED:20260105T200817Z
LAST-MODIFIED:20260105T200846Z
UID:56587-1782388800-1782392400@dmh.lacounty.gov
SUMMARY:Service Area 5 Health Neighborhood (Palms/Mar Vista) Meeting - June 25\, 2026
DESCRIPTION:Join the Meeting on Microsoft Teams \nMeeting ID: 248 918 478 713\nPasscode: FFJm3c \nFor more information\, email BNavarro@dmh.lacounty.gov or visit the Service Area 5 Health Neighborhoods webpage.
URL:https://dmh.lacounty.gov/event/service-area-5-health-neighborhood-palms-mar-vista-meeting-june-25-2026/
LOCATION:Online
CATEGORIES:General Events,Online Events,Service Area 5 Event,Service Area Events
END:VEVENT
BEGIN:VEVENT
DTSTART;TZID=America/Los_Angeles:20260625T140000
DTEND;TZID=America/Los_Angeles:20260625T153000
DTSTAMP:20260421T160216
CREATED:20251231T232958Z
LAST-MODIFIED:20251231T232958Z
UID:56316-1782396000-1782401400@dmh.lacounty.gov
SUMMARY:Service Area 4 Health Neighborhood (Hollywood) Meeting - June 25\, 2026
DESCRIPTION:Join the Meeting on Microsoft Teams \nMeeting ID: 280 042 971 031\nPasscode: 7sp22Gq3 \nFor more information\, email GMendez@dmh.lacounty.gov or visit the Service Area 4 Health Neighborhoods webpage.
URL:https://dmh.lacounty.gov/event/service-area-4-health-neighborhood-hollywood-meeting-june-25-2026/
CATEGORIES:General Events,Online Events,Service Area 4 Event,Service Area Events
END:VEVENT
BEGIN:VEVENT
DTSTART;TZID=America/Los_Angeles:20260626T130000
DTEND;TZID=America/Los_Angeles:20260626T140000
DTSTAMP:20260421T160216
CREATED:20260105T205600Z
LAST-MODIFIED:20260105T205803Z
UID:56608-1782478800-1782482400@dmh.lacounty.gov
SUMMARY:Service Area 5 Health Neighborhood (Pico-Robertson) Meeting - June 26\, 2026
DESCRIPTION:Join the Meeting on Zoom \nFor more information\, email BNavarro@dmh.lacounty.gov or visit the Service Area 5 Health Neighborhoods webpage.
URL:https://dmh.lacounty.gov/event/service-area-5-health-neighborhood-pico-robertson-meeting-june-26-2026/
LOCATION:Online
CATEGORIES:General Events,Online Events,Service Area 5 Event,Service Area Events
END:VEVENT
BEGIN:VEVENT
DTSTART;TZID=America/Los_Angeles:20260630T130000
DTEND;TZID=America/Los_Angeles:20260630T143000
DTSTAMP:20260421T160216
CREATED:20251231T222203Z
LAST-MODIFIED:20251231T222203Z
UID:56273-1782824400-1782829800@dmh.lacounty.gov
SUMMARY:Service Area 2 Health Neighborhoods Meeting - June 30\, 2026
DESCRIPTION:Join the Meeting on Microsoft Teams \nMeeting ID: 288 433 861 241 28\nPasscode: YJ9JH9Dc \nFor more information\, email RSafaryan@dmh.lacounty.gov / FXie@dmh.lacounty.gov or visit the Service Area 2 Health Neighborhood webpage.
URL:https://dmh.lacounty.gov/event/service-area-2-health-neighborhoods-meeting-june-30-2026/
CATEGORIES:General Events,Online Events,Service Area 2 Event,Service Area Events
END:VEVENT
BEGIN:VEVENT
DTSTART;TZID=America/Los_Angeles:20260702T143000
DTEND;TZID=America/Los_Angeles:20260707T160000
DTSTAMP:20260421T160216
CREATED:20260108T220753Z
LAST-MODIFIED:20260108T220753Z
UID:56862-1783002600-1783440000@dmh.lacounty.gov
SUMMARY:Service Area 8 Health Neighborhood (Inglewood) Meeting - July 2\, 2026
DESCRIPTION:Join the Meeting on Microsoft Teams \nFor more information\, email VWilliams@dmh.lacounty.gov or visit the Service Area 8 Health Neighborhoods webpage.
URL:https://dmh.lacounty.gov/event/service-area-8-health-neighborhood-inglewood-meeting-july-2-2026/
LOCATION:Online
CATEGORIES:General Events,Online Events,Service Area 8 Event
END:VEVENT
BEGIN:VEVENT
DTSTART;TZID=America/Los_Angeles:20260708T100000
DTEND;TZID=America/Los_Angeles:20260708T110000
DTSTAMP:20260421T160216
CREATED:20260113T165821Z
LAST-MODIFIED:20260113T165821Z
UID:57207-1783504800-1783508400@dmh.lacounty.gov
SUMMARY:Service Area 3 Clergy Roundtable - July 8\, 2026
DESCRIPTION:Join the Meeting on Microsoft Teams \nFor more information\, email LMFlores@dmh.lacounty.gov or visit the Service Area 3 Clergy Interfaith Collaborative webpage.
URL:https://dmh.lacounty.gov/event/service-area-3-clergy-roundtable-july-8-2026/
LOCATION:Online
CATEGORIES:General Events,Online Events,Service Area 3 Event
END:VEVENT
BEGIN:VEVENT
DTSTART;TZID=America/Los_Angeles:20260708T130000
DTEND;TZID=America/Los_Angeles:20260708T143000
DTSTAMP:20260421T160216
CREATED:20260127T163956Z
LAST-MODIFIED:20260127T163956Z
UID:57809-1783515600-1783521000@dmh.lacounty.gov
SUMMARY:Service Area 4 Clergy Roundtable - July 8\, 2026
DESCRIPTION:Join the Meeting on Microsoft Teams \nFor more information\, email GMendez@dmh.lacounty.gov.
URL:https://dmh.lacounty.gov/event/service-area-4-clergy-roundtable-july-8-2026/
LOCATION:Online
CATEGORIES:General Events,Online Events,Service Area 4 Event,Service Area Events
END:VEVENT
BEGIN:VEVENT
DTSTART;TZID=America/Los_Angeles:20260709T093000
DTEND;TZID=America/Los_Angeles:20260709T110000
DTSTAMP:20260421T160216
CREATED:20260127T170040Z
LAST-MODIFIED:20260127T170040Z
UID:57824-1783589400-1783594800@dmh.lacounty.gov
SUMMARY:Service Area 5 Clergy Roundtable - July 9\, 2026
DESCRIPTION:Join the Meeting on Microsoft Teams \nMeeting ID: 210 053 398 351 7\nPasscode: GU37Df2k \nFor more information\, email BNavarro@dmh.lacounty.gov or visit Service Area 5 Clergy Interfaith Collaborative webpage.
URL:https://dmh.lacounty.gov/event/service-area-5-clergy-roundtable-july-9-2026/
LOCATION:Online
CATEGORIES:General Events,Online Events,Service Area 5 Event,Service Area Events
END:VEVENT
BEGIN:VEVENT
DTSTART;TZID=America/Los_Angeles:20260709T110000
DTEND;TZID=America/Los_Angeles:20260709T123000
DTSTAMP:20260421T160216
CREATED:20260105T224146Z
LAST-MODIFIED:20260105T224146Z
UID:56629-1783594800-1783600200@dmh.lacounty.gov
SUMMARY:Service Area 6 Health Neighborhood Meeting - July 9\, 2026
DESCRIPTION:This series alternates between virtual (Jan/Mar/May/Jul/Sep/Nov) and in-person (Feb/Apr/Jun/Aug/Oct/Dec) meetings. \nFor more information\, email KThompson@dmh.lacounty.gov or visit the Service Area 6 Health Neighborhood webpage.
URL:https://dmh.lacounty.gov/event/service-area-6-health-neighborhood-meeting-july-9-2026/
CATEGORIES:General Events,Online Events,Service Area 6 Event,Service Area Events
END:VEVENT
BEGIN:VEVENT
DTSTART;TZID=America/Los_Angeles:20260709T110000
DTEND;TZID=America/Los_Angeles:20260709T133000
DTSTAMP:20260421T160216
CREATED:20260121T173820Z
LAST-MODIFIED:20260121T173822Z
UID:57588-1783594800-1783603800@dmh.lacounty.gov
SUMMARY:BEHAVIORAL HEALTH COMMISSION (BHC) – July 09\, 2026
DESCRIPTION:BHC Regular Meeting\nAgenda English Spanish\nWays to participate:\n\nWatch live stream: MS Teams Link \nJoin in-person: 510 S Vermont Ave.\, 9th floor (Level T) Conference Room\, Los Angeles 90020. FREE parking is available at 523 Shatto Place\, Los Angeles\, CA 90020.\n\n\nLink to download meeting documents\nLive Closed Captioning (CART) Link \nMembers of the public can address the BHC during the live event by attending in-person (see location above)\, by phone\, by email\, or by regular mail. \nBy telephone:\nEnglish:         844-291-6362 | Access Code: 4972277\nSpanish:        323-776-6996 | Conference ID: 444855048\nKorean:         323-776-6996 | Conference ID: 228880303 \nBy mail: \n\nElectronic Mail (Email): Email your public comment to mhcommission@dmh.lacounty.gov .  Email must be received 3 days prior to the date of the meeting.\nRegular Mail: Mail your public comment to the following address: 510 S. Vermont Avenue\, Attention: Behavioral Health Commission (22-111)\, Los Angeles\, CA 90020. Mail must be received 3 days prior to the date of the meeting.\n\nFor more information about this meeting\, please email MHCommission@dmh.lacounty.gov
URL:https://dmh.lacounty.gov/event/behavioral-health-commission-bhc-july-09-2026/
LOCATION:DMH Headquarters -Terrace Level Conference Rooms -BH Commission Meetings\, 510 S Vermont Avenue\, 9th Floor\, (T) Level\, Los Angeles\, CA\, 90020\, United States
CATEGORIES:General Events,Online Events,Provider Central,Service Area 1 Event,Service Area 2 Event,Service Area 3 Event,Service Area 4 Event,Service Area 5 Event,Service Area 6 Event,Service Area 7 Event,Service Area 8 Event,Service Area Events,Veteran Events
END:VEVENT
BEGIN:VEVENT
DTSTART;TZID=America/Los_Angeles:20260709T140000
DTEND;TZID=America/Los_Angeles:20260709T160000
DTSTAMP:20260421T160216
CREATED:20251229T203549Z
LAST-MODIFIED:20251229T203549Z
UID:55936-1783605600-1783612800@dmh.lacounty.gov
SUMMARY:SALT 3 MEETING - July 9\, 2026
DESCRIPTION:Meeting Details TBA \nVirtual Conference: Join Meeting via MS Teams \nCall-In Information:\nEnglish: (323) 776-6996\, access code 563 246 482#\nSpanish: (888) 204-5987\, código de acceso 9639884# \nCART Link:\nhttps://www.streamtext.net/player?event=SALT-3 \nFor more information about this meeting\, please email SALT3@dmh.lacounty.gov. \nLearn more about SALT 3
URL:https://dmh.lacounty.gov/event/salt-3-meeting-july-9-2026/
CATEGORIES:General Events,Online Events,Service Area 3 Event,Service Area Events
END:VEVENT
BEGIN:VEVENT
DTSTART;TZID=America/Los_Angeles:20260710T090000
DTEND;TZID=America/Los_Angeles:20260710T100000
DTSTAMP:20260421T160216
CREATED:20260313T194626Z
LAST-MODIFIED:20260313T195929Z
UID:60077-1783674000-1783677600@dmh.lacounty.gov
SUMMARY:Service Area 7 Leadership Team (SALT) / Executive Committee Meeting - July 10\, 2026
DESCRIPTION:Virtual Conference via MS Teams: \nClick here to join the meeting Conference ID: 350 434 600# \nCall In Information:\nEnglish: (323) 776-6996\, Conference ID: 350 434 600# \nSpanish: (888) 204-5984\, Conference ID: 9488276# \nFor more information about this meeting\, please email SALT7@dmh.lacounty.gov \nLearn more about SALT 7
URL:https://dmh.lacounty.gov/event/service-area-7-leadership-team-salt-executive-committee-meeting-july-10-2026/
CATEGORIES:General Events,Online Events,Service Area 7 Event,Service Area Events
END:VEVENT
BEGIN:VEVENT
DTSTART;TZID=America/Los_Angeles:20260710T100000
DTEND;TZID=America/Los_Angeles:20260710T120000
DTSTAMP:20260421T160216
CREATED:20251231T174058Z
LAST-MODIFIED:20260313T183802Z
UID:56069-1783677600-1783684800@dmh.lacounty.gov
SUMMARY:SALT 7 MEETING - July 10\, 2026
DESCRIPTION:SALT 7 Meeting – Virtually via MS Teams (for in-person location email SALT7@dmh.lacounty.gov) \nVirtual Conference:\nJoin Meeting via MS Teams \nCall In Information:\nEnglish: (323) 776-6996\, access code 350 434 600#\nSpanish: (888) 204-5987\, código de acceso 9488276# \nCART Link:\nhttps://www.streamtext.net/player?event=SALT-7 \nFor more information about this meeting\, please email SALT7@dmh.lacounty.gov \nLearn more about SALT 7
URL:https://dmh.lacounty.gov/event/salt-7-meeting-july-10-2026/
CATEGORIES:General Events,Online Events,Service Area 7 Event,Service Area Events
END:VEVENT
BEGIN:VEVENT
DTSTART;TZID=America/Los_Angeles:20260714T130000
DTEND;TZID=America/Los_Angeles:20260714T150000
DTSTAMP:20260421T160216
CREATED:20260106T194345Z
LAST-MODIFIED:20260313T202332Z
UID:56680-1784034000-1784041200@dmh.lacounty.gov
SUMMARY:Service Area 7 Health Neighborhood Meeting - July 14\, 2026
DESCRIPTION:Join the Meeting In-Person or via Microsoft Teams \nFor more information\, email SA7HealthNeighborhd@dmh.lacounty.gov or visit the Service Area 7 Health Neighborhood webpage.
URL:https://dmh.lacounty.gov/event/service-area-7-health-neighborhood-meeting-july-14-2026/
CATEGORIES:General Events,Online Events,Service Area 7 Event,Service Area Events
END:VEVENT
BEGIN:VEVENT
DTSTART;TZID=America/Los_Angeles:20260714T140000
DTEND;TZID=America/Los_Angeles:20260714T153000
DTSTAMP:20260421T160216
CREATED:20260106T210640Z
LAST-MODIFIED:20260106T210640Z
UID:56712-1784037600-1784043000@dmh.lacounty.gov
SUMMARY:Service Area 8 Health Neighborhood (Long Beach) Meeting - July 14\, 2026
DESCRIPTION:Join the Meeting on Microsoft Teams \nFor more information\, email VWilliams@dmh.lacounty.gov or visit the Service Area 8 Health Neighborhoods webpage.
URL:https://dmh.lacounty.gov/event/service-area-8-health-neighborhood-long-beach-meeting-july-14-2026/
LOCATION:Online
CATEGORIES:General Events,Online Events,Service Area 8 Event,Service Area Events
END:VEVENT
BEGIN:VEVENT
DTSTART;TZID=America/Los_Angeles:20260715T130000
DTEND;TZID=America/Los_Angeles:20260715T143000
DTSTAMP:20260421T160216
CREATED:20251231T224113Z
LAST-MODIFIED:20251231T224113Z
UID:56295-1784120400-1784125800@dmh.lacounty.gov
SUMMARY:Service Area 3 Health Neighborhood Meeting - July 15\, 2026
DESCRIPTION:Join the Meeting on Microsoft Teams \nFor more information\, email LMFlores@dmh.lacounty.gov or visit the Service Area 3 Health Neighborhood webpage.
URL:https://dmh.lacounty.gov/event/service-area-3-health-neighborhood-meeting-july-15-2026/
CATEGORIES:General Events,Online Events,Service Area 3 Event,Service Area Events
END:VEVENT
BEGIN:VEVENT
DTSTART;TZID=America/Los_Angeles:20260715T130000
DTEND;TZID=America/Los_Angeles:20260715T150000
DTSTAMP:20260421T160216
CREATED:20260318T211856Z
LAST-MODIFIED:20260318T211856Z
UID:60712-1784120400-1784127600@dmh.lacounty.gov
SUMMARY:SALT 2 MEETING - July 15\, 2026
DESCRIPTION:Join Service Area 2 and the Los Angeles County Department of Mental Health for the Service Area Leadership Team 2 (SALT 2) meeting via Microsoft Teams. Our co-chair and the SALT 2 Team are committed to bringing together community members and local providers to foster collaboration and share vital mental health information\, resources\, and educational opportunities. \nMS Teams (English): Click here to join the meeting \nEnglish Call-In #\n323-776-6996\nConference ID\n168 091 931# \nÚnase al Area de Servicio 2 y al Departamento de Salud Mental del Condado de Los Ángeles para la reunión del Equipo de Liderazgo del Area de Servicio 2 (SALT2) a través de Microsoft Teams. Nuestra Co Presidenta y el equipo de SALT2 están comprometidos a reunir a los miembros de la comunidad y a los proveedores locales para fomentar la colaboración y compartir recursos y oportunidades educativas vitales en materia de salud mental. \nMS Teams (Spanish): Click here to join the meeting \nSpanish Call-In #\n323-776-6996\nConference ID\n114 180 313# \nFor more information about this meeting\, please email SALT2@dmh.lacounty.gov. \nLearn more about SALT 2
URL:https://dmh.lacounty.gov/event/salt-2-meeting-july-15-2026/
LOCATION:Online
CATEGORIES:General Events,Online Events,Service Area 2 Event,Service Area Events
END:VEVENT
BEGIN:VEVENT
DTSTART;TZID=America/Los_Angeles:20260716T100000
DTEND;TZID=America/Los_Angeles:20260716T120000
DTSTAMP:20260421T160216
CREATED:20251231T164704Z
LAST-MODIFIED:20251231T164704Z
UID:56041-1784196000-1784203200@dmh.lacounty.gov
SUMMARY:SALT 6 MEETING - July 16\, 2026
DESCRIPTION:For more information\, please email SALT6@dmh.lacounty.gov. \nLearn more about SALT 6
URL:https://dmh.lacounty.gov/event/salt-6-meeting-july-16-2026/
LOCATION:West Central Mental Health Center\, 3609 S. 10th Ave.\, 1st Floor\, Los Angeles\, 90018\, United States
CATEGORIES:General Events,Service Area 6 Event,Service Area Events
END:VEVENT
BEGIN:VEVENT
DTSTART;TZID=America/Los_Angeles:20260716T133000
DTEND;TZID=America/Los_Angeles:20260716T153000
DTSTAMP:20260421T160216
CREATED:20251229T214618Z
LAST-MODIFIED:20251229T214618Z
UID:55967-1784208600-1784215800@dmh.lacounty.gov
SUMMARY:SALT 4 MEETING - July 16\, 2026
DESCRIPTION:Meeting Details TBA \nVirtual Conference: Join Meeting via MS Teams \nCall-In Information:\nEnglish: (323) 776-6996\, access code 356 331 283# \nFor more information about this meeting\, please email gmendez@dmh.lacounty.gov\n. \nLearn more about SALT 4
URL:https://dmh.lacounty.gov/event/salt-4-meeting-july-16-2026/
LOCATION:Los Angeles First Korean Presbyterian Church\, 213 S. Hobart Blvd.\, Los Angeles\, CA\, 90004\, United States
CATEGORIES:General Events,Service Area 4 Event,Service Area Events
END:VEVENT
BEGIN:VEVENT
DTSTART;TZID=America/Los_Angeles:20260716T140000
DTEND;TZID=America/Los_Angeles:20260716T160000
DTSTAMP:20260421T160216
CREATED:20260313T211620Z
LAST-MODIFIED:20260313T211620Z
UID:60130-1784210400-1784217600@dmh.lacounty.gov
SUMMARY:Service Area 7 Town Hall Series: Staying Connected & Informed - July 16\, 2026
DESCRIPTION:Service Area 7 cordially invites you to attend the Staying Connected & Informed workshops. \nJoin virtual meeting via Microsoft Teams \nLínea de traducción al español: 1-888-204-5984-Access Code 9488276# \nFor more information about this meeting\, please email SALT7@dmh.lacounty.gov \nLearn more about SALT 7
URL:https://dmh.lacounty.gov/event/service-area-7-town-hall-series-staying-connected-informed-july-16-2026/
LOCATION:Online
CATEGORIES:General Events,Online Events,Service Area 7 Event,Service Area Events
END:VEVENT
BEGIN:VEVENT
DTSTART;TZID=America/Los_Angeles:20260716T143000
DTEND;TZID=America/Los_Angeles:20260716T160000
DTSTAMP:20260421T160216
CREATED:20260106T215213Z
LAST-MODIFIED:20260106T215247Z
UID:56737-1784212200-1784217600@dmh.lacounty.gov
SUMMARY:Service Area 8 Health Neighborhood (Hawthorne-Lennox) Meeting - July 16\, 2026
DESCRIPTION:Join the Meeting on Microsoft Teams \nFor more information\, email VWilliams@dmh.lacounty.gov or visit the Service Area 8 Health Neighborhoods webpage.
URL:https://dmh.lacounty.gov/event/service-area-8-health-neighborhood-hawthorne-lennox-meeting-july-16-2026/
LOCATION:Online
CATEGORIES:General Events,Online Events,Service Area 8 Event,Service Area Events
END:VEVENT
END:VCALENDAR