BEGIN:VCALENDAR
VERSION:2.0
PRODID:-//Department of Mental Health - ECPv6.15.20//NONSGML v1.0//EN
CALSCALE:GREGORIAN
METHOD:PUBLISH
X-WR-CALNAME:Department of Mental Health
X-ORIGINAL-URL:https://dmh.lacounty.gov
X-WR-CALDESC:Events for Department of Mental Health
REFRESH-INTERVAL;VALUE=DURATION:PT1H
X-Robots-Tag:noindex
X-PUBLISHED-TTL:PT1H
BEGIN:VTIMEZONE
TZID:America/Los_Angeles
BEGIN:DAYLIGHT
TZOFFSETFROM:-0800
TZOFFSETTO:-0700
TZNAME:PDT
DTSTART:20240310T100000
END:DAYLIGHT
BEGIN:STANDARD
TZOFFSETFROM:-0700
TZOFFSETTO:-0800
TZNAME:PST
DTSTART:20241103T090000
END:STANDARD
BEGIN:DAYLIGHT
TZOFFSETFROM:-0800
TZOFFSETTO:-0700
TZNAME:PDT
DTSTART:20250309T100000
END:DAYLIGHT
BEGIN:STANDARD
TZOFFSETFROM:-0700
TZOFFSETTO:-0800
TZNAME:PST
DTSTART:20251102T090000
END:STANDARD
BEGIN:DAYLIGHT
TZOFFSETFROM:-0800
TZOFFSETTO:-0700
TZNAME:PDT
DTSTART:20260308T100000
END:DAYLIGHT
BEGIN:STANDARD
TZOFFSETFROM:-0700
TZOFFSETTO:-0800
TZNAME:PST
DTSTART:20261101T090000
END:STANDARD
END:VTIMEZONE
BEGIN:VEVENT
DTSTART;TZID=America/Los_Angeles:20250328T093000
DTEND;TZID=America/Los_Angeles:20250328T123000
DTSTAMP:20260423T162051
CREATED:20241226T210353Z
LAST-MODIFIED:20250320T230622Z
UID:35406-1743154200-1743165000@dmh.lacounty.gov
SUMMARY:BHSA Community Planning Team Stakeholder (Virtual) Meeting – 3/28/2025
DESCRIPTION:FRIENDLY REMINDER: BHSA Community Planning Team – Community Program Planning Launch on Friday\, March 28th from 9:30 AM to 12:30 PM \n(Mensaje en español después del mensaje en inglés) \nDEAR BHSA CPT MEMBERS & STAKEHOLDERS\, \nWe are excited to launch the Behavioral Health Services Act Community Program Planning (BHSA CPP) on Friday\, March 28\, 2025\, from 9:30a – 12:30p. Please use the following link to access the online meeting: \nJoin the meeting now\nMeeting ID: 221 101 411 058 | Passcode: Cq94iB3k\nOr dial in by phone +1 323-776-6996\,\,255407060#\nPhone conference ID: 255 407 060# \nThe session will begin with some welcoming remarks from Dr. Lisa H. Wong\, Psy.D.\, Director\, Los Angeles County Department of Mental Health\, followed by Dr. Gary Tsai\, MD\, Director\, Substance Abuse Prevention and Control Bureau (SAPC)\, Los Angeles County Department of Public Health. \nWe will then spend time reviewing BHSA-related content that we drew from the Department of Health Care Services’ Behavioral Health Services Act County Policy Manual\, published in February 2025. This is an important reference document that we will use to guide the BHSA CPP. You can access the manual here: \nhttps://www.dhcs.ca.gov/BHT/Documents/Behavioral-Health-Services-Act-County-Policy-Manual.pdf \nThe last part of the meeting will focus on the process frameworks pertaining to Stakeholder Groups and Members\, Engagement Agreements\, BHSA CPP Roadmap\, and BHSA Member Information Form.  Press this link to gain access to these materials (and for prior sessions): \nMHSA Announcements – Department of Mental Health (lacounty.gov) \n\nMeeting Agenda & Materials (English)\nMeeting Agenda & Materials (Spanish)\nMeeting Agenda & Materials (Korean)\n\nImportantly\, those who have attended the MHSA/BHSA CPT meetings since January will find much of this information repetitive. \nWe are repeating much of this information because we will have new BHSA CPT members join us for the first time at this meeting and the recording will be used to orient BHSA CPT members who were not able to attend the session. \nHowever\, the upcoming BHSA sessions on April 8th and 25th will bring new information to deepen everyone’s understanding of the mental health services and substance use services continuums. \nLastly\, the calendar for the CPT meetings in 2025 is available below my signature. Please add these dates to your calendar.  If you have any questions about this message\, feel free to contact us at: communitystakeholder@dmh.lacounty.gov \nSincerely \nDARLESH HORN\,Division Chief\nMHSA Division of Administration\nLos Angeles County Department of Mental Health \n\nRECORDATORIO AMISTOSO: Equipo de Planificación Comunitaria de BHSA – Lanzamiento de la Planificación de Programas el viernes 28 de marzo de 9:30 a.m. a 12:30 p.m. \nESTIMADOS MIEMBROS Y PARTES INTERESADAS DE BHSA CPT\, \nNos complace lanzar la Planificación Comunitaris de Programas de la Ley de Servicios de Salud Conductual (BHSA CPP\, siglas en inglés) el viernes 28 de marzo de 2025\, de 9:30a a 12:30p. Utilice el siguiente enlace para acceder a la reunión en línea: \nÚnase a la reunión ahora\nID de reunión: 221 101 411 058 | Código de acceso: Cq94iB3k\nO llame por teléfono +1 323-776-6996\,\,255407060#\nID de conferencia telefónica: 255 407 060# \nLa sesión comenzará con algunas palabras de bienvenida de la Dra. Lisa H. Wong\, Psy.D.\, Directora del Departamento de Salud Mental del Condado de Los Ángeles\, seguida por el Dr. Gary Tsai\, MD\, Director de la Oficina de Prevención y Control del Abuso de Sustancias (SAPC) del Departamento de Salud Pública del Condado de Los Ángeles. \nLuego dedicaremos tiempo a revisar el contenido relacionado con BHSA que extrajimos del Manual de Políticas del Condado de la Ley de Servicios de Salud Conductual del Departamento de Servicios de Atención Médica del estado de California\, publicado en febrero de 2025. Este es un documento de referencia importante que utilizaremos para guiar el BHSA CPP. Puedes acceder al manual aquí: \nhttps://www.dhcs.ca.gov/BHT/Documents/Behavioral-Health-Services-Act-County-Policy-Manual.pdf \nLa última parte de la reunión se centrará en los marcos de procesos relacionados con los Grupos de Partes Interesadas y Miembros\, los Acuerdos de Participación\, el Mapa de Planificacion y el Formulario de Información de Miembros.  Presione este enlace para obtener acceso a estos materiales (y para sesiones anteriores): \nAnuncios de MHSA – Departamento de Salud Mental (lacounty.gov) \n\nMeeting Agenda & Materials (English)\nMeeting Agenda & Materials (Spanish)\nMeeting Agenda & Materials (Korean)\n\nEs importante destacar que aquellos que han asistido a las reuniones de MHSA/BHSA CPT desde enero encontrarán que gran parte de esta información es repetitiva. \nEstamos repitiendo gran parte de esta información porque tendremos nuevos miembros de BHSA CPT que se unirán a nosotros por primera vez en esta reunión y la grabación se utilizará para orientar a los miembros de BHSA CPT que no pudieron asistir a la sesión. \nSin embargo\, las próximas sesiones de BHSA del 8 y 25 de abril traerá nueva información para profundizar la comprensión sobre los servicios de salud mental y los servicios de uso de sustancias. \nPor último\, el calendario de las reuniones de la CPT en 2025 está disponible debajo de mi firma. Por favor\, añada estas fechas a su calendario.  Si tiene alguna pregunta sobre este mensaje\, no dude en ponerse en contacto con nosotros en: communitystakeholder@dmh.lacounty.gov \nSinceramente \nDARLESH HORN\, Jefe de División\nDivisión de Administración de MHSA\nDepartamento de Salud Mental del Condado de Los Ángeles
URL:https://dmh.lacounty.gov/event/mhsa-community-planning-team-stakeholder-virtual-meeting-3-28-2025-2/
LOCATION:Online
CATEGORIES:General Events,Online Events
END:VEVENT
END:VCALENDAR