BEGIN:VCALENDAR
VERSION:2.0
PRODID:-//Department of Mental Health - ECPv6.15.20//NONSGML v1.0//EN
CALSCALE:GREGORIAN
METHOD:PUBLISH
X-WR-CALNAME:Department of Mental Health
X-ORIGINAL-URL:https://dmh.lacounty.gov
X-WR-CALDESC:Events for Department of Mental Health
REFRESH-INTERVAL;VALUE=DURATION:PT1H
X-Robots-Tag:noindex
X-PUBLISHED-TTL:PT1H
BEGIN:VTIMEZONE
TZID:America/Los_Angeles
BEGIN:DAYLIGHT
TZOFFSETFROM:-0800
TZOFFSETTO:-0700
TZNAME:PDT
DTSTART:20240310T100000
END:DAYLIGHT
BEGIN:STANDARD
TZOFFSETFROM:-0700
TZOFFSETTO:-0800
TZNAME:PST
DTSTART:20241103T090000
END:STANDARD
BEGIN:DAYLIGHT
TZOFFSETFROM:-0800
TZOFFSETTO:-0700
TZNAME:PDT
DTSTART:20250309T100000
END:DAYLIGHT
BEGIN:STANDARD
TZOFFSETFROM:-0700
TZOFFSETTO:-0800
TZNAME:PST
DTSTART:20251102T090000
END:STANDARD
BEGIN:DAYLIGHT
TZOFFSETFROM:-0800
TZOFFSETTO:-0700
TZNAME:PDT
DTSTART:20260308T100000
END:DAYLIGHT
BEGIN:STANDARD
TZOFFSETFROM:-0700
TZOFFSETTO:-0800
TZNAME:PST
DTSTART:20261101T090000
END:STANDARD
END:VTIMEZONE
BEGIN:VEVENT
DTSTART;TZID=America/Los_Angeles:20250117T130000
DTEND;TZID=America/Los_Angeles:20250117T140000
DTSTAMP:20260419T150402
CREATED:20250107T220104Z
LAST-MODIFIED:20250107T220104Z
UID:36338-1737118800-1737122400@dmh.lacounty.gov
SUMMARY:Service Area 5 (Palms/Mar Vista - Intergenerational) Health Neighborhoods Meeting - Jan. 17\, 2025
DESCRIPTION:Click here to Join the Meeting\nMeeting ID: 817 3265 7843\n+16699009128\,\,81732657843# \nPlease email BNavarro@dmh.lacounty.gov for meeting information. \nLearn more about Service Area 5 Health Neighborhoods
URL:https://dmh.lacounty.gov/event/service-area-5-palms-mar-vista-intergenerational-health-neighborhoods-meeting-jan-17-2025/
LOCATION:Online
CATEGORIES:General Events,Online Events,Service Area 5 Event,Service Area Events
END:VEVENT
END:VCALENDAR