BEGIN:VCALENDAR
VERSION:2.0
PRODID:-//Department of Mental Health - ECPv6.15.20//NONSGML v1.0//EN
CALSCALE:GREGORIAN
METHOD:PUBLISH
X-WR-CALNAME:Department of Mental Health
X-ORIGINAL-URL:https://dmh.lacounty.gov
X-WR-CALDESC:Events for Department of Mental Health
REFRESH-INTERVAL;VALUE=DURATION:PT1H
X-Robots-Tag:noindex
X-PUBLISHED-TTL:PT1H
BEGIN:VTIMEZONE
TZID:America/Los_Angeles
BEGIN:DAYLIGHT
TZOFFSETFROM:-0800
TZOFFSETTO:-0700
TZNAME:PDT
DTSTART:20230312T100000
END:DAYLIGHT
BEGIN:STANDARD
TZOFFSETFROM:-0700
TZOFFSETTO:-0800
TZNAME:PST
DTSTART:20231105T090000
END:STANDARD
BEGIN:DAYLIGHT
TZOFFSETFROM:-0800
TZOFFSETTO:-0700
TZNAME:PDT
DTSTART:20240310T100000
END:DAYLIGHT
BEGIN:STANDARD
TZOFFSETFROM:-0700
TZOFFSETTO:-0800
TZNAME:PST
DTSTART:20241103T090000
END:STANDARD
BEGIN:DAYLIGHT
TZOFFSETFROM:-0800
TZOFFSETTO:-0700
TZNAME:PDT
DTSTART:20250309T100000
END:DAYLIGHT
BEGIN:STANDARD
TZOFFSETFROM:-0700
TZOFFSETTO:-0800
TZNAME:PST
DTSTART:20251102T090000
END:STANDARD
END:VTIMEZONE
BEGIN:VEVENT
DTSTART;TZID=America/Los_Angeles:20241212T093000
DTEND;TZID=America/Los_Angeles:20241212T113000
DTSTAMP:20260422T004919
CREATED:20240319T192021Z
LAST-MODIFIED:20240319T192021Z
UID:25869-1733995800-1734003000@dmh.lacounty.gov
SUMMARY:SALT 2 MEETING - DEC. 12\, 2024
DESCRIPTION:Virtual Conference:\nJoin Meeting via MS Teams \nCall In Information:\nEnglish: (323) 776-6996\, access code 795 951 062#\nSpanish: (888) 204-5987\, código de acceso 9639884# \nCART Link:\nhttps://www.streamtext.net/player?event=SALT-2 \nFor more information about this meeting\, please email SALT2@dmh.lacounty.gov. \nLearn more about SALT 2
URL:https://dmh.lacounty.gov/event/salt-2-meeting-dec-12-2024/
LOCATION:Online
CATEGORIES:General Events,Online Events,Service Area 2 Event
END:VEVENT
BEGIN:VEVENT
DTSTART;TZID=America/Los_Angeles:20241212T133000
DTEND;TZID=America/Los_Angeles:20241212T153000
DTSTAMP:20260422T004919
CREATED:20240201T212203Z
LAST-MODIFIED:20240618T215844Z
UID:24566-1734010200-1734017400@dmh.lacounty.gov
SUMMARY:Faith-Based Advocacy Council Executive Board Meeting - Dec. 12\, 2024
DESCRIPTION:The Faith-Based Advocacy Council Executive Board meets on the 2nd Thursday of each month. Please see below for meeting details \nFor more information about the council or this event\, email CVFierro@dmh.lacounty.gov. \nClick here to join the meeting on Microsoft Teams\nMeeting ID: 250 720 976 708\nPasscode: CU3BFe\nDownload Teams | Join on the web \nOr Call: 323-776-6996 \nEnglish Language Conference ID: 802 481 107#\nKorean Language Conference ID: 390 447 207#
URL:https://dmh.lacounty.gov/event/faith-based-advocacy-council-executive-board-meeting-dec-12-2024/
LOCATION:Online
CATEGORIES:General Events,Online Events
END:VEVENT
BEGIN:VEVENT
DTSTART;TZID=America/Los_Angeles:20241212T140000
DTEND;TZID=America/Los_Angeles:20241212T160000
DTSTAMP:20260422T004919
CREATED:20240319T190654Z
LAST-MODIFIED:20240319T190654Z
UID:25849-1734012000-1734019200@dmh.lacounty.gov
SUMMARY:SALT 3 MEETING - Dec. 12\, 2024
DESCRIPTION:Virtual Conference: Join Meeting via MS Teams \nCall-In Information:\nEnglish: (323) 776-6996\, access code 563 246 482#\nSpanish: (888) 204-5987\, código de acceso 9639884# \nCART Link:\nhttps://www.streamtext.net/player?event=SALT-3 \nFor more information about this meeting\, please email SALT3@dmh.lacounty.gov. \nLearn more about SALT 3
URL:https://dmh.lacounty.gov/event/salt-3-meeting-dec-12-2024/
LOCATION:Online
CATEGORIES:General Events,Online Events,Service Area 3 Event
END:VEVENT
END:VCALENDAR