BEGIN:VCALENDAR
VERSION:2.0
PRODID:-//Department of Mental Health - ECPv6.15.20//NONSGML v1.0//EN
CALSCALE:GREGORIAN
METHOD:PUBLISH
X-WR-CALNAME:Department of Mental Health
X-ORIGINAL-URL:https://dmh.lacounty.gov
X-WR-CALDESC:Events for Department of Mental Health
REFRESH-INTERVAL;VALUE=DURATION:PT1H
X-Robots-Tag:noindex
X-PUBLISHED-TTL:PT1H
BEGIN:VTIMEZONE
TZID:America/Los_Angeles
BEGIN:DAYLIGHT
TZOFFSETFROM:-0800
TZOFFSETTO:-0700
TZNAME:PDT
DTSTART:20230312T100000
END:DAYLIGHT
BEGIN:STANDARD
TZOFFSETFROM:-0700
TZOFFSETTO:-0800
TZNAME:PST
DTSTART:20231105T090000
END:STANDARD
BEGIN:DAYLIGHT
TZOFFSETFROM:-0800
TZOFFSETTO:-0700
TZNAME:PDT
DTSTART:20240310T100000
END:DAYLIGHT
BEGIN:STANDARD
TZOFFSETFROM:-0700
TZOFFSETTO:-0800
TZNAME:PST
DTSTART:20241103T090000
END:STANDARD
BEGIN:DAYLIGHT
TZOFFSETFROM:-0800
TZOFFSETTO:-0700
TZNAME:PDT
DTSTART:20250309T100000
END:DAYLIGHT
BEGIN:STANDARD
TZOFFSETFROM:-0700
TZOFFSETTO:-0800
TZNAME:PST
DTSTART:20251102T090000
END:STANDARD
END:VTIMEZONE
BEGIN:VEVENT
DTSTART;TZID=America/Los_Angeles:20241211T100000
DTEND;TZID=America/Los_Angeles:20241211T120000
DTSTAMP:20260422T004914
CREATED:20240711T180850Z
LAST-MODIFIED:20241126T214849Z
UID:28135-1733911200-1733918400@dmh.lacounty.gov
SUMMARY:Access for All UsCC Meeting – Dec. 11\, 2024
DESCRIPTION:Join meeting via MS Teams\nMeeting ID: 211 938 768 669\nPasscode: YSubZV\n \nCall In Information:\nSpanish: (323) 776-6996\, access code 447 71 4285#\nEnglish: (323) 776-6996\, access code 431 63 4242# \nCART (Communication Access Real-time Translation) services\, ASL and Spanish language interpretation will be provided. \nClick here for the ADA/Language Request Form \nFor more information about this meeting\, please email Access4AllUsCC@dmh.lacounty.gov. \nLearn more about LACDMH’s Access for All UsCC
URL:https://dmh.lacounty.gov/event/access-for-all-uscc-meeting-dec-11-2024/
LOCATION:Online
CATEGORIES:General Events,Online Events
END:VEVENT
BEGIN:VEVENT
DTSTART;TZID=America/Los_Angeles:20241211T133000
DTEND;TZID=America/Los_Angeles:20241211T153000
DTSTAMP:20260422T004914
CREATED:20240315T002158Z
LAST-MODIFIED:20240815T204412Z
UID:25700-1733923800-1733931000@dmh.lacounty.gov
SUMMARY:CULTURAL COMPETENCY COMMITTEE MEETING – DEC. 11\, 2024
DESCRIPTION:The Cultural Competency Committee (CCC) serves as an advisory group for the infusion of cultural competency in all of Los Angeles County Department of Mental Health (LACDMH) operations\, and meets monthly to discuss ways to increase LACDMH’s cultural awareness\, sensitivity\, and responsiveness to the needs of diverse cultural populations to foster hope\, wellness\, resilience\, and recovery in our communities. \nHandouts\, including meeting agendas and minutes\, are emailed prior to each meeting. For more information\, contact Guadalupe Aguilar at DMHCC@dmh.lacounty.gov. \nJoin the meeting on Microsoft Teams\nMeeting ID: 274 033 543 999\nPasscode: zPQAwQ \n\n\n\nDial-in by phone\n+1 323-776-6996\,\,518743174# United States\, Los Angeles\nPhone conference ID: 518 743 174# \nOr call in (audio only)\n+1 323-776-6996\,\,691367800#   United States\, Los Angeles\nPhone Conference ID: 691 367 800# \nNúmero gratuito de conferencia para nuestros participantes que hablan español. \n\nConference call-in #: 1-888-204-5987\nAccess Code: 62879362\n\nCART Link
URL:https://dmh.lacounty.gov/event/cultural-competency-committee-meeting-dec-11-2024/
LOCATION:Online
CATEGORIES:General Events,Online Events
END:VEVENT
END:VCALENDAR