BEGIN:VCALENDAR
VERSION:2.0
PRODID:-//Department of Mental Health - ECPv6.15.20//NONSGML v1.0//EN
CALSCALE:GREGORIAN
METHOD:PUBLISH
X-WR-CALNAME:Department of Mental Health
X-ORIGINAL-URL:https://dmh.lacounty.gov
X-WR-CALDESC:Events for Department of Mental Health
REFRESH-INTERVAL;VALUE=DURATION:PT1H
X-Robots-Tag:noindex
X-PUBLISHED-TTL:PT1H
BEGIN:VTIMEZONE
TZID:America/Los_Angeles
BEGIN:DAYLIGHT
TZOFFSETFROM:-0800
TZOFFSETTO:-0700
TZNAME:PDT
DTSTART:20230312T100000
END:DAYLIGHT
BEGIN:STANDARD
TZOFFSETFROM:-0700
TZOFFSETTO:-0800
TZNAME:PST
DTSTART:20231105T090000
END:STANDARD
BEGIN:DAYLIGHT
TZOFFSETFROM:-0800
TZOFFSETTO:-0700
TZNAME:PDT
DTSTART:20240310T100000
END:DAYLIGHT
BEGIN:STANDARD
TZOFFSETFROM:-0700
TZOFFSETTO:-0800
TZNAME:PST
DTSTART:20241103T090000
END:STANDARD
BEGIN:DAYLIGHT
TZOFFSETFROM:-0800
TZOFFSETTO:-0700
TZNAME:PDT
DTSTART:20250309T100000
END:DAYLIGHT
BEGIN:STANDARD
TZOFFSETFROM:-0700
TZOFFSETTO:-0800
TZNAME:PST
DTSTART:20251102T090000
END:STANDARD
END:VTIMEZONE
BEGIN:VEVENT
DTSTART;TZID=America/Los_Angeles:20241106T140000
DTEND;TZID=America/Los_Angeles:20241106T160000
DTSTAMP:20260423T202144
CREATED:20240711T194630Z
LAST-MODIFIED:20241007T155817Z
UID:28144-1730901600-1730908800@dmh.lacounty.gov
SUMMARY:American Indian/Alaska Native (AI/AN) UsCC Meeting – Nov. 6\, 2024
DESCRIPTION:Visit LACDMH’s Access for AI/AN UsCC page for meeting details and to learn more about this UsCC group. \nFor more information about this meeting\, please email AIANUsCC@dmh.lacounty.gov.
URL:https://dmh.lacounty.gov/event/american-indian-alaska-native-ai-an-uscc-meeting-nov-6-2024/
LOCATION:Online
CATEGORIES:General Events,Online Events
END:VEVENT
END:VCALENDAR