BEGIN:VCALENDAR
VERSION:2.0
PRODID:-//Department of Mental Health - ECPv6.15.20//NONSGML v1.0//EN
CALSCALE:GREGORIAN
METHOD:PUBLISH
X-WR-CALNAME:Department of Mental Health
X-ORIGINAL-URL:https://dmh.lacounty.gov
X-WR-CALDESC:Events for Department of Mental Health
REFRESH-INTERVAL;VALUE=DURATION:PT1H
X-Robots-Tag:noindex
X-PUBLISHED-TTL:PT1H
BEGIN:VTIMEZONE
TZID:UTC
BEGIN:STANDARD
TZOFFSETFROM:+0000
TZOFFSETTO:+0000
TZNAME:UTC
DTSTART:20210101T000000
END:STANDARD
END:VTIMEZONE
BEGIN:VEVENT
DTSTART;VALUE=DATE:20220501
DTEND;VALUE=DATE:20220601
DTSTAMP:20260421T203033
CREATED:20220420T203632Z
LAST-MODIFIED:20220420T203632Z
UID:17567-1651363200-1654041599@dmh.lacounty.gov
SUMMARY:WE RISE 2022
DESCRIPTION:WE RISE 2022: BY US\, FOR US is a series of community-led events that support health and healing across Los Angeles County. A collaborative impact initiative\, WE RISE 2022 invests in local organizations\, artists and leaders to strengthen community wellbeing. Throughout Mental Health Awareness Month in May\, community partners provide access to resources and opportunities for connection through art installations\, cultural experiences and other community engagement projects. For more details on WE RISE programming taking place throughout May\, visit https://werise.la
URL:https://dmh.lacounty.gov/event/we-rise-2022/
LOCATION:CA
CATEGORIES:General Events
END:VEVENT
BEGIN:VEVENT
DTSTART;TZID=UTC:20220521T100000
DTEND;TZID=UTC:20220521T130000
DTSTAMP:20260421T203033
CREATED:20220429T184815Z
LAST-MODIFIED:20220429T184815Z
UID:17772-1653127200-1653138000@dmh.lacounty.gov
SUMMARY:SALT 6 - May is Mental Health Month Conference - May 21\, 2022
DESCRIPTION:SALT 6 – May is Mental Health Month Conference:\n“Mental Health Equals Wealth” \nJoin SALT 6 as we plan to have a fabulous keynote speaker as well as a number of workshops centered around healthy cooking\, suicide prevention\, housing\, financial literacy\, healthy aging\, LGBTQQIP2SAA\, art\, and journaling. Register in advanced for this meeting: https://bit.ly/3LJBFTR. (Link active May 3\, 2022) \nFor more information\, email: SALT6@dmh.lacounty.gov.
URL:https://dmh.lacounty.gov/event/salt-6-may-is-mental-health-month-conference-may-21-2022/
LOCATION:CA
CATEGORIES:General Events
END:VEVENT
END:VCALENDAR