BEGIN:VCALENDAR
VERSION:2.0
PRODID:-//Department of Mental Health - ECPv6.15.20//NONSGML v1.0//EN
CALSCALE:GREGORIAN
METHOD:PUBLISH
X-WR-CALNAME:Department of Mental Health
X-ORIGINAL-URL:https://dmh.lacounty.gov
X-WR-CALDESC:Events for Department of Mental Health
REFRESH-INTERVAL;VALUE=DURATION:PT1H
X-Robots-Tag:noindex
X-PUBLISHED-TTL:PT1H
BEGIN:VTIMEZONE
TZID:America/Los_Angeles
BEGIN:DAYLIGHT
TZOFFSETFROM:-0800
TZOFFSETTO:-0700
TZNAME:PDT
DTSTART:20210314T100000
END:DAYLIGHT
BEGIN:STANDARD
TZOFFSETFROM:-0700
TZOFFSETTO:-0800
TZNAME:PST
DTSTART:20211107T090000
END:STANDARD
BEGIN:DAYLIGHT
TZOFFSETFROM:-0800
TZOFFSETTO:-0700
TZNAME:PDT
DTSTART:20220313T100000
END:DAYLIGHT
BEGIN:STANDARD
TZOFFSETFROM:-0700
TZOFFSETTO:-0800
TZNAME:PST
DTSTART:20221106T090000
END:STANDARD
BEGIN:DAYLIGHT
TZOFFSETFROM:-0800
TZOFFSETTO:-0700
TZNAME:PDT
DTSTART:20230312T100000
END:DAYLIGHT
BEGIN:STANDARD
TZOFFSETFROM:-0700
TZOFFSETTO:-0800
TZNAME:PST
DTSTART:20231105T090000
END:STANDARD
END:VTIMEZONE
BEGIN:VEVENT
DTSTART;TZID=America/Los_Angeles:20220210T093000
DTEND;TZID=America/Los_Angeles:20220210T110000
DTSTAMP:20260423T182316
CREATED:20220203T221902Z
LAST-MODIFIED:20220203T224429Z
UID:16185-1644485400-1644490800@dmh.lacounty.gov
SUMMARY:SA 5 All Faith Virtual Gathering - February 10\, 2022
DESCRIPTION:SA 5 ALL FAITH VIRTUAL GATHERING “Angst” Film Screening with Q&A \nThursday\, February 10\, 2022 9:30 – 11:00 AM \nWe are excited for this month’s special screening of the documentary\, “Angst: Raising Awareness around Anxiety\,” followed by an informative panel discussion\, led by Brian Navarro\, SA 5 Health Neighborhood and Faithbased Liaison. \nWe will discuss how we could make this film available for you and your community for the next month to start a dialogue around anxiety\, how to better cope with and manage some of the stress we are experiencing. \nJoin us on Microsoft Teams Meeting or call 323.776.6996 Conference ID: 778 773 651# For more information\, please contact us at 310.482.6600.
URL:https://dmh.lacounty.gov/event/sa-5-all-faith-virtual-gathering-february-10-2022/
LOCATION:Online
CATEGORIES:General Events
END:VEVENT
BEGIN:VEVENT
DTSTART;TZID=America/Los_Angeles:20220210T093000
DTEND;TZID=America/Los_Angeles:20220210T113000
DTSTAMP:20260423T182316
CREATED:20220114T190644Z
LAST-MODIFIED:20220114T190644Z
UID:15626-1644485400-1644492600@dmh.lacounty.gov
SUMMARY:SALT 2 Meeting - Feb. 10\, 2022
DESCRIPTION:Service Area Leadership Team 2 (SALT 2) Meeting \nVirtual Conference:\nJoin Meeting via MS Teams \nCall In Information:\nEnglish: (323) 776-6996\, access code 795 951 062#\nSpanish: (888) 204-5987\, código de acceso 9639884# \nCART Link:\nhttps://www.streamtext.net/player?event=SALT-2 \nFor more information about this meeting\, please email SALT2@dmh.lacounty.gov.
URL:https://dmh.lacounty.gov/event/salt-2-meeting-feb-10-2022/
LOCATION:Online
CATEGORIES:General Events
END:VEVENT
BEGIN:VEVENT
DTSTART;TZID=America/Los_Angeles:20220210T103000
DTEND;TZID=America/Los_Angeles:20220210T120000
DTSTAMP:20260423T182316
CREATED:20220209T223427Z
LAST-MODIFIED:20220209T223427Z
UID:16256-1644489000-1644494400@dmh.lacounty.gov
SUMMARY:Ribbon-Cutting for Antelope Valley Community Family Resource Center - Feb. 10\, 2022
DESCRIPTION:Los Angeles County Department of Mental Health (LACDMH)—in collaboration with the Antelope Valley Partners for Health\, Casey Family Programs\, Children’s Bureau\, First 5 LA\, L.A. County’s Chief Executive Office and Department of Children and Family Services (DCFS)—will hold a ribbon-cutting ceremony for the Antelope Valley Community Family Resource Center\, which serves a regional hub for residents to access services provided by these agencies as well as a central location to coordinate and conduct outreach to Antelope Valley residents and communities. \nOnce opened\, programming will include community outreach and prevention-oriented activities that will empower community voice and leadership while mitigating risk factors and increasing engagement\, access and wellbeing. \nThe general public is invited to watch the livestream of the ribbon-cutting event by registering here (or by scanning the QR code in this flyer).
URL:https://dmh.lacounty.gov/event/ribbon-cutting-for-antelope-valley-community-family-resource-center-feb-10-2022/
LOCATION:Online
CATEGORIES:General Events
END:VEVENT
BEGIN:VEVENT
DTSTART;TZID=America/Los_Angeles:20220210T120000
DTEND;TZID=America/Los_Angeles:20220210T140000
DTSTAMP:20260423T182316
CREATED:20210911T003314Z
LAST-MODIFIED:20220208T005106Z
UID:14282-1644494400-1644501600@dmh.lacounty.gov
SUMMARY:MHC Executive Committee Meeting - Feb. 10\, 2022
DESCRIPTION:Watch Live \nTo provide live public comment\, call the AT&T Public Comment Line at 844-291-6362 Conference Code 9271524. You may provide your name but are not required to do so. \nTo listen only via telephone in Spanish\, call 888-204-5987 Conference Code 9639884# \nLive Closed Captioning (CART) services are provided on this link: Closed Captioning \nAmerican Sign Language (ASL) is provided on the Live Meeting link above. \nDue to COVID-19\, until further notice\, the Mental Health Commission will hold all meetings through virtual teleconference platforms. \nFor more information about this meeting\, please email MHCommission@dmh.lacounty.gov.
URL:https://dmh.lacounty.gov/event/mhc-executive-committee-meeting-feb-10-2022/
LOCATION:Online
CATEGORIES:General Events
END:VEVENT
BEGIN:VEVENT
DTSTART;TZID=America/Los_Angeles:20220210T140000
DTEND;TZID=America/Los_Angeles:20220210T160000
DTSTAMP:20260423T182316
CREATED:20220128T195700Z
LAST-MODIFIED:20220210T210131Z
UID:15802-1644501600-1644508800@dmh.lacounty.gov
SUMMARY:SALT 3 Meeting - Feb. 10\, 2022
DESCRIPTION:Service Area Leadership Team 3 (SALT 3) Meeting \nClick for Agenda. \n  \nVirtual Conference: Join Meeting via MS Teams \nCall In Information:\nEnglish: (323) 776-6996\, access code 563 246 482#\nSpanish: (888) 204-5987\, código de acceso 9639884# \nCART Link:\nhttps://www.streamtext.net/player?event=SALT-3 \nFor more information about this meeting\, please email SALT3@dmh.lacounty.gov.
URL:https://dmh.lacounty.gov/event/salt-3-meeting-feb-10-2022/
LOCATION:Online
CATEGORIES:General Events
END:VEVENT
BEGIN:VEVENT
DTSTART;TZID=America/Los_Angeles:20220210T180000
DTEND;TZID=America/Los_Angeles:20220210T190000
DTSTAMP:20260423T182316
CREATED:20220126T231351Z
LAST-MODIFIED:20220126T231526Z
UID:15734-1644516000-1644519600@dmh.lacounty.gov
SUMMARY:L.A. County Youth Commission Meeting "Centering Voices in Mental Health" - Feb. 10\, 2022
DESCRIPTION:To help center youth voices in mental health reform and programming in Los Angeles County\, The Youth Commission is hosting a “Centering Youth Voice in Mental Health” panel event\, in partnership with the Board of Supervisors and the Los Angeles County Department of Mental Health. The panel will consist of Youth Commissioners\, mental health experts from the DMH + UCLA Public Partnership for Wellbeing\, and community mental health advocates. \nThe Youth Commission welcomes suggestions for panelist questions from community members. If you would like to submit a question to the panel\, please submit it to the Youth Commission Instagram page by February 4. \nWhen: Thursday\, February 10th from 6 p.m. to 7:30 p.m. PST \nView the event flyer and toolkit \nRegistration Link: https://www.surveymonkey.com/r/Y3LL3G3 \nMeeting Link: https://us02web.zoom.us/j/89214673705?pwd=WGlud3pZ NThkY2lXalkyb1VibFF4UT09 \nYou can also RSVP by emailing YouthCommission@bos.lacounty.gov or calling 213-633-5599 \n 
URL:https://dmh.lacounty.gov/event/l-a-county-youth-commission-meeting-centering-voices-in-mental-health-feb-10-2022/
LOCATION:Online
CATEGORIES:General Events
END:VEVENT
END:VCALENDAR