BEGIN:VCALENDAR
VERSION:2.0
PRODID:-//Department of Mental Health - ECPv6.15.20//NONSGML v1.0//EN
CALSCALE:GREGORIAN
METHOD:PUBLISH
X-WR-CALNAME:Department of Mental Health
X-ORIGINAL-URL:https://dmh.lacounty.gov
X-WR-CALDESC:Events for Department of Mental Health
REFRESH-INTERVAL;VALUE=DURATION:PT1H
X-Robots-Tag:noindex
X-PUBLISHED-TTL:PT1H
BEGIN:VTIMEZONE
TZID:America/Los_Angeles
BEGIN:DAYLIGHT
TZOFFSETFROM:-0800
TZOFFSETTO:-0700
TZNAME:PDT
DTSTART:20250309T100000
END:DAYLIGHT
BEGIN:STANDARD
TZOFFSETFROM:-0700
TZOFFSETTO:-0800
TZNAME:PST
DTSTART:20251102T090000
END:STANDARD
BEGIN:DAYLIGHT
TZOFFSETFROM:-0800
TZOFFSETTO:-0700
TZNAME:PDT
DTSTART:20260308T100000
END:DAYLIGHT
BEGIN:STANDARD
TZOFFSETFROM:-0700
TZOFFSETTO:-0800
TZNAME:PST
DTSTART:20261101T090000
END:STANDARD
BEGIN:DAYLIGHT
TZOFFSETFROM:-0800
TZOFFSETTO:-0700
TZNAME:PDT
DTSTART:20270314T100000
END:DAYLIGHT
BEGIN:STANDARD
TZOFFSETFROM:-0700
TZOFFSETTO:-0800
TZNAME:PST
DTSTART:20271107T090000
END:STANDARD
END:VTIMEZONE
BEGIN:VEVENT
DTSTART;VALUE=DATE:20260421
DTEND;VALUE=DATE:20260423
DTSTAMP:20260420T015919
CREATED:20260204T000100Z
LAST-MODIFIED:20260416T195825Z
UID:58096-1776729600-1776902399@dmh.lacounty.gov
SUMMARY:"Brighter Together: Integrating Substance Use\, Mental Health and Physical Health Care Services" Conference
DESCRIPTION:Visit this link for more information about the conference.
URL:https://dmh.lacounty.gov/event/brighter-together-conference-2026/
LOCATION:Hilton Universal City Hotel at Universal City\, 555 Universal Hollywood Drive\, Universal City\, CA\, 91608\, United States
CATEGORIES:General Events
END:VEVENT
BEGIN:VEVENT
DTSTART;TZID=America/Los_Angeles:20260421T140000
DTEND;TZID=America/Los_Angeles:20260421T160000
DTSTAMP:20260420T015919
CREATED:20251223T223042Z
LAST-MODIFIED:20260323T222848Z
UID:55496-1776780000-1776787200@dmh.lacounty.gov
SUMMARY:Latino UsCC Meeting – April 21\, 2026
DESCRIPTION:Join the meeting now\n\nMeeting ID: 297 584 242 951 5\nPasscode: m6AT3Qt3\n\n\n\n\n\n\nDial in by phone\n+1 323-776-6996\,\,87936754# United States\, Los Angeles\nFind a local number\n\nPhone conference ID: 879 367 54# \nEnglish/Translation call-in line: (888) 204-5987; access code 9639884\n________________________________________________________________________________________________\nVisit LACDMH’s Latino UsCC page to learn more about this UsCC group. \nFor more information\, email LatinoUsCC@dmh.lacounty.gov.
URL:https://dmh.lacounty.gov/event/latino-uscc-meeting-april-21-2026/
LOCATION:CA
CATEGORIES:General Events,Online Events
END:VEVENT
BEGIN:VEVENT
DTSTART;TZID=America/Los_Angeles:20260422T120000
DTEND;TZID=America/Los_Angeles:20260422T130000
DTSTAMP:20260420T015919
CREATED:20260408T171445Z
LAST-MODIFIED:20260408T171445Z
UID:62657-1776859200-1776862800@dmh.lacounty.gov
SUMMARY:Veteran Group Support (Weekly)
DESCRIPTION:
URL:https://dmh.lacounty.gov/event/veteran-group-support-weekly-30/
LOCATION:VPAN JVS SoCal – South El Monte\, 1180 Durfee Ave Ste 200\, South El Monte\, CA\, 91733\, United States
CATEGORIES:Veteran Events
END:VEVENT
BEGIN:VEVENT
DTSTART;TZID=America/Los_Angeles:20260423T100000
DTEND;TZID=America/Los_Angeles:20260423T120000
DTSTAMP:20260420T015919
CREATED:20260113T161850Z
LAST-MODIFIED:20260113T161850Z
UID:57167-1776938400-1776945600@dmh.lacounty.gov
SUMMARY:Service Area 1 Clergy Roundtable - Apr. 23\, 2026
DESCRIPTION:For more information\, email DLunaMiller@dmh.lacounty.gov or visit the Service Area 1 Clergy Interfaith Collaborative webpage.
URL:https://dmh.lacounty.gov/event/service-area-1-clergy-roundtable-apr-23-2026/
LOCATION:Palmdale Mental Health\, 2260 E Palmdale Blvd #J\, Palmdale\, CA\, 93550\, United States
CATEGORIES:General Events,Service Area 1 Event
END:VEVENT
BEGIN:VEVENT
DTSTART;TZID=America/Los_Angeles:20260423T110000
DTEND;TZID=America/Los_Angeles:20260423T120000
DTSTAMP:20260420T015919
CREATED:20260408T182455Z
LAST-MODIFIED:20260408T182455Z
UID:62664-1776942000-1776945600@dmh.lacounty.gov
SUMMARY:Table Talk: A Women Veterans Support Group
DESCRIPTION:
URL:https://dmh.lacounty.gov/event/table-talk-a-women-veterans-support-group-14/
LOCATION:VPAN JVS SoCal – Palmdale\, 38345 30th St E Suite A-1\, Palmdale\, CA\, 93550
CATEGORIES:Veteran Events
END:VEVENT
BEGIN:VEVENT
DTSTART;TZID=America/Los_Angeles:20260423T120000
DTEND;TZID=America/Los_Angeles:20260423T130000
DTSTAMP:20260420T015919
CREATED:20260105T193222Z
LAST-MODIFIED:20260105T193222Z
UID:56581-1776945600-1776949200@dmh.lacounty.gov
SUMMARY:Service Area 5 Health Neighborhood (Palms/Mar Vista) Meeting - Apr. 23\, 2026
DESCRIPTION:Join the Meeting on Microsoft Teams \nMeeting ID: 248 918 478 713\nPasscode: FFJm3c \nFor more information\, email BNavarro@dmh.lacounty.gov or visit the Service Area 5 Health Neighborhoods webpage.
URL:https://dmh.lacounty.gov/event/service-area-5-health-neighborhood-palms-mar-vista-meeting-apr-23-2026/
LOCATION:Online
CATEGORIES:General Events,Online Events,Service Area 5 Event,Service Area Events
END:VEVENT
BEGIN:VEVENT
DTSTART;TZID=America/Los_Angeles:20260423T120000
DTEND;TZID=America/Los_Angeles:20260423T140000
DTSTAMP:20260420T015919
CREATED:20260121T175709Z
LAST-MODIFIED:20260417T214238Z
UID:57619-1776945600-1776952800@dmh.lacounty.gov
SUMMARY:BEHAVIORAL HEALTH COMMISSION (BHC) EXECUTIVE COMMITTEE MEETING – April 23\, 2026
DESCRIPTION:EXECUTIVE COMMITTEE MEETING\nAgenda ENGLISH SPANISH \nOptions to participate: \n\nWatch live stream: MS Teams Link \nJoin in person: 510 S Vermont Ave.\, 9th floor (T) Level Conference Room\, Los Angeles 90020; validated parking is available at 523 Shatto Place\, Los Angeles\, CA 90020. \n\n\nLink to download meeting documents \nLive Closed Captioning (CART) Link  \nMembers of the public can address the BHC during the live event by attending in-person (see location above)\, by phone\, by email\, or by regular mail. \nBy Telephone:\nEnglish: 844-291-6362 | Access Code: 9271524\nSpanish: 323-776-6996 | Conference ID: 334948926\nKorean: 323-776-6996 | Conference ID: 760466419\n \nWritten Public Comment: \n\nElectronic Mail (Email): Send your mail to the Commission at mhcommission@dmh.lacounty.gov. Email must be received 3 days prior to the meeting date.\nRegular Mail: Mail to the following address: Attention: Los Angeles County Behavioral Health Commission\, Vermont Corridor Headquarters\, 510 S. Vermont Avenue\, (22-111)\, Los Angeles\, CA 90020. Must be received 3 days prior to meeting date.\n\nFor more information about this meeting\, please send an email to MHCommission@dmh.lacounty.gov
URL:https://dmh.lacounty.gov/event/behavioral-health-commission-bhc-executive-committee-meeting-april-23-2026/
LOCATION:CA
CATEGORIES:General Events,Online Events,Provider Central,Service Area Events,Veteran Events
END:VEVENT
BEGIN:VEVENT
DTSTART;TZID=America/Los_Angeles:20260423T130000
DTEND;TZID=America/Los_Angeles:20260423T140000
DTSTAMP:20260420T015919
CREATED:20260331T223345Z
LAST-MODIFIED:20260331T223345Z
UID:62561-1776949200-1776952800@dmh.lacounty.gov
SUMMARY:Free Book Club: promoting community wellness\, peer support\, and health
DESCRIPTION:Free Book Club: Promoting Community Wellness\, Peer Support\, and Health\nJoin us in person for an awesome book club where we dive into topics all about community wellness\, peer support\, and health. It’s a chill space to share ideas\, connect with others\, and boost your well-being through great reads. Don’t miss out on the chance to learn and grow together – everyone’s welcome!
URL:https://dmh.lacounty.gov/event/free-book-club-promoting-community-wellness-peer-support-and-health/
LOCATION:1910 Magnolia Avenue  Los Angeles\, CA 90007\, 1910 Magnolia Avenue Los Angeles\, CA 90007\, Los Angeles\, CA\, 90007\, United States
CATEGORIES:Youth & Young Adult Events
END:VEVENT
BEGIN:VEVENT
DTSTART;TZID=America/Los_Angeles:20260424T110000
DTEND;TZID=America/Los_Angeles:20260424T123000
DTSTAMP:20260420T015919
CREATED:20260408T191331Z
LAST-MODIFIED:20260408T191352Z
UID:62675-1777028400-1777033800@dmh.lacounty.gov
SUMMARY:Wellness Workshops for Veterans & Military Families
DESCRIPTION:
URL:https://dmh.lacounty.gov/event/wellness-workshops-for-veterans-military-families-13/
LOCATION:US VETS – Inglewood\, 733 Hindry Ave\, Inglewood\, California\, 90301
CATEGORIES:Veteran Events
END:VEVENT
BEGIN:VEVENT
DTSTART;TZID=America/Los_Angeles:20260424T130000
DTEND;TZID=America/Los_Angeles:20260424T140000
DTSTAMP:20260420T015919
CREATED:20260105T204657Z
LAST-MODIFIED:20260105T205124Z
UID:56603-1777035600-1777039200@dmh.lacounty.gov
SUMMARY:Service Area 5 Health Neighborhood (Pico-Robertson) Meeting - Apr. 24\, 2026
DESCRIPTION:Join the Meeting on Zoom \nFor more information\, email BNavarro@dmh.lacounty.gov or visit the Service Area 5 Health Neighborhoods webpage.
URL:https://dmh.lacounty.gov/event/service-area-5-health-neighborhood-pico-robertson-meeting-apr-24-2026/
LOCATION:Online
CATEGORIES:General Events,Online Events,Service Area 5 Event,Service Area Events
END:VEVENT
BEGIN:VEVENT
DTSTART;TZID=America/Los_Angeles:20260427T140000
DTEND;TZID=America/Los_Angeles:20260427T160000
DTSTAMP:20260420T015919
CREATED:20251231T200630Z
LAST-MODIFIED:20260416T165146Z
UID:56161-1777298400-1777305600@dmh.lacounty.gov
SUMMARY:Asian Pacific Islander (API) UsCC Meeting – April 27\, 2026
DESCRIPTION:Join the API UsCC meeting\nMeeting ID: 227 736 221 164 496\nPasscode: gt3iA9sg\n————————————————–\n\nDial in by phone (English)\n+1 323-776-6996\,\,964405855# United States\, Los Angeles\nFind a local number\n\nPhone conference ID: 964 405 855#\n————————————————–\nDial in by phone (Korean)\n+1 323-776-6996\,\,871723820#United States\, Los Angeles\n\nFind a local number\n\nPhone conference ID: 871 723 820#\n\nFor more information about this meeting\, please email APIUsCC@dmh.lacounty.gov. \nLearn more about LACDMH’s API UsCC
URL:https://dmh.lacounty.gov/event/asian-pacific-islander-api-uscc-meeting-april-27-2026/
LOCATION:CA
CATEGORIES:General Events,Online Events
END:VEVENT
BEGIN:VEVENT
DTSTART;TZID=America/Los_Angeles:20260428T093000
DTEND;TZID=America/Los_Angeles:20260428T113000
DTSTAMP:20260420T015919
CREATED:20260127T172341Z
LAST-MODIFIED:20260313T204203Z
UID:57836-1777368600-1777375800@dmh.lacounty.gov
SUMMARY:Service Area 7 Clergy Roundtable - Apr. 28\, 2026
DESCRIPTION:Join this Meeting In-Person or via Microsoft Teams. \nFor more information\, email SA7ClergyCollab@dmh.lacounty.gov or visit Service Area 7 Clergy Interfaith Collaborative webpage.
URL:https://dmh.lacounty.gov/event/service-area-7-clergy-roundtable-apr-28-2026/
LOCATION:St Gertrude the Great Church\, 7025 Garfield Ave\, Bell Gardens\, CA\, 90201\, United States
CATEGORIES:General Events,Service Area 7 Event,Service Area Events
END:VEVENT
BEGIN:VEVENT
DTSTART;TZID=America/Los_Angeles:20260428T130000
DTEND;TZID=America/Los_Angeles:20260428T143000
DTSTAMP:20260420T015919
CREATED:20251231T221922Z
LAST-MODIFIED:20251231T222024Z
UID:56269-1777381200-1777386600@dmh.lacounty.gov
SUMMARY:Service Area 2 Health Neighborhoods Meeting - Apr. 28\, 2026
DESCRIPTION:Join the Meeting on Microsoft Teams \nMeeting ID: 288 433 861 241 28\nPasscode: YJ9JH9Dc \nFor more information\, email RSafaryan@dmh.lacounty.gov / FXie@dmh.lacounty.gov or visit the Service Area 2 Health Neighborhood webpage.
URL:https://dmh.lacounty.gov/event/service-area-2-health-neighborhoods-meeting-apr-28-2026/
LOCATION:CA
CATEGORIES:General Events,Online Events,Service Area 2 Event,Service Area Events
END:VEVENT
BEGIN:VEVENT
DTSTART;TZID=America/Los_Angeles:20260428T140000
DTEND;TZID=America/Los_Angeles:20260428T153000
DTSTAMP:20260420T015919
CREATED:20260105T185054Z
LAST-MODIFIED:20260105T185054Z
UID:56565-1777384800-1777390200@dmh.lacounty.gov
SUMMARY:Service Area 4 Health Neighborhood (Boyle Heights) Meeting - Apr. 28\, 2026
DESCRIPTION:Join the Meeting on Microsoft Teams \nMeeting ID: 262 812 020 899 83\nPasscode: qk7Vv7nd \nFor more information\, email GMendez@dmh.lacounty.gov or visit the Service Area 4 Health Neighborhoods webpage.
URL:https://dmh.lacounty.gov/event/service-area-4-health-neighborhood-boyle-heights-meeting-apr-28-2026/
LOCATION:Online
CATEGORIES:General Events,Online Events,Service Area 4 Event,Service Area Events
END:VEVENT
BEGIN:VEVENT
DTSTART;TZID=America/Los_Angeles:20260428T150000
DTEND;TZID=America/Los_Angeles:20260428T170000
DTSTAMP:20260420T015919
CREATED:20251231T161834Z
LAST-MODIFIED:20260320T193619Z
UID:56013-1777388400-1777395600@dmh.lacounty.gov
SUMMARY:SALT 5 Meeting - Apr. 28\, 2026
DESCRIPTION:Meeting Link:\nSALT 5 Community Meeting | Meeting-Join | Microsoft Teams \nEnglish Dial in by phone\n+1 323-776-6996\,\,184449960#\nPhone conference ID: 184 449 960# \nSpanish Dial in by phone\n+1 323-776-6996\, \,989783082#\nPhone conference ID: 989 783 082# \nFor more information about this meeting\, please email SALT5@dmh.lacounty.gov. \nLearn more about SALT 5
URL:https://dmh.lacounty.gov/event/salt-5-meeting-apr-28-2026/
LOCATION:CA
CATEGORIES:General Events,Online Events,Service Area 5 Event,Service Area Events
END:VEVENT
BEGIN:VEVENT
DTSTART;TZID=America/Los_Angeles:20260429T120000
DTEND;TZID=America/Los_Angeles:20260429T130000
DTSTAMP:20260420T015919
CREATED:20260408T171459Z
LAST-MODIFIED:20260408T171459Z
UID:62654-1777464000-1777467600@dmh.lacounty.gov
SUMMARY:Veteran Group Support (Weekly)
DESCRIPTION:
URL:https://dmh.lacounty.gov/event/veteran-group-support-weekly-31/
LOCATION:VPAN JVS SoCal – South El Monte\, 1180 Durfee Ave Ste 200\, South El Monte\, CA\, 91733\, United States
CATEGORIES:Veteran Events
END:VEVENT
BEGIN:VEVENT
DTSTART;TZID=America/Los_Angeles:20260429T140000
DTEND;TZID=America/Los_Angeles:20260429T160000
DTSTAMP:20260420T015919
CREATED:20251223T235413Z
LAST-MODIFIED:20251223T235413Z
UID:55569-1777471200-1777478400@dmh.lacounty.gov
SUMMARY:Eastern European/Middle Eastern (EE/ME) UsCC Meeting – April 29\, 2026
DESCRIPTION:Click here to join the meeting \nOr call in (audio only)\n323-776-6996\, Conference ID: 171 510 211# \nFor more information about this meeting\, please email EEMEUsCC@dmh.lacounty.gov. \nLearn more about LACDMH’s EE/ME UsCCn more about LACDMH’s EE/ME UsCC
URL:https://dmh.lacounty.gov/event/eastern-european-middle-eastern-ee-me-uscc-meeting-april-29-2026/
LOCATION:CA
CATEGORIES:General Events,Online Events
END:VEVENT
BEGIN:VEVENT
DTSTART;TZID=America/Los_Angeles:20260430T140000
DTEND;TZID=America/Los_Angeles:20260430T153000
DTSTAMP:20260420T015919
CREATED:20251231T232811Z
LAST-MODIFIED:20251231T232811Z
UID:56314-1777557600-1777563000@dmh.lacounty.gov
SUMMARY:Service Area 4 Health Neighborhood (Hollywood) Meeting - April 30\, 2026
DESCRIPTION:Join the Meeting on Microsoft Teams \nMeeting ID: 280 042 971 031\nPasscode: 7sp22Gq3 \nFor more information\, email GMendez@dmh.lacounty.gov or visit the Service Area 4 Health Neighborhoods webpage.
URL:https://dmh.lacounty.gov/event/service-area-4-health-neighborhood-hollywood-meeting-april-30-2026/
LOCATION:CA
CATEGORIES:General Events,Online Events,Service Area 4 Event,Service Area Events
END:VEVENT
END:VCALENDAR