BEGIN:VCALENDAR
VERSION:2.0
PRODID:-//Department of Mental Health - ECPv6.15.20//NONSGML v1.0//EN
CALSCALE:GREGORIAN
METHOD:PUBLISH
X-WR-CALNAME:Department of Mental Health
X-ORIGINAL-URL:https://dmh.lacounty.gov
X-WR-CALDESC:Events for Department of Mental Health
REFRESH-INTERVAL;VALUE=DURATION:PT1H
X-Robots-Tag:noindex
X-PUBLISHED-TTL:PT1H
BEGIN:VTIMEZONE
TZID:America/Los_Angeles
BEGIN:DAYLIGHT
TZOFFSETFROM:-0800
TZOFFSETTO:-0700
TZNAME:PDT
DTSTART:20250309T100000
END:DAYLIGHT
BEGIN:STANDARD
TZOFFSETFROM:-0700
TZOFFSETTO:-0800
TZNAME:PST
DTSTART:20251102T090000
END:STANDARD
BEGIN:DAYLIGHT
TZOFFSETFROM:-0800
TZOFFSETTO:-0700
TZNAME:PDT
DTSTART:20260308T100000
END:DAYLIGHT
BEGIN:STANDARD
TZOFFSETFROM:-0700
TZOFFSETTO:-0800
TZNAME:PST
DTSTART:20261101T090000
END:STANDARD
BEGIN:DAYLIGHT
TZOFFSETFROM:-0800
TZOFFSETTO:-0700
TZNAME:PDT
DTSTART:20270314T100000
END:DAYLIGHT
BEGIN:STANDARD
TZOFFSETFROM:-0700
TZOFFSETTO:-0800
TZNAME:PST
DTSTART:20271107T090000
END:STANDARD
END:VTIMEZONE
BEGIN:VEVENT
DTSTART;TZID=America/Los_Angeles:20260425T090000
DTEND;TZID=America/Los_Angeles:20260425T103000
DTSTAMP:20260425T204951
CREATED:20260423T232917Z
LAST-MODIFIED:20260423T232917Z
UID:63579-1777107600-1777113000@dmh.lacounty.gov
SUMMARY:Wellness Morning- Virginia Avenue Park
DESCRIPTION:Start your day right with yoga\, smoothies\, and good vibes at our awesome Wellness Morning! \n\n\n\n\nJoin us for a feel-good morning of movement\, community\, and wellness at Virginia Avenue Park \nEnjoy free fitness and movement classes\, connect with local wellness businesses\, and take part in raffles\, giveaways\, and more. Whether you’re coming to break a sweat\, discover new favorites\, or just soak up the energy\, there’s something for everyone. Sign up and sign the waiver using the link in our bio! \n9:00 – 9:30 AM: Good Body Pilates Studio – Welcome + Mat Pilates Warm-up \n9:30 – 10:00 AM: Spry Fitness – Fitness class \n10:00 – 10:30 AM: Blue Republic Strength – Fitness class \nMeet us at the Pico & Cloverfield entrance of the park! Bring a friend\, bring your mat\, and come start your Saturday with us. \nSign Up & Sign Wavier Here: https://docs.google.com/forms/d/e/1FAIpQLSd4d2RDAb9FP0LIU2cd3yx7nTQgCz1HZbYbnkEvf
URL:https://dmh.lacounty.gov/event/wellness-morning-virginia-avenue-park/
LOCATION:Virginia Avenue Park 2200 Virginia Avenue  Santa Monica\, CA 90404\, Virginia Avenue Park 2200 Virginia Avenue\, Santa Monica\, CA\, 90404
CATEGORIES:Youth & Young Adult Events
END:VEVENT
BEGIN:VEVENT
DTSTART;TZID=America/Los_Angeles:20260425T120000
DTEND;TZID=America/Los_Angeles:20260425T153000
DTSTAMP:20260425T204951
CREATED:20260423T233228Z
LAST-MODIFIED:20260423T233228Z
UID:63583-1777118400-1777131000@dmh.lacounty.gov
SUMMARY:Wellness Social
DESCRIPTION:Spring Edition—panels\, activations\, and vendors to recharge\, connect\, and elevate your mind\, body\, and community. \n\n\n\n\nGuests can expect an inspiring Wellness Social experience filled with meaningful conversations\, interactive moments\, and a vibrant community atmosphere. The Spring Edition brings dynamic panelists and a curated vendor marketplace designed to support personal growth\, connection\, and well-being. \n\n\n3 hours 30 minutes\nages 18+\nIn person\nFree parking\nDoors at 11:30 AM
URL:https://dmh.lacounty.gov/event/wellness-social/
LOCATION:3650 W Martin Luther King Blvd  Located inside The Crenshaw Mall *2nd Floor* Los Angeles\, CA 90008
CATEGORIES:Youth & Young Adult Events
END:VEVENT
END:VCALENDAR