BEGIN:VCALENDAR
VERSION:2.0
PRODID:-//Department of Mental Health - ECPv6.15.20//NONSGML v1.0//EN
CALSCALE:GREGORIAN
METHOD:PUBLISH
X-WR-CALNAME:Department of Mental Health
X-ORIGINAL-URL:https://dmh.lacounty.gov
X-WR-CALDESC:Events for Department of Mental Health
REFRESH-INTERVAL;VALUE=DURATION:PT1H
X-Robots-Tag:noindex
X-PUBLISHED-TTL:PT1H
BEGIN:VTIMEZONE
TZID:America/Los_Angeles
BEGIN:DAYLIGHT
TZOFFSETFROM:-0800
TZOFFSETTO:-0700
TZNAME:PDT
DTSTART:20250309T100000
END:DAYLIGHT
BEGIN:STANDARD
TZOFFSETFROM:-0700
TZOFFSETTO:-0800
TZNAME:PST
DTSTART:20251102T090000
END:STANDARD
BEGIN:DAYLIGHT
TZOFFSETFROM:-0800
TZOFFSETTO:-0700
TZNAME:PDT
DTSTART:20260308T100000
END:DAYLIGHT
BEGIN:STANDARD
TZOFFSETFROM:-0700
TZOFFSETTO:-0800
TZNAME:PST
DTSTART:20261101T090000
END:STANDARD
BEGIN:DAYLIGHT
TZOFFSETFROM:-0800
TZOFFSETTO:-0700
TZNAME:PDT
DTSTART:20270314T100000
END:DAYLIGHT
BEGIN:STANDARD
TZOFFSETFROM:-0700
TZOFFSETTO:-0800
TZNAME:PST
DTSTART:20271107T090000
END:STANDARD
END:VTIMEZONE
BEGIN:VEVENT
DTSTART;VALUE=DATE:20260421
DTEND;VALUE=DATE:20260423
DTSTAMP:20260419T151809
CREATED:20260204T000100Z
LAST-MODIFIED:20260416T195825Z
UID:58096-1776729600-1776902399@dmh.lacounty.gov
SUMMARY:"Brighter Together: Integrating Substance Use\, Mental Health and Physical Health Care Services" Conference
DESCRIPTION:Visit this link for more information about the conference.
URL:https://dmh.lacounty.gov/event/brighter-together-conference-2026/
LOCATION:Hilton Universal City Hotel at Universal City\, 555 Universal Hollywood Drive\, Universal City\, CA\, 91608\, United States
CATEGORIES:General Events
END:VEVENT
BEGIN:VEVENT
DTSTART;TZID=America/Los_Angeles:20260422T120000
DTEND;TZID=America/Los_Angeles:20260422T130000
DTSTAMP:20260419T151809
CREATED:20260408T171445Z
LAST-MODIFIED:20260408T171445Z
UID:62657-1776859200-1776862800@dmh.lacounty.gov
SUMMARY:Veteran Group Support (Weekly)
DESCRIPTION:
URL:https://dmh.lacounty.gov/event/veteran-group-support-weekly-30/
LOCATION:VPAN JVS SoCal – South El Monte\, 1180 Durfee Ave Ste 200\, South El Monte\, CA\, 91733\, United States
CATEGORIES:Veteran Events
END:VEVENT
END:VCALENDAR