BEGIN:VCALENDAR
VERSION:2.0
PRODID:-//Department of Mental Health - ECPv6.15.20//NONSGML v1.0//EN
CALSCALE:GREGORIAN
METHOD:PUBLISH
X-WR-CALNAME:Department of Mental Health
X-ORIGINAL-URL:https://dmh.lacounty.gov
X-WR-CALDESC:Events for Department of Mental Health
REFRESH-INTERVAL;VALUE=DURATION:PT1H
X-Robots-Tag:noindex
X-PUBLISHED-TTL:PT1H
BEGIN:VTIMEZONE
TZID:America/Los_Angeles
BEGIN:DAYLIGHT
TZOFFSETFROM:-0800
TZOFFSETTO:-0700
TZNAME:PDT
DTSTART:20250309T100000
END:DAYLIGHT
BEGIN:STANDARD
TZOFFSETFROM:-0700
TZOFFSETTO:-0800
TZNAME:PST
DTSTART:20251102T090000
END:STANDARD
BEGIN:DAYLIGHT
TZOFFSETFROM:-0800
TZOFFSETTO:-0700
TZNAME:PDT
DTSTART:20260308T100000
END:DAYLIGHT
BEGIN:STANDARD
TZOFFSETFROM:-0700
TZOFFSETTO:-0800
TZNAME:PST
DTSTART:20261101T090000
END:STANDARD
BEGIN:DAYLIGHT
TZOFFSETFROM:-0800
TZOFFSETTO:-0700
TZNAME:PDT
DTSTART:20270314T100000
END:DAYLIGHT
BEGIN:STANDARD
TZOFFSETFROM:-0700
TZOFFSETTO:-0800
TZNAME:PST
DTSTART:20271107T090000
END:STANDARD
END:VTIMEZONE
BEGIN:VEVENT
DTSTART;TZID=America/Los_Angeles:20260331T130000
DTEND;TZID=America/Los_Angeles:20260331T143000
DTSTAMP:20260422T115733
CREATED:20251231T221748Z
LAST-MODIFIED:20251231T221748Z
UID:56267-1774962000-1774967400@dmh.lacounty.gov
SUMMARY:Service Area 2 Health Neighborhoods Meeting - Mar. 31\, 2026
DESCRIPTION:Join the Meeting on Microsoft Teams \nMeeting ID: 288 433 861 241 28\nPasscode: YJ9JH9Dc \nFor more information\, email RSafaryan@dmh.lacounty.gov / FXie@dmh.lacounty.gov or visit the Service Area 2 Health Neighborhood webpage.
URL:https://dmh.lacounty.gov/event/service-area-2-health-neighborhoods-meeting-mar-31-2026/
CATEGORIES:General Events,Online Events,Service Area 2 Event,Service Area Events
END:VEVENT
END:VCALENDAR