BEGIN:VCALENDAR
VERSION:2.0
PRODID:-//Department of Mental Health - ECPv6.15.20//NONSGML v1.0//EN
CALSCALE:GREGORIAN
METHOD:PUBLISH
X-ORIGINAL-URL:https://dmh.lacounty.gov
X-WR-CALDESC:Events for Department of Mental Health
REFRESH-INTERVAL;VALUE=DURATION:PT1H
X-Robots-Tag:noindex
X-PUBLISHED-TTL:PT1H
BEGIN:VTIMEZONE
TZID:America/Los_Angeles
BEGIN:DAYLIGHT
TZOFFSETFROM:-0800
TZOFFSETTO:-0700
TZNAME:PDT
DTSTART:20250309T100000
END:DAYLIGHT
BEGIN:STANDARD
TZOFFSETFROM:-0700
TZOFFSETTO:-0800
TZNAME:PST
DTSTART:20251102T090000
END:STANDARD
BEGIN:DAYLIGHT
TZOFFSETFROM:-0800
TZOFFSETTO:-0700
TZNAME:PDT
DTSTART:20260308T100000
END:DAYLIGHT
BEGIN:STANDARD
TZOFFSETFROM:-0700
TZOFFSETTO:-0800
TZNAME:PST
DTSTART:20261101T090000
END:STANDARD
BEGIN:DAYLIGHT
TZOFFSETFROM:-0800
TZOFFSETTO:-0700
TZNAME:PDT
DTSTART:20270314T100000
END:DAYLIGHT
BEGIN:STANDARD
TZOFFSETFROM:-0700
TZOFFSETTO:-0800
TZNAME:PST
DTSTART:20271107T090000
END:STANDARD
END:VTIMEZONE
BEGIN:VEVENT
DTSTART;TZID=America/Los_Angeles:20260319T100000
DTEND;TZID=America/Los_Angeles:20260319T110000
DTSTAMP:20260424T072947
CREATED:20260304T001403Z
LAST-MODIFIED:20260304T001403Z
UID:59114-1773914400-1773918000@dmh.lacounty.gov
SUMMARY:Valorous Vets – Veteran’s Life Skills Group
DESCRIPTION:
URL:https://dmh.lacounty.gov/event/valorous-vets-veterans-life-skills-group-12/
LOCATION:Bob Hope Patriotic Hall\, 1816 South Figueroa Street\, Los Angeles\, CA\, 90015\, United States
CATEGORIES:Veteran Events
END:VEVENT
BEGIN:VEVENT
DTSTART;TZID=America/Los_Angeles:20260319T100000
DTEND;TZID=America/Los_Angeles:20260319T120000
DTSTAMP:20260424T072947
CREATED:20251231T163742Z
LAST-MODIFIED:20260203T163520Z
UID:56032-1773914400-1773921600@dmh.lacounty.gov
SUMMARY:SALT 6 MEETING - Mar. 19\, 2026
DESCRIPTION:For more information\, please email SALT6@dmh.lacounty.gov. \nLearn more about SALT 6
URL:https://dmh.lacounty.gov/event/salt-6-meeting-mar-19-2026/
LOCATION:MLK Behavioral Health Center\, Bldg 18\, Room D\, 12021 Wilmington Ave\, Los Angeles\, CA\, 90059\, United States
CATEGORIES:General Events,Service Area 6 Event,Service Area Events
END:VEVENT
BEGIN:VEVENT
DTSTART;TZID=America/Los_Angeles:20260319T123000
DTEND;TZID=America/Los_Angeles:20260319T140000
DTSTAMP:20260424T072947
CREATED:20260304T001145Z
LAST-MODIFIED:20260304T001145Z
UID:59106-1773923400-1773928800@dmh.lacounty.gov
SUMMARY:Veteran Fatherhood Group
DESCRIPTION:
URL:https://dmh.lacounty.gov/event/veteran-fatherhood-group-10/
LOCATION:Long Beach Multi-Service Center\, 1301 W 12th Street\, Long Beach\, CA\, 90813
CATEGORIES:Veteran Events
END:VEVENT
BEGIN:VEVENT
DTSTART;TZID=America/Los_Angeles:20260319T133000
DTEND;TZID=America/Los_Angeles:20260319T153000
DTSTAMP:20260424T072947
CREATED:20251229T213317Z
LAST-MODIFIED:20251229T213340Z
UID:55956-1773927000-1773934200@dmh.lacounty.gov
SUMMARY:SALT 4 MEETING - Mar. 19\, 2026
DESCRIPTION:Meeting Details TBA \nVirtual Conference: Join Meeting via MS Teams \nCall-In Information:\nEnglish: (323) 776-6996\, access code 356 331 283# \nFor more information about this meeting\, please email gmendez@dmh.lacounty.gov\n. \nLearn more about SALT 4
URL:https://dmh.lacounty.gov/event/salt-4-meeting-mar-19-2026/
LOCATION:Los Angeles First Korean Presbyterian Church\, 213 S. Hobart Blvd.\, Los Angeles\, CA\, 90004\, United States
CATEGORIES:General Events,Service Area 4 Event,Service Area Events
END:VEVENT
BEGIN:VEVENT
DTSTART;TZID=America/Los_Angeles:20260319T140000
DTEND;TZID=America/Los_Angeles:20260319T160000
DTSTAMP:20260424T072947
CREATED:20260313T210905Z
LAST-MODIFIED:20260313T211022Z
UID:60114-1773928800-1773936000@dmh.lacounty.gov
SUMMARY:Service Area 7 Town Hall Series: Staying Connected & Informed - Mar. 19\, 2026
DESCRIPTION:Service Area 7 cordially invites you to attend the Staying Connected & Informed workshops.  \nJoin virtual meeting via Microsoft Teams \nLínea de traducción al español: 1-888-204-5984-Access Code 9488276# \nFor more information about this meeting\, please email SALT7@dmh.lacounty.gov \nLearn more about SALT 7
URL:https://dmh.lacounty.gov/event/service-area-7-town-hall-series-staying-connected-informed-mar-19-2026/
LOCATION:Online
CATEGORIES:General Events,Online Events,Service Area 7 Event,Service Area Events
END:VEVENT
BEGIN:VEVENT
DTSTART;TZID=America/Los_Angeles:20260319T143000
DTEND;TZID=America/Los_Angeles:20260319T160000
DTSTAMP:20260424T072947
CREATED:20260106T213713Z
LAST-MODIFIED:20260106T213853Z
UID:56728-1773930600-1773936000@dmh.lacounty.gov
SUMMARY:Service Area 8 Health Neighborhood (Hawthorne-Lennox) Meeting - Mar. 19\, 2026
DESCRIPTION:Join the Meeting on Microsoft Teams \nFor more information\, email VWilliams@dmh.lacounty.gov or visit the Service Area 8 Health Neighborhoods webpage.
URL:https://dmh.lacounty.gov/event/service-area-8-health-neighborhood-hawthorne-lennox-meeting-mar-19-2026/
LOCATION:Online
CATEGORIES:General Events,Online Events,Service Area 8 Event,Service Area Events
END:VEVENT
BEGIN:VEVENT
DTSTART;TZID=America/Los_Angeles:20260319T150000
DTEND;TZID=America/Los_Angeles:20260319T170000
DTSTAMP:20260424T072947
CREATED:20251229T192610Z
LAST-MODIFIED:20251229T192610Z
UID:55900-1773932400-1773939600@dmh.lacounty.gov
SUMMARY:SALT 1 MEETING - Mar. 19\, 2026
DESCRIPTION:Join via the following options: \n\nOnline: on Microsoft Teams Meeting\, or\nCall-in (audio only): 323-776-6996\, English conference ID: 858 484 323#\nSpanish translation: 888-204-5987\, ID: 963 9884#\nClosed Captioning Link\nNote: Please mute your phone. Do not place on hold. Press *6 to unmute to ask questions or comment.\n\nFor more information about this meeting\, please email SALT1@dmh.lacounty.gov or call SALT 1 Liaison Yvette Perez at (661) 506-2913. \nLearn more about SALT 1
URL:https://dmh.lacounty.gov/event/salt-1-meeting-mar-19-2026/
CATEGORIES:General Events,Online Events,Service Area 1 Event,Service Area Events
END:VEVENT
END:VCALENDAR