BEGIN:VCALENDAR
VERSION:2.0
PRODID:-//Department of Mental Health - ECPv6.15.20//NONSGML v1.0//EN
CALSCALE:GREGORIAN
METHOD:PUBLISH
X-WR-CALNAME:Department of Mental Health
X-ORIGINAL-URL:https://dmh.lacounty.gov
X-WR-CALDESC:Events for Department of Mental Health
REFRESH-INTERVAL;VALUE=DURATION:PT1H
X-Robots-Tag:noindex
X-PUBLISHED-TTL:PT1H
BEGIN:VTIMEZONE
TZID:America/Los_Angeles
BEGIN:DAYLIGHT
TZOFFSETFROM:-0800
TZOFFSETTO:-0700
TZNAME:PDT
DTSTART:20250309T100000
END:DAYLIGHT
BEGIN:STANDARD
TZOFFSETFROM:-0700
TZOFFSETTO:-0800
TZNAME:PST
DTSTART:20251102T090000
END:STANDARD
BEGIN:DAYLIGHT
TZOFFSETFROM:-0800
TZOFFSETTO:-0700
TZNAME:PDT
DTSTART:20260308T100000
END:DAYLIGHT
BEGIN:STANDARD
TZOFFSETFROM:-0700
TZOFFSETTO:-0800
TZNAME:PST
DTSTART:20261101T090000
END:STANDARD
BEGIN:DAYLIGHT
TZOFFSETFROM:-0800
TZOFFSETTO:-0700
TZNAME:PDT
DTSTART:20270314T100000
END:DAYLIGHT
BEGIN:STANDARD
TZOFFSETFROM:-0700
TZOFFSETTO:-0800
TZNAME:PST
DTSTART:20271107T090000
END:STANDARD
END:VTIMEZONE
BEGIN:VEVENT
DTSTART;VALUE=DATE:20260317
DTEND;VALUE=DATE:20260319
DTSTAMP:20260421T230333
CREATED:20260129T205823Z
LAST-MODIFIED:20260318T224745Z
UID:57926-1773705600-1773878399@dmh.lacounty.gov
SUMMARY:2026 Mental Health Multicultural Conference "Healing in a Land of Diversity: A Multicultural Approach to Mental Health"
DESCRIPTION:VIEW/DOWNLOAD CONFERENCE PROGRAM (PDF)\nDay 1 Schedule\nDay 2 Schedule\nThe Los Angeles County Department of Mental Health Anti-Racism\, Inclusion\, Solidarity & Empowerment (ARISE) Division presents the 2026 Mental Health Multicultural Conference “Healing in a Land of Diversity: A Multicultural Approach to Mental Health” taking place at the Intercontinental Downtown Los Angeles Hotel at 900 Wilshire Blvd.\, Los Angeles 90017 from March 17 to 18\, 2026. \nVisit this page to register; if you have questions about this conference\, email ARISEDivision@dmh.lacounty.gov or DMHTrainingUnit@dmh.lacounty.gov.
URL:https://dmh.lacounty.gov/event/2026-mental-health-multicultural-conference/
LOCATION:Intercontinental Downtown Los Angeles Hotel\, 900 Wilshire Blvd\, Los Angeles\, CA\, 90017\, United States
CATEGORIES:General Events
END:VEVENT
BEGIN:VEVENT
DTSTART;TZID=America/Los_Angeles:20260318T120000
DTEND;TZID=America/Los_Angeles:20260318T130000
DTSTAMP:20260421T230333
CREATED:20260304T000522Z
LAST-MODIFIED:20260304T000522Z
UID:59095-1773835200-1773838800@dmh.lacounty.gov
SUMMARY:Veteran Group Support (Weekly)
DESCRIPTION:
URL:https://dmh.lacounty.gov/event/veteran-group-support-weekly-25/
LOCATION:VPAN JVS SoCal – South El Monte\, 1180 Durfee Ave Ste 200\, South El Monte\, CA\, 91733\, United States
CATEGORIES:Veteran Events
END:VEVENT
BEGIN:VEVENT
DTSTART;TZID=America/Los_Angeles:20260318T130000
DTEND;TZID=America/Los_Angeles:20260318T143000
DTSTAMP:20260421T230333
CREATED:20251231T223552Z
LAST-MODIFIED:20251231T223552Z
UID:56287-1773838800-1773844200@dmh.lacounty.gov
SUMMARY:Service Area 3 Health Neighborhood Meeting - Mar. 18\, 2026
DESCRIPTION:Join the Meeting on Microsoft Teams \nFor more information\, email LMFlores@dmh.lacounty.gov or visit the Service Area 3 Health Neighborhood webpage.
URL:https://dmh.lacounty.gov/event/service-area-3-health-neighborhood-meeting-mar-18-2026/
CATEGORIES:General Events,Online Events,Service Area 3 Event,Service Area Events
END:VEVENT
BEGIN:VEVENT
DTSTART;TZID=America/Los_Angeles:20260318T130000
DTEND;TZID=America/Los_Angeles:20260318T150000
DTSTAMP:20260421T230333
CREATED:20260318T211418Z
LAST-MODIFIED:20260318T212729Z
UID:60704-1773838800-1773846000@dmh.lacounty.gov
SUMMARY:SALT 2 MEETING - Mar. 18\, 2026
DESCRIPTION:Join Service Area 2 and the Los Angeles County Department of Mental Health for the Service Area Leadership Team 2 (SALT 2) meeting via Microsoft Teams. Our co-chair and the SALT 2 Team are committed to bringing together community members and local providers to foster collaboration and share vital mental health information\, resources\, and educational opportunities. \nMS Teams (English): Click here to join the meeting \nEnglish Call-In #\n323-776-6996\nConference ID\n168 091 931# \nÚnase al Area de Servicio 2 y al Departamento de Salud Mental del Condado de Los Ángeles para la reunión del Equipo de Liderazgo del Area de Servicio 2 (SALT2) a través de Microsoft Teams. Nuestra Co Presidenta y el equipo de SALT2 están comprometidos a reunir a los miembros de la comunidad y a los proveedores locales para fomentar la colaboración y compartir recursos y oportunidades educativas vitales en materia de salud mental. \nMS Teams (Spanish): Click here to join the meeting \nSpanish Call-In #\n323-776-6996\nConference ID\n114 180 313# \nFor more information about this meeting\, please email SALT2@dmh.lacounty.gov. \nLearn more about SALT 2
URL:https://dmh.lacounty.gov/event/salt-2-meeting-mar-18-2026/
LOCATION:Online
CATEGORIES:General Events,Online Events,Service Area 2 Event,Service Area Events
END:VEVENT
BEGIN:VEVENT
DTSTART;TZID=America/Los_Angeles:20260318T180000
DTEND;TZID=America/Los_Angeles:20260318T193000
DTSTAMP:20260421T230333
CREATED:20260109T231340Z
LAST-MODIFIED:20260109T231340Z
UID:56974-1773856800-1773862200@dmh.lacounty.gov
SUMMARY:Service Area 7 "Beyond the Walls" - Mar. 18\, 2026
DESCRIPTION:Beyond the Walls (BtW) offers a safe and inclusive forum where your voice matters. Even if you can’t attend regular meetings\, your ideas can still influence your community’s future. BtW provides valuable resources\, and education while promoting wellness and connection across Los Angeles County. Please join us to hear more information and to share your feedback! \nNo RSVP is needed to attend. Send questions to BeyondWalls@dmh.lacounty.gov. ADA accommodation requests must be emailed 14 days prior to the event. \nRefer to this flyer for upcoming BtW events across all eight service areas.
URL:https://dmh.lacounty.gov/event/service-area-7-beyond-the-walls-mar-18-2026/
LOCATION:City Terrace Library\, 4025 City Terrace Dr.\, Los Angeles\, CA\, 90063\, United States
CATEGORIES:General Events,Service Area 7 Event,Service Area Events
END:VEVENT
END:VCALENDAR