BEGIN:VCALENDAR
VERSION:2.0
PRODID:-//Department of Mental Health - ECPv6.15.20//NONSGML v1.0//EN
CALSCALE:GREGORIAN
METHOD:PUBLISH
X-WR-CALNAME:Department of Mental Health
X-ORIGINAL-URL:https://dmh.lacounty.gov
X-WR-CALDESC:Events for Department of Mental Health
REFRESH-INTERVAL;VALUE=DURATION:PT1H
X-Robots-Tag:noindex
X-PUBLISHED-TTL:PT1H
BEGIN:VTIMEZONE
TZID:America/Los_Angeles
BEGIN:DAYLIGHT
TZOFFSETFROM:-0800
TZOFFSETTO:-0700
TZNAME:PDT
DTSTART:20250309T100000
END:DAYLIGHT
BEGIN:STANDARD
TZOFFSETFROM:-0700
TZOFFSETTO:-0800
TZNAME:PST
DTSTART:20251102T090000
END:STANDARD
BEGIN:DAYLIGHT
TZOFFSETFROM:-0800
TZOFFSETTO:-0700
TZNAME:PDT
DTSTART:20260308T100000
END:DAYLIGHT
BEGIN:STANDARD
TZOFFSETFROM:-0700
TZOFFSETTO:-0800
TZNAME:PST
DTSTART:20261101T090000
END:STANDARD
BEGIN:DAYLIGHT
TZOFFSETFROM:-0800
TZOFFSETTO:-0700
TZNAME:PDT
DTSTART:20270314T100000
END:DAYLIGHT
BEGIN:STANDARD
TZOFFSETFROM:-0700
TZOFFSETTO:-0800
TZNAME:PST
DTSTART:20271107T090000
END:STANDARD
END:VTIMEZONE
BEGIN:VEVENT
DTSTART;TZID=America/Los_Angeles:20260312T110000
DTEND;TZID=America/Los_Angeles:20260312T120000
DTSTAMP:20260421T224108
CREATED:20260304T000927Z
LAST-MODIFIED:20260304T000927Z
UID:59102-1773313200-1773316800@dmh.lacounty.gov
SUMMARY:Table Talk: A Women Veterans Support Group
DESCRIPTION:
URL:https://dmh.lacounty.gov/event/table-talk-a-women-veterans-support-group-12/
LOCATION:VPAN JVS SoCal – Palmdale\, 38345 30th St E Suite A-1\, Palmdale\, CA\, 93550
CATEGORIES:Veteran Events
END:VEVENT
BEGIN:VEVENT
DTSTART;TZID=America/Los_Angeles:20260312T110000
DTEND;TZID=America/Los_Angeles:20260312T123000
DTSTAMP:20260421T224108
CREATED:20260105T223653Z
LAST-MODIFIED:20260105T223653Z
UID:56625-1773313200-1773318600@dmh.lacounty.gov
SUMMARY:Service Area 6 Health Neighborhood Meeting - Mar. 12\, 2026
DESCRIPTION:This series alternates between virtual (Jan/Mar/May/Jul/Sep/Nov) and in-person (Feb/Apr/Jun/Aug/Oct/Dec) meetings. \nFor more information\, email KThompson@dmh.lacounty.gov or visit the Service Area 6 Health Neighborhood webpage.
URL:https://dmh.lacounty.gov/event/service-area-6-health-neighborhood-meeting-mar-12-2026/
LOCATION:Online
CATEGORIES:General Events,Online Events,Service Area 6 Event,Service Area Events
END:VEVENT
BEGIN:VEVENT
DTSTART;TZID=America/Los_Angeles:20260312T110000
DTEND;TZID=America/Los_Angeles:20260312T133000
DTSTAMP:20260421T224108
CREATED:20260121T172729Z
LAST-MODIFIED:20260310T161013Z
UID:57578-1773313200-1773322200@dmh.lacounty.gov
SUMMARY:BEHAVIORAL HEALTH COMMISSION (BHC) MEETING – March 12\, 2026
DESCRIPTION:BHC REGULAR MEETING\nAgenda English Spanish\nWays to participate:\n\nWatch live stream: MS Teams Link \nJoin in-person: 510 S Vermont Ave.\, 9th floor (Level T) Conference Room\, Los Angeles 90020. FREE parking is available at 523 Shatto Place\, Los Angeles\, CA 90020.\n\n\nLink to download meeting documents\nLive Closed Captioning (CART) Link \nMembers of the public can address the BHC during the live event by attending in-person (see location above)\, by phone\, by email\, or by regular mail. \nBy telephone:\nEnglish:         844-291-6362 | Access Code: 4972277\nSpanish:        323-776-6996 | Conference ID: 444855048\nKorean:         323-776-6996 | Conference ID: 228880303 \nBy mail: \n\nElectronic Mail (Email): Email your public comment to mhcommission@dmh.lacounty.gov .  Email must be received 3 days prior to the date of the meeting.\nRegular Mail: Mail your public comment to the following address: 510 S. Vermont Avenue\, Attention: Behavioral Health Commission (22-111)\, Los Angeles\, CA 90020. Mail must be received 3 days prior to the date of the meeting.\n\nFor more information about this meeting\, please email MHCommission@dmh.lacounty.gov
URL:https://dmh.lacounty.gov/event/behavioral-health-commission-bhc-march-12-2026/
LOCATION:DMH Headquarters -Terrace Level Conference Rooms -BH Commission Meetings\, 510 S Vermont Avenue\, 9th Floor\, (T) Level\, Los Angeles\, CA\, 90020\, United States
CATEGORIES:General Events,Online Events,Provider Central,Service Area 1 Event,Service Area 2 Event,Service Area 3 Event,Service Area 4 Event,Service Area 5 Event,Service Area 6 Event,Service Area 7 Event,Service Area 8 Event,Service Area Events,Veteran Events
ATTACH;FMTTYPE=image/png:https://dmh.lacounty.gov/wp-content/uploads/2026/01/BH-Commission-Regular-Meeting-3-12-26-announcement-e1772746205503.png
END:VEVENT
BEGIN:VEVENT
DTSTART;TZID=America/Los_Angeles:20260312T123000
DTEND;TZID=America/Los_Angeles:20260312T140000
DTSTAMP:20260421T224108
CREATED:20260304T001124Z
LAST-MODIFIED:20260304T001124Z
UID:59105-1773318600-1773324000@dmh.lacounty.gov
SUMMARY:Veteran Fatherhood Group
DESCRIPTION:
URL:https://dmh.lacounty.gov/event/veteran-fatherhood-group-9/
LOCATION:Long Beach Multi-Service Center\, 1301 W 12th Street\, Long Beach\, CA\, 90813
CATEGORIES:Veteran Events
END:VEVENT
BEGIN:VEVENT
DTSTART;TZID=America/Los_Angeles:20260312T140000
DTEND;TZID=America/Los_Angeles:20260312T160000
DTSTAMP:20260421T224108
CREATED:20251229T202522Z
LAST-MODIFIED:20251229T202522Z
UID:55928-1773324000-1773331200@dmh.lacounty.gov
SUMMARY:SALT 3 MEETING - Mar. 12\, 2026
DESCRIPTION:Meeting Details TBA \nVirtual Conference: Join Meeting via MS Teams \nCall-In Information:\nEnglish: (323) 776-6996\, access code 563 246 482#\nSpanish: (888) 204-5987\, código de acceso 9639884# \nCART Link:\nhttps://www.streamtext.net/player?event=SALT-3 \nFor more information about this meeting\, please email SALT3@dmh.lacounty.gov. \nLearn more about SALT 3
URL:https://dmh.lacounty.gov/event/salt-3-meeting-mar-12-2026/
CATEGORIES:General Events,Online Events,Service Area 3 Event,Service Area Events
END:VEVENT
END:VCALENDAR