BEGIN:VCALENDAR
VERSION:2.0
PRODID:-//Department of Mental Health - ECPv6.15.20//NONSGML v1.0//EN
CALSCALE:GREGORIAN
METHOD:PUBLISH
X-ORIGINAL-URL:https://dmh.lacounty.gov
X-WR-CALDESC:Events for Department of Mental Health
REFRESH-INTERVAL;VALUE=DURATION:PT1H
X-Robots-Tag:noindex
X-PUBLISHED-TTL:PT1H
BEGIN:VTIMEZONE
TZID:America/Los_Angeles
BEGIN:DAYLIGHT
TZOFFSETFROM:-0800
TZOFFSETTO:-0700
TZNAME:PDT
DTSTART:20250309T100000
END:DAYLIGHT
BEGIN:STANDARD
TZOFFSETFROM:-0700
TZOFFSETTO:-0800
TZNAME:PST
DTSTART:20251102T090000
END:STANDARD
BEGIN:DAYLIGHT
TZOFFSETFROM:-0800
TZOFFSETTO:-0700
TZNAME:PDT
DTSTART:20260308T100000
END:DAYLIGHT
BEGIN:STANDARD
TZOFFSETFROM:-0700
TZOFFSETTO:-0800
TZNAME:PST
DTSTART:20261101T090000
END:STANDARD
BEGIN:DAYLIGHT
TZOFFSETFROM:-0800
TZOFFSETTO:-0700
TZNAME:PDT
DTSTART:20270314T100000
END:DAYLIGHT
BEGIN:STANDARD
TZOFFSETFROM:-0700
TZOFFSETTO:-0800
TZNAME:PST
DTSTART:20271107T090000
END:STANDARD
END:VTIMEZONE
BEGIN:VEVENT
DTSTART;TZID=America/Los_Angeles:20260307T100000
DTEND;TZID=America/Los_Angeles:20260307T110000
DTSTAMP:20260421T081205
CREATED:20260226T211359Z
LAST-MODIFIED:20260226T211359Z
UID:58963-1772877600-1772881200@dmh.lacounty.gov
SUMMARY:Monthly CorePower Yoga on The Green
DESCRIPTION:First Saturday of every month\, led by a CorePower Yoga instructor. \n\n\nThis outdoor\, all-levels class is the perfect way to move\, reset\, and connect with the community in a beautiful open-air setting. \nWhether you’re a seasoned yogi or trying yoga for the first time\, everyone is welcome. Walk-Ups Accepted. \n\n\n\n\nWhat to know before you go:\n\nA signed waiver is required to participate.\nParticipants are encouraged to arrive early if completing a waiver onsite.\nSpace may be limited; early arrival is recommended.\nWeather permitting*\n\nWhat to bring \n\nYoga mat\nWater bottle\nTowel (optional)\n\n Location: The Green (lawn area in front of the theatre)
URL:https://dmh.lacounty.gov/event/monthly-corepower-yoga-on-the-green/
LOCATION:bella terra\, 7777 Edinger Avenue\, Huntington Beach\, 92647\, United States
CATEGORIES:Youth & Young Adult Events
END:VEVENT
BEGIN:VEVENT
DTSTART;TZID=America/Los_Angeles:20260307T110000
DTEND;TZID=America/Los_Angeles:20260307T123000
DTSTAMP:20260421T081205
CREATED:20260109T230953Z
LAST-MODIFIED:20260109T230953Z
UID:56969-1772881200-1772886600@dmh.lacounty.gov
SUMMARY:Service Area 1 "Beyond the Walls" - Mar. 7\, 2026
DESCRIPTION:Beyond the Walls (BtW) offers a safe and inclusive forum where your voice matters. Even if you can’t attend regular meetings\, your ideas can still influence your community’s future. BtW provides valuable resources\, and education while promoting wellness and connection across Los Angeles County. Please join us to hear more information and to share your feedback! \nNo RSVP is needed to attend. Send questions to BeyondWalls@dmh.lacounty.gov. ADA accommodation requests must be emailed 14 days prior to the event. \nRefer to this flyer for upcoming BtW events across all eight service areas.
URL:https://dmh.lacounty.gov/event/service-area-1-beyond-the-walls-mar-7-2026/
LOCATION:Lancaster Library\, 601 W Lancaster Blvd.\, Lancaster\, CA\, 93534\, United States
CATEGORIES:General Events,Service Area 1 Event,Service Area Events
END:VEVENT
BEGIN:VEVENT
DTSTART;TZID=America/Los_Angeles:20260307T120000
DTEND;TZID=America/Los_Angeles:20260307T160000
DTSTAMP:20260421T081205
CREATED:20260226T210453Z
LAST-MODIFIED:20260226T210453Z
UID:58959-1772884800-1772899200@dmh.lacounty.gov
SUMMARY:B Market LA
DESCRIPTION:Free\, all-ages celebration of purpose-driven businesses in Los Angeles \nB Market LA is taking over the streets of Westwood for a free\, all-ages celebration of businesses doing good. Discover certified B Corporations\, sustainability-focused brands\, and local social enterprises all in one place. Enjoy music\, sample purpose-driven products\, and meet the people behind businesses that put people and planet over profit—all while spending a feel-good day with your community.
URL:https://dmh.lacounty.gov/event/b-market-la/
LOCATION:bronx\, 1036 Broxton Avenue\, Los Angeles\, CA\, 90024\, United States
CATEGORIES:Youth & Young Adult Events
END:VEVENT
END:VCALENDAR