BEGIN:VCALENDAR
VERSION:2.0
PRODID:-//Department of Mental Health - ECPv6.15.20//NONSGML v1.0//EN
CALSCALE:GREGORIAN
METHOD:PUBLISH
X-ORIGINAL-URL:https://dmh.lacounty.gov
X-WR-CALDESC:Events for Department of Mental Health
REFRESH-INTERVAL;VALUE=DURATION:PT1H
X-Robots-Tag:noindex
X-PUBLISHED-TTL:PT1H
BEGIN:VTIMEZONE
TZID:America/Los_Angeles
BEGIN:DAYLIGHT
TZOFFSETFROM:-0800
TZOFFSETTO:-0700
TZNAME:PDT
DTSTART:20250309T100000
END:DAYLIGHT
BEGIN:STANDARD
TZOFFSETFROM:-0700
TZOFFSETTO:-0800
TZNAME:PST
DTSTART:20251102T090000
END:STANDARD
BEGIN:DAYLIGHT
TZOFFSETFROM:-0800
TZOFFSETTO:-0700
TZNAME:PDT
DTSTART:20260308T100000
END:DAYLIGHT
BEGIN:STANDARD
TZOFFSETFROM:-0700
TZOFFSETTO:-0800
TZNAME:PST
DTSTART:20261101T090000
END:STANDARD
BEGIN:DAYLIGHT
TZOFFSETFROM:-0800
TZOFFSETTO:-0700
TZNAME:PDT
DTSTART:20270314T100000
END:DAYLIGHT
BEGIN:STANDARD
TZOFFSETFROM:-0700
TZOFFSETTO:-0800
TZNAME:PST
DTSTART:20271107T090000
END:STANDARD
END:VTIMEZONE
BEGIN:VEVENT
DTSTART;TZID=America/Los_Angeles:20260226T100000
DTEND;TZID=America/Los_Angeles:20260226T120000
DTSTAMP:20260423T175854
CREATED:20251226T200437Z
LAST-MODIFIED:20251226T200437Z
UID:55706-1772100000-1772107200@dmh.lacounty.gov
SUMMARY:Service Area 2 Clergy Roundtable - Feb. 26\, 2026
DESCRIPTION:Join on Microsoft Teams \nCall In at (323) 776-6996\nPhone Conference ID: 547 562 613# \nFor more information\, email CrRojas@dmh.lacounty.gov or visit the Service Area 2 Clergy Interfaith Collaborative webpage.
URL:https://dmh.lacounty.gov/event/service-area-2-clergy-roundtable-feb-26-2026/
LOCATION:Online
CATEGORIES:General Events,Online Events,Service Area 2 Event
END:VEVENT
BEGIN:VEVENT
DTSTART;TZID=America/Los_Angeles:20260226T110000
DTEND;TZID=America/Los_Angeles:20260226T120000
DTSTAMP:20260423T175854
CREATED:20260204T185918Z
LAST-MODIFIED:20260204T185918Z
UID:58148-1772103600-1772107200@dmh.lacounty.gov
SUMMARY:Table Talk: A Women Veterans Support Group
DESCRIPTION:
URL:https://dmh.lacounty.gov/event/table-talk-a-women-veterans-support-group-11/
LOCATION:VPAN JVS SoCal – Palmdale\, 38345 30th St E Suite A-1\, Palmdale\, CA\, 93550
CATEGORIES:Veteran Events
END:VEVENT
BEGIN:VEVENT
DTSTART;TZID=America/Los_Angeles:20260226T120000
DTEND;TZID=America/Los_Angeles:20260226T130000
DTSTAMP:20260423T175854
CREATED:20251226T191541Z
LAST-MODIFIED:20251226T191617Z
UID:55683-1772107200-1772110800@dmh.lacounty.gov
SUMMARY:Service Area 5 Health Neighborhood (Palms/Mar Vista) Meeting - Feb. 26\, 2026
DESCRIPTION:Join the Meeting on Microsoft Teams \nMeeting ID: 248 918 478 713\nPasscode: FFJm3c \nFor more information\, email BNavarro@dmh.lacounty.gov or visit the Service Area 5 Health Neighborhoods webpage.
URL:https://dmh.lacounty.gov/event/service-area-5-health-neighborhood-palms-mar-vista-meeting-feb-26-2026/
LOCATION:Online
CATEGORIES:General Events,Online Events,Service Area 5 Event
END:VEVENT
BEGIN:VEVENT
DTSTART;TZID=America/Los_Angeles:20260226T120000
DTEND;TZID=America/Los_Angeles:20260226T140000
DTSTAMP:20260423T175854
CREATED:20260121T174859Z
LAST-MODIFIED:20260304T233519Z
UID:57604-1772107200-1772114400@dmh.lacounty.gov
SUMMARY:BEHAVIORAL HEALTH COMMISSION (BHC) EXECUTIVE COMMITTEE MEETING – Feb. 26\, 2026
DESCRIPTION:EXECUTIVE COMMITTEE MEETING\nAgenda ENGLISH SPANISH \nOptions to participate: \n\nWatch live stream: MS Teams Link \nJoin in person: 510 S Vermont Ave.\, 9th floor (T) Level Conference Room\, Los Angeles 90020; validated parking is available at 523 Shatto Place\, Los Angeles\, CA 90020. \n\n\nLink to download meeting documents \nLive Closed Captioning (CART) Link  \nMembers of the public can address the BHC during the live event by attending in-person (see location above)\, by phone\, by email\, or by regular mail. \nBy Telephone:\nEnglish: 844-291-6362 | Access Code: 9271524\nSpanish: 323-776-6996 | Conference ID: 334948926\nKorean: 323-776-6996 | Conference ID: 760466419\n \nWritten Public Comment: \n\nElectronic Mail (Email): Send your mail to the Commission at mhcommission@dmh.lacounty.gov. Email must be received 3 days prior to the meeting date.\nRegular Mail: Mail to the following address: Attention: Los Angeles County Behavioral Health Commission\, Vermont Corridor Headquarters\, 510 S. Vermont Avenue\, (22-111)\, Los Angeles\, CA 90020. Must be received 3 days prior to meeting date.\n\nFor more information about this meeting\, please send an email to MHCommission@dmh.lacounty.gov
URL:https://dmh.lacounty.gov/event/behavioral-health-commission-bhc-executive-committee-meeting-feb-26-2026/
LOCATION:DMH Headquarters -Terrace Level Conference Rooms -BH Commission Meetings\, 510 S Vermont Avenue\, 9th Floor\, (T) Level\, Los Angeles\, CA\, 90020\, United States
CATEGORIES:General Events,Online Events,Provider Central,Service Area Events,Veteran Events
ATTACH;FMTTYPE=application/pdf:https://dmh.lacounty.gov/wp-content/uploads/2026/01/BHC-Exe-Comm-Meeting-2-26-26-flyer-1.pdf
END:VEVENT
BEGIN:VEVENT
DTSTART;TZID=America/Los_Angeles:20260226T123000
DTEND;TZID=America/Los_Angeles:20260226T140000
DTSTAMP:20260423T175854
CREATED:20260204T191426Z
LAST-MODIFIED:20260204T191426Z
UID:58157-1772109000-1772114400@dmh.lacounty.gov
SUMMARY:Veteran Fatherhood Group
DESCRIPTION:
URL:https://dmh.lacounty.gov/event/veteran-fatherhood-group-7/
CATEGORIES:Veteran Events
END:VEVENT
BEGIN:VEVENT
DTSTART;TZID=America/Los_Angeles:20260226T140000
DTEND;TZID=America/Los_Angeles:20260226T153000
DTSTAMP:20260423T175854
CREATED:20251231T232510Z
LAST-MODIFIED:20251231T232510Z
UID:56310-1772114400-1772119800@dmh.lacounty.gov
SUMMARY:Service Area 4 Health Neighborhood (Hollywood) Meeting - Feb. 26\, 2026
DESCRIPTION:Join the Meeting on Microsoft Teams \nMeeting ID: 280 042 971 031\nPasscode: 7sp22Gq3 \nFor more information\, email GMendez@dmh.lacounty.gov or visit the Service Area 4 Health Neighborhoods webpage.
URL:https://dmh.lacounty.gov/event/service-area-4-health-neighborhood-hollywood-meeting-feb-26-2026/
CATEGORIES:General Events,Online Events,Service Area 4 Event,Service Area Events
END:VEVENT
END:VCALENDAR