BEGIN:VCALENDAR
VERSION:2.0
PRODID:-//Department of Mental Health - ECPv6.15.20//NONSGML v1.0//EN
CALSCALE:GREGORIAN
METHOD:PUBLISH
X-WR-CALNAME:Department of Mental Health
X-ORIGINAL-URL:https://dmh.lacounty.gov
X-WR-CALDESC:Events for Department of Mental Health
REFRESH-INTERVAL;VALUE=DURATION:PT1H
X-Robots-Tag:noindex
X-PUBLISHED-TTL:PT1H
BEGIN:VTIMEZONE
TZID:America/Los_Angeles
BEGIN:DAYLIGHT
TZOFFSETFROM:-0800
TZOFFSETTO:-0700
TZNAME:PDT
DTSTART:20250309T100000
END:DAYLIGHT
BEGIN:STANDARD
TZOFFSETFROM:-0700
TZOFFSETTO:-0800
TZNAME:PST
DTSTART:20251102T090000
END:STANDARD
BEGIN:DAYLIGHT
TZOFFSETFROM:-0800
TZOFFSETTO:-0700
TZNAME:PDT
DTSTART:20260308T100000
END:DAYLIGHT
BEGIN:STANDARD
TZOFFSETFROM:-0700
TZOFFSETTO:-0800
TZNAME:PST
DTSTART:20261101T090000
END:STANDARD
BEGIN:DAYLIGHT
TZOFFSETFROM:-0800
TZOFFSETTO:-0700
TZNAME:PDT
DTSTART:20270314T100000
END:DAYLIGHT
BEGIN:STANDARD
TZOFFSETFROM:-0700
TZOFFSETTO:-0800
TZNAME:PST
DTSTART:20271107T090000
END:STANDARD
END:VTIMEZONE
BEGIN:VEVENT
DTSTART;TZID=America/Los_Angeles:20260204T120000
DTEND;TZID=America/Los_Angeles:20260204T130000
DTSTAMP:20260421T085031
CREATED:20260204T185623Z
LAST-MODIFIED:20260204T185623Z
UID:58139-1770206400-1770210000@dmh.lacounty.gov
SUMMARY:Veteran Group Support (Weekly)
DESCRIPTION:
URL:https://dmh.lacounty.gov/event/veteran-group-support-weekly-19/
LOCATION:VPAN JVS SoCal – South El Monte\, 1180 Durfee Ave Ste 200\, South El Monte\, CA\, 91733\, United States
CATEGORIES:Veteran Events
END:VEVENT
BEGIN:VEVENT
DTSTART;TZID=America/Los_Angeles:20260204T140000
DTEND;TZID=America/Los_Angeles:20260204T160000
DTSTAMP:20260421T085031
CREATED:20251202T222311Z
LAST-MODIFIED:20251202T222311Z
UID:53664-1770213600-1770220800@dmh.lacounty.gov
SUMMARY:American Indian/Alaska Native (AI/AN) UsCC Meeting – February 4\, 2026
DESCRIPTION:Join the meeting now\nMeeting ID: 280 220 623 661 2\nPasscode: 9hD7X6tz \n\n\n\n\n\n\nDial in by phone\n+1 323-776-6996\,\,420568261# United States\, Los Angeles\nFind a local number\nPhone conference ID: 420 568 261# \n\n\n\n\n\n\nVisit LACDMH’s Access for AI/AN UsCC page for meeting details and to learn more about this UsCC group. \nFor more information about this meeting\, please email AIANUsCC@dmh.lacounty.gov.
URL:https://dmh.lacounty.gov/event/american-indian-alaska-native-ai-an-uscc-meeting-february-4-2026/
LOCATION:CA
CATEGORIES:General Events,Online Events
END:VEVENT
BEGIN:VEVENT
DTSTART;TZID=America/Los_Angeles:20260204T180000
DTEND;TZID=America/Los_Angeles:20260204T193000
DTSTAMP:20260421T085031
CREATED:20260109T224105Z
LAST-MODIFIED:20260109T224105Z
UID:56960-1770228000-1770233400@dmh.lacounty.gov
SUMMARY:Service Area 6 "Beyond the Walls" - Feb. 4\, 2026
DESCRIPTION:Beyond the Walls (BtW) offers a safe and inclusive forum where your voice matters. Even if you can’t attend regular meetings\, your ideas can still influence your community’s future. BtW provides valuable resources\, and education while promoting wellness and connection across Los Angeles County. Please join us to hear more information and to share your feedback! \nNo RSVP is needed to attend. Send questions to BeyondWalls@dmh.lacounty.gov. ADA accommodation requests must be emailed 14 days prior to the event. \nRefer to this flyer for upcoming BtW events across all eight service areas.
URL:https://dmh.lacounty.gov/event/service-area-6-beyond-the-walls-feb-4-2026/
LOCATION:A.C. Bilbrew Library\, 150 E El Segundo Blvd\, Los Angeles\, CA\, 90061\, United States
CATEGORIES:General Events,Service Area 6 Event,Service Area Events
END:VEVENT
END:VCALENDAR