BEGIN:VCALENDAR
VERSION:2.0
PRODID:-//Department of Mental Health - ECPv6.15.20//NONSGML v1.0//EN
CALSCALE:GREGORIAN
METHOD:PUBLISH
X-ORIGINAL-URL:https://dmh.lacounty.gov
X-WR-CALDESC:Events for Department of Mental Health
REFRESH-INTERVAL;VALUE=DURATION:PT1H
X-Robots-Tag:noindex
X-PUBLISHED-TTL:PT1H
BEGIN:VTIMEZONE
TZID:America/Los_Angeles
BEGIN:DAYLIGHT
TZOFFSETFROM:-0800
TZOFFSETTO:-0700
TZNAME:PDT
DTSTART:20220313T100000
END:DAYLIGHT
BEGIN:STANDARD
TZOFFSETFROM:-0700
TZOFFSETTO:-0800
TZNAME:PST
DTSTART:20221106T090000
END:STANDARD
BEGIN:DAYLIGHT
TZOFFSETFROM:-0800
TZOFFSETTO:-0700
TZNAME:PDT
DTSTART:20230312T100000
END:DAYLIGHT
BEGIN:STANDARD
TZOFFSETFROM:-0700
TZOFFSETTO:-0800
TZNAME:PST
DTSTART:20231105T090000
END:STANDARD
BEGIN:DAYLIGHT
TZOFFSETFROM:-0800
TZOFFSETTO:-0700
TZNAME:PDT
DTSTART:20240310T100000
END:DAYLIGHT
BEGIN:STANDARD
TZOFFSETFROM:-0700
TZOFFSETTO:-0800
TZNAME:PST
DTSTART:20241103T090000
END:STANDARD
END:VTIMEZONE
BEGIN:VEVENT
DTSTART;TZID=America/Los_Angeles:20231117T093000
DTEND;TZID=America/Los_Angeles:20231117T123000
DTSTAMP:20260425T151510
CREATED:20231116T010825Z
LAST-MODIFIED:20231116T010937Z
UID:23903-1700213400-1700224200@dmh.lacounty.gov
SUMMARY:MHSA Stakeholders Community Planning Team Meeting - Nov. 17\, 2023
DESCRIPTION:MHSA Stakeholders Community Planning Team (CPT) Meeting – November 17\, 2023 \nWe look forward to seeing you at the upcoming in-person-only Community Planning Team (CPT) meeting on Friday\, November 17\, 2023\, from 9:30 a.m. – 12:30 p.m. to continue our planning efforts for the MHSA Three-Year Plan for fiscal years 2024-25 and 2025-26. \nThe meeting will be held at St. Anne’s Conference Center\, 155 N. Occidental Blvd.\, Los Angeles\, CA\, 90026. Although Friday’s session will be in-person only\, you can follow the session virtually using the following links: \nFor those who want to listen to the PEI Workgroup session\, here’s the MS Teams link: Click here to join the meeting \nOr call in (audio only) +1 323-776-6996\,\,236195697#\nPhone Conference ID: 236 195 697# \nFor those who want to listen to the CSC Workgroup session\, here’s the MS Teams link: Click here to join the meeting \nOr call in (audio only) +1 323-776-6996\,\,568511692#\nPhone Conference ID: 568 511 692# \nMeeting Materials: \nCPT Session Agenda (English/Spanish)\nPEI Programs (English/Spanish)\nPEI Category 3 (English/Spanish)\nCSC Recommendations (English/Spanish) \nAs a reminder\, we have two remaining sessions. \n\n\n\nDATES\nGROUP\nMODE\nLOCATION\n\n\nDecember 5\nCPT\nIn-Person Only\nSt. Anne’s Conference Center\n\n\nDecember 15\nCPT\nIn-Person Only\nSt. Anne’s Conference Center\n\n\n\nShould you wish to join our mailing list\, please subscribe at:\nhttps://public.govdelivery.com/accounts/CALACOUNTY/subscriber/new?topic_id=CALACOUNTY_2952 \n  \nReunión del equipo de planificación comunitaria de MHSA – Viernes 17 de Noviembre 2023\, de 9:30 a.m. a 12:30 p.m. en el Centro de Conferencias de St. Anne’s \nEsperamos verlos en la próxima reunión presencial del Equipo de Planificación Comunitaria (CPT) el viernes 17 de Noviembre del 2023\, de 9:30 a.m. a 12:30 p.m. para continuar nuestros esfuerzos de planificación para el Plan Trienal de la MHSA para los años fiscales 2024-25 y 2025-26. \nLa reunión se llevará a cabo en el Centro de Conferencias St. Anne’s\, 155 N. Occidental Blvd.\, Los Ángeles\, CA\, 90026. Aunque la sesión del martes será solo en persona\, puede seguir la sesión virtualmente utilizando el siguiente enlaces: \nPara aquellos que quieran escuchar la sesión del grupo de trabajo PEI\, aquí está el enlace de MS Teams: Click here to join the meeting \nLlamada (solo audio) +1 323-776-6996\,\,236195697#\nIdentificación de llamada de conferencia: 236 195 697# \nPara aquellos que quieran escuchar la sesión del grupo de trabajo CSC\, aquí está el enlace de MS Teams: Click here to join the meeting \nLlamada (solo audio) +1 323-776-6996\,\,568511692#\nIdentificación de llamada de conferencia: : 568 511 692# \nMeeting Materials: \nCPT Session Agenda (English/Spanish)\nPEI Programs (English/Spanish)\nPEI Category 3 (English/Spanish)\nCSC Recommendations (English/Spanish) \nA modo de recordatorio\, nos quedan dos sesiones. \n\n\n\nFECHAS\nGRUPO\nMODO\nUBICACIÓN\n\n\n5 de diciembre\nCPT\nSolo en persona\nSt. Anne’s Conference Center\n\n\n15 de diciembre\nCPT\nSolo en persona\nSt. Anne’s Conference Center
URL:https://dmh.lacounty.gov/event/mhsa-community-planning-team-stakeholders-meeting-nov-17-2023/
LOCATION:St. Anne’s\, 155 N. Occidental Blvd.\, Los Angeles\, CA\, 90026\, United States
CATEGORIES:General Events
END:VEVENT
END:VCALENDAR