BEGIN:VCALENDAR
VERSION:2.0
PRODID:-//Department of Mental Health - ECPv6.15.20//NONSGML v1.0//EN
CALSCALE:GREGORIAN
METHOD:PUBLISH
X-ORIGINAL-URL:https://dmh.lacounty.gov
X-WR-CALDESC:Events for Department of Mental Health
REFRESH-INTERVAL;VALUE=DURATION:PT1H
X-Robots-Tag:noindex
X-PUBLISHED-TTL:PT1H
BEGIN:VTIMEZONE
TZID:America/Los_Angeles
BEGIN:DAYLIGHT
TZOFFSETFROM:-0800
TZOFFSETTO:-0700
TZNAME:PDT
DTSTART:20220313T100000
END:DAYLIGHT
BEGIN:STANDARD
TZOFFSETFROM:-0700
TZOFFSETTO:-0800
TZNAME:PST
DTSTART:20221106T090000
END:STANDARD
BEGIN:DAYLIGHT
TZOFFSETFROM:-0800
TZOFFSETTO:-0700
TZNAME:PDT
DTSTART:20230312T100000
END:DAYLIGHT
BEGIN:STANDARD
TZOFFSETFROM:-0700
TZOFFSETTO:-0800
TZNAME:PST
DTSTART:20231105T090000
END:STANDARD
BEGIN:DAYLIGHT
TZOFFSETFROM:-0800
TZOFFSETTO:-0700
TZNAME:PDT
DTSTART:20240310T100000
END:DAYLIGHT
BEGIN:STANDARD
TZOFFSETFROM:-0700
TZOFFSETTO:-0800
TZNAME:PST
DTSTART:20241103T090000
END:STANDARD
END:VTIMEZONE
BEGIN:VEVENT
DTSTART;TZID=America/Los_Angeles:20230905T090000
DTEND;TZID=America/Los_Angeles:20230905T120000
DTSTAMP:20260423T030832
CREATED:20230830T001035Z
LAST-MODIFIED:20230830T001138Z
UID:23296-1693904400-1693915200@dmh.lacounty.gov
SUMMARY:MHSA Community Planning Team Meeting - Sep. 5\, 2023
DESCRIPTION:MHSA Community Planning Team Meeting – September 5\, 2023\, 9 a.m. to noon \nWe look forward to seeing you at the upcoming Community Planning Team (CPT) meeting on Tuesday\, September 5\, 2023\, to continue our planning efforts for the MHSA Three-Year Plan for fiscal years 2024-25 and 2025-26. \nThe upcoming session will be in-person only. If you are unable to attend\, please contact us by this Thursday\, August 31st at communitystakeholder@dmh.lacounty.gov to provide us the name of your alternate. You can also observe the session virtually via the following link: \nClick here to join the meeting\nMeeting ID: 245 923 839 837 | Passcode: uWctrb\nOr call in (audio only): +1 323-776-6996\,\,865836491#\nPhone Conference ID: 865 836 491# \n(Anyone can view the session\, but only people attending the session in-person will be able to participate in the discussions.) \nTo recap\, the July and August sessions focused on three foundational topics to onboard CPT members: \n\nThe structure of the community planning process for the MHSA Three-Year Plan for FY 2024-25 and 2025-26;\nThe MHSA components (Prevention and Early Intervention; Community Supports and Services; Workforce Education and Training; Innovations; and Information Technology/Capital Facilities); and\nPopulation and client data pertaining to DMH and MHSA.\n\nMaterials for these sessions can be accessed here: MHSA Announcements – Department of Mental Health (lacounty.gov). \nThe purpose of the two September sessions is to obtain and analyze community stakeholder input for each of the workgroup areas: \n\nPrevention and Early Intervention (PEI): Focuses on building protective factors\, preventing trauma\, eliminating mental health stigma\, and intervening at the early onset of mental health challenges. Strategies include prevention\, suicide prevention\, early intervention\, stigma and discrimination reduction\, and outreach to increase recognition of early signs of mental illness.\nCommunity Supports Continuum (CSC): Promotes recovery\, hope\, and well-being for individuals experiencing serious mental health challenges through a continuum of community supports that includes the following: urgent/emergency services; intensive services; outpatient care services; and access points.\nHomeless Services and Housing Resources (HSHR): Provides mental health services and housing resources for individuals experiencing serious mental health challenges through Homeless Services (i.e.\, outreach and treatment; and housing supports) and Housing Resources (i.e.\, short-term interim housing; and long-term permanent supportive housing).\nWorkforce Education and Training (WET): Focuses on recruiting and sustaining a highly qualified and talented workforce for the public mental health system in order to deliver culturally competent\, congruent\, and effective services for linguistically and culturally diverse mental health consumers who meet Specialty Mental Health service criteria.\n\nWe encourage all CPT members to consult their constituencies in September to develop a clear list of their community’s needs with regards to each of the aforementioned areas (i.e.\, PEI\, CSC\, HSHR\, and WET). At the beginning of the September 5th session\, community stakeholders will be asked to share their community’s specific needs within each area. There will be additional opportunities in future sessions to provide more input. Below is a calendar of the remaining sessions. All sessions are from 9AM-12 PM. The in-person session will all be held at St. Anne’s Conference Center. \n\n\n\nDATES\nGROUP\n MODE\n\n\nSeptember 5\nCPT\n In Person Only\n\n\nSeptember 22\nWorkgroups\n Online Only\n\n\nOctober 3\nCPT\n In Person Only\n\n\nOctober 27\nWorkgroups\nOnline Only\n\n\nNovember 7\nCPT\n In Person Only\n\n\nNovember 17\nWorkgroups\nIn Person Only\n\n\nDecember 5\nCPT\n In Person Only\n\n\nDecember 15\nCPT\nIn Person Only\n\n\n\nThe Workgroups will meet at the following times: \n\n\n\nTIME\nWORKGROUPS\n\n\n9:00-10:30\nPEI\nCSC\n\n\n10:30-12:00\nWET\nHSHR\n\n\n\nPlease review the below material in preparation for this meeting. If you have any questions about this message\, please reach out to at MHSAAdmin@dmh.lacounty.gov. \n\nMeeting Agenda (English/Spanish)\nMeeting Slides (English/Spanish)\n\n___________________________________________________________________ \nReunión presencial del CPT – Martes 5 de septiembre de 9 a 12 p.m. \nEsperamos verlos en la próxima reunión del Equipo de Planificación Comunitaria (CPT\, siglas en inglés) el martes 5 de septiembre de 2023\, para continuar nuestros esfuerzos de planificación para el Plan Trienal de MHSA para los años fiscales 2024-25 y 2025-26.  \nLa próxima sesión será solo en persona. Si no puede asistir\, contáctenos este jueves 31 de agosto a communitystakeholder@dmh.lacounty.gov para proporcionarnos el nombre de su suplente. También puede observar la sesión virtualmente a través del siguiente enlace: \nHaga clic aquí para unirse a la reunión\nID de reunión: 245 923 839 837 | Código de acceso: uWctrb\nO llame (solo audio): +1 323-776-6996\,\,865836491#\nID de conferencia telefónica: 865 836 491# \n(Cualquiera puede ver la sesión\, pero solo las personas que asistan a la sesión en persona podrán participar en las discusiones). \nPara recapitular\, las sesiones de julio y agosto se centraron en tres temas fundamentales para incorporar a los miembros del CPT: \n\nLa estructura del proceso de planificación comunitaria para el Plan Trienal de MHSA para los años fiscales 2024-25 y 2025-26;\nLos componentes de MHSA (Prevención e Intervención Temprana; Apoyos y Servicios Comunitarios; Educación y Capacitación de la Fuerza Laboral; Innovaciones; y Tecnología de la Información/Instalaciones de Inmobiliario); y\nDatos de población y clientes relacionados con DMH y MHSA.\n\nSe puede acceder a los materiales para estas sesiones aquí: Anuncios de MHSA – Departamento de Salud Mental (lacounty.gov). \nEl propósito de las dos sesiones de septiembre es obtener y analizar los aportes de las partes interesadas de la comunidad para cada una de las áreas de los equipos de trabajo: \n\nPrevención e intervención temprana (PEI): Se enfoca  en desarrollar factores de protección\, prevenir traumas\, eliminar el estigma de salud mental e intervenir en el inicio temprano de los desafíos de salud mental. Las estrategias incluyen prevención\, prevención del suicidio\, intervención temprana\, reducción del estigma y la discriminación\, y divulgación para aumentar el reconocimiento de los signos tempranos de enfermedad mental.\nContinuo de apoyos comunitario (CSC): Promueve la recuperación\, la esperanza y el bienestar de las personas que experimentan serios desafíos de salud mental a través de un continuo de apoyos comunitarios que incluye lo siguiente: servicios de urgencia / emergencia; servicios intensivos; servicios de atención ambulatoria; y puntos de acceso.\nServicios para personas sin hogar y recursos de vivienda (HSHR): Proporciona servicios de salud mental y recursos de vivienda  para personas que experimentan serios problemas de salud mental a través de Servicios para personas sin hogar (es decir\, alcance y tratamiento; y apoyos de vivienda) y Recursos de vivienda (es decir\, vivienda provisional a corto plazo; y vivienda de apoyo permanente a largo plazo).\nEducación y capacitación de la fuerza laboral (WET): Se enfoca en reclutar y mantener una fuerza laboral altamente calificada y talentosa para el sistema público de salud mental con el fin de brindar servicios culturalmente competentes\, congruentes y efectivos para consumidores de salud mental lingüística y culturalmente diversos que cumplen con los criterios de servicios especializados de salud mental.\n\nAlentamos a todos los miembros del CPT a consultar a sus comunidades en septiembre para desarrollar una lista clara de las necesidades de su comunidad con respecto a cada una de las áreas mencionadas (es decir\, PEI\, CSC\, HSHR y WET). Al comienzo de la sesión del 5 de septiembre\, se pedirá a las partes interesadas de la comunidad que compartan las necesidades específicas de su comunidad dentro de cada área. Habrá oportunidades adicionales en futuras sesiones para hacer más aportaciones. A continuación se muestra un calendario de las sesiones restantes. Todas las sesiones son de 9 AM a 12 PM. La sesión en persona se llevará a cabo en el Centro de Conferencias de St. Anne’s. \n\n\n\nFECHAS\nGRUPO\nMODO\n\n\n5 de septiembre\nCPT\nSolo en persona\n\n\n22 de septiembre\nGrupos de trabajo\n Solo en línea\n\n\n3 de octubre\nCPT\nSolo en persona\n\n\n27 de octubre\nGrupos de trabajo\nSolo en línea\n\n\n7 de noviembre\nCPT\nSolo en persona\n\n\n17 de noviembre\nGrupos de trabajo\nSolo en persona\n\n\n5 de diciembre\nCPT\nSolo en persona\n\n\n15 de diciembre\nCPT\nSolo en persona\n\n\n\nLos Grupos de Trabajo se reunirán en los siguientes horarios: \n\n\n\nHORA\nGRUPOS DE TRABAJO\n\n\n9:00-10:30\nPEI\nCSC\n\n\n10:30-12:00\nWET\nHSHR\n\n\n\nSírvase revisar el material adjunto en preparación para esta reunión. Si tiene alguna pregunta sobre este mensaje\, comuníquese con al MHSAAdmin@dmh.lacounty.gov. \n\nMeeting Agenda (English/Spanish)\nMeeting Slides (English/Spanish)
URL:https://dmh.lacounty.gov/event/mhsa-community-planning-team-meeting-sep-5-2023/
LOCATION:St. Anne’s\, 155 N. Occidental Blvd.\, Los Angeles\, CA\, 90026\, United States
CATEGORIES:General Events,Online Events
END:VEVENT
END:VCALENDAR