BEGIN:VCALENDAR
VERSION:2.0
PRODID:-//Department of Mental Health - ECPv6.15.20//NONSGML v1.0//EN
CALSCALE:GREGORIAN
METHOD:PUBLISH
X-ORIGINAL-URL:https://dmh.lacounty.gov
X-WR-CALDESC:Events for Department of Mental Health
REFRESH-INTERVAL;VALUE=DURATION:PT1H
X-Robots-Tag:noindex
X-PUBLISHED-TTL:PT1H
BEGIN:VTIMEZONE
TZID:UTC
BEGIN:STANDARD
TZOFFSETFROM:+0000
TZOFFSETTO:+0000
TZNAME:UTC
DTSTART:20220101T000000
END:STANDARD
END:VTIMEZONE
BEGIN:VEVENT
DTSTART;TZID=UTC:20230815T140000
DTEND;TZID=UTC:20230815T160000
DTSTAMP:20260419T185740
CREATED:20230125T154904Z
LAST-MODIFIED:20230125T154904Z
UID:21178-1692108000-1692115200@dmh.lacounty.gov
SUMMARY:Latino UsCC Meeting - Aug. 15\, 2023
DESCRIPTION:Latino Underserved Cultural Community (UsCC) Meeting \nVirtual Conference:\nJoin Meeting via MS Teams \nCall In Information:\nEnglish: (888) 204-5987\, access code 9639884\nSpanish: (323) 776-6996\, access code 136 757 960# \nCART Link:\nhttps://www.streamtext.net/player?event=UsCC-LATINO \nFor more information about this meeting\, please email LatinoUsCC@dmh.lacounty.gov. \nLearn more about LACDMH’s UsCC Unit \n 
URL:https://dmh.lacounty.gov/event/latino-uscc-meeting-aug-15-2023/
LOCATION:Online
CATEGORIES:General Events,Online Events
END:VEVENT
END:VCALENDAR