BEGIN:VCALENDAR
VERSION:2.0
PRODID:-//Department of Mental Health - ECPv6.15.20//NONSGML v1.0//EN
CALSCALE:GREGORIAN
METHOD:PUBLISH
X-WR-CALNAME:Department of Mental Health
X-ORIGINAL-URL:https://dmh.lacounty.gov
X-WR-CALDESC:Events for Department of Mental Health
REFRESH-INTERVAL;VALUE=DURATION:PT1H
X-Robots-Tag:noindex
X-PUBLISHED-TTL:PT1H
BEGIN:VTIMEZONE
TZID:UTC
BEGIN:STANDARD
TZOFFSETFROM:+0000
TZOFFSETTO:+0000
TZNAME:UTC
DTSTART:20210101T000000
END:STANDARD
END:VTIMEZONE
BEGIN:VEVENT
DTSTART;TZID=UTC:20221129T110000
DTEND;TZID=UTC:20221129T140000
DTSTAMP:20260425T112101
CREATED:20221117T192032Z
LAST-MODIFIED:20221117T192032Z
UID:20364-1669719600-1669730400@dmh.lacounty.gov
SUMMARY:SA 4 PRC & AICC 6th Annual Native American/Alaskan Native Heritage Month Celebration
DESCRIPTION:SA 4 Peer Resource Center and American Indian Counseling Center Presents: \n6th Annual Native American/Alaskan Native Heritage Month Celebration\nLos Angeles County Department of Mental Health Headquarters\n510 S. Vermont Ave.\, Terrace Level (9th Floor)\nLos Angeles\, CA 90020 \nEveryone is welcome to join us for an exciting day with guest speaker\, Joseph Quintana\, from United American Indian Involvement\, Inc. to discuss the history of Native American month\, American Indian health and mental health services\, and successful community outcomes. \nWe will also have: \n\nWildhorse Drum Group\nJingle Dress Dancer\nTeaching of the Teepee\nAmerican Indian community resources\nRaffles and more!\n\nLunch is provided. RSVP here: forms.office.com/g/6LU9A1DAHa. \nView flyer here. If you have questions about this event\, please call us at 213.351.1934. \n  \nThe drum is our heartbeat\, the dancer is us\, starting to do the dance of life again\, renewing our commitment to our people. \n 
URL:https://dmh.lacounty.gov/event/sa-4-prc-aicc-6th-annual-native-american-alaskan-native-heritage-month-celebration/
LOCATION:DMH Headquarters\, Terrace Level\, 510 S. Vermont Ave.\, 9th Floor\, Los Angeles\, CA\, 90020\, United States
CATEGORIES:General Events,Service Area 4 Event
END:VEVENT
END:VCALENDAR