BEGIN:VCALENDAR
VERSION:2.0
PRODID:-//Department of Mental Health - ECPv6.15.20//NONSGML v1.0//EN
CALSCALE:GREGORIAN
METHOD:PUBLISH
X-WR-CALNAME:Department of Mental Health
X-ORIGINAL-URL:https://dmh.lacounty.gov
X-WR-CALDESC:Events for Department of Mental Health
REFRESH-INTERVAL;VALUE=DURATION:PT1H
X-Robots-Tag:noindex
X-PUBLISHED-TTL:PT1H
BEGIN:VTIMEZONE
TZID:America/Los_Angeles
BEGIN:DAYLIGHT
TZOFFSETFROM:-0800
TZOFFSETTO:-0700
TZNAME:PDT
DTSTART:20210314T100000
END:DAYLIGHT
BEGIN:STANDARD
TZOFFSETFROM:-0700
TZOFFSETTO:-0800
TZNAME:PST
DTSTART:20211107T090000
END:STANDARD
BEGIN:DAYLIGHT
TZOFFSETFROM:-0800
TZOFFSETTO:-0700
TZNAME:PDT
DTSTART:20220313T100000
END:DAYLIGHT
BEGIN:STANDARD
TZOFFSETFROM:-0700
TZOFFSETTO:-0800
TZNAME:PST
DTSTART:20221106T090000
END:STANDARD
BEGIN:DAYLIGHT
TZOFFSETFROM:-0800
TZOFFSETTO:-0700
TZNAME:PDT
DTSTART:20230312T100000
END:DAYLIGHT
BEGIN:STANDARD
TZOFFSETFROM:-0700
TZOFFSETTO:-0800
TZNAME:PST
DTSTART:20231105T090000
END:STANDARD
END:VTIMEZONE
BEGIN:VTIMEZONE
TZID:UTC
BEGIN:STANDARD
TZOFFSETFROM:+0000
TZOFFSETTO:+0000
TZNAME:UTC
DTSTART:20210101T000000
END:STANDARD
END:VTIMEZONE
BEGIN:VEVENT
DTSTART;TZID=America/Los_Angeles:20221007T100000
DTEND;TZID=America/Los_Angeles:20221007T120000
DTSTAMP:20260423T022123
CREATED:20220128T223628Z
LAST-MODIFIED:20220128T223628Z
UID:15915-1665136800-1665144000@dmh.lacounty.gov
SUMMARY:SALT 8 Meeting - Oct. 07\, 2022
DESCRIPTION:Service Area Leadership Team 8 (SALT 8) Meeting \nVirtual Conference:\nJoin Meeting via MS Teams \nCall In Information:\nEnglish: (323) 776-6996\, access code 436 128 380#\nSpanish: (888) 204-5987\, código de acceso 9639884# \nCART Link:\nhttps://www.streamtext.net/player?event=SALT-8 \nFor more information about this meeting\, please email SALT8@dmh.lacounty.gov.
URL:https://dmh.lacounty.gov/event/salt-8-meeting-oct-07-2022/
LOCATION:Online
CATEGORIES:General Events
END:VEVENT
BEGIN:VEVENT
DTSTART;TZID=UTC:20221007T110000
DTEND;TZID=UTC:20221007T130000
DTSTAMP:20260423T022123
CREATED:20221013T180215Z
LAST-MODIFIED:20221013T180215Z
UID:19821-1665140400-1665147600@dmh.lacounty.gov
SUMMARY:Grupo De Apoyo - Oct. 7\, 2022
DESCRIPTION:This event recurs ever Friday of the month and takes place from 11 a.m. to 1 p.m. \n\nSupport Group in Spanish is offered in person or virtual (hybrid). The group is free and open to the entire community. Share a space of understanding and mutual support with us. Learn about the resources available to better help you and your loved ones.  This group will be held virtually via Microsoft Teams and in person at Rio Hondo Centro de Bienestar.  Please RSVP to SA7PRC@dmh.lacounty.gov to receive a virtual meeting link or to register for in person attendance.
URL:https://dmh.lacounty.gov/event/grupo-de-apoyo-oct-7-2022/
LOCATION:Rio Hondo Centro de Bienestar\, 6330 Rugby\, Ste 200\, Huntington Park\, CA\, 90255\, United States
CATEGORIES:Online Events,Service Area 7 Event
END:VEVENT
BEGIN:VEVENT
DTSTART;TZID=UTC:20221007T153000
DTEND;TZID=UTC:20221007T163000
DTSTAMP:20260423T022123
CREATED:20220926T164903Z
LAST-MODIFIED:20221013T212316Z
UID:19796-1665156600-1665160200@dmh.lacounty.gov
SUMMARY:Afternoon Mindfulness - Oct. 7\, 2022
DESCRIPTION:This event recurs every Friday of the month and takes place from 3:30 p.m.  to 4:30 p.m. \nService Area 7 Peer Resources Center invites community members ages 18+\, to join us for virtual workshops sessions dedicated to mindfulness techniques. During this workshop community members will learn about experiential exercises including\, breathing exercises\, body awareness\, walking meditations\, the art of compassion\, and much more. This group will be held virtually via Microsoft Teams and in person at Rio Hondo Centro de Bienestar.  Please RSVP to SA7PRC@dmh.lacounty.gov to receive a virtual meeting link or to register for in person attendance.
URL:https://dmh.lacounty.gov/event/afternoon-mindfulness-oct-7-2022/
LOCATION:Rio Hondo Centro de Bienestar\, 6330 Rugby\, Ste 200\, Huntington Park\, CA\, 90255\, United States
CATEGORIES:Online Events,Service Area 7 Event
END:VEVENT
END:VCALENDAR