BEGIN:VCALENDAR
VERSION:2.0
PRODID:-//Department of Mental Health - ECPv6.15.20//NONSGML v1.0//EN
CALSCALE:GREGORIAN
METHOD:PUBLISH
X-WR-CALNAME:Department of Mental Health
X-ORIGINAL-URL:https://dmh.lacounty.gov
X-WR-CALDESC:Events for Department of Mental Health
REFRESH-INTERVAL;VALUE=DURATION:PT1H
X-Robots-Tag:noindex
X-PUBLISHED-TTL:PT1H
BEGIN:VTIMEZONE
TZID:America/Los_Angeles
BEGIN:DAYLIGHT
TZOFFSETFROM:-0800
TZOFFSETTO:-0700
TZNAME:PDT
DTSTART:20210314T100000
END:DAYLIGHT
BEGIN:STANDARD
TZOFFSETFROM:-0700
TZOFFSETTO:-0800
TZNAME:PST
DTSTART:20211107T090000
END:STANDARD
BEGIN:DAYLIGHT
TZOFFSETFROM:-0800
TZOFFSETTO:-0700
TZNAME:PDT
DTSTART:20220313T100000
END:DAYLIGHT
BEGIN:STANDARD
TZOFFSETFROM:-0700
TZOFFSETTO:-0800
TZNAME:PST
DTSTART:20221106T090000
END:STANDARD
BEGIN:DAYLIGHT
TZOFFSETFROM:-0800
TZOFFSETTO:-0700
TZNAME:PDT
DTSTART:20230312T100000
END:DAYLIGHT
BEGIN:STANDARD
TZOFFSETFROM:-0700
TZOFFSETTO:-0800
TZNAME:PST
DTSTART:20231105T090000
END:STANDARD
END:VTIMEZONE
BEGIN:VEVENT
DTSTART;TZID=America/Los_Angeles:20220927T150000
DTEND;TZID=America/Los_Angeles:20220927T170000
DTSTAMP:20260420T182451
CREATED:20220128T205545Z
LAST-MODIFIED:20220128T205545Z
UID:15857-1664290800-1664298000@dmh.lacounty.gov
SUMMARY:SALT 5 Meeting - Sept. 27\, 2022
DESCRIPTION:Service Area Leadership Team 5 (SALT 5) Meeting \nVirtual Conference:\nJoin Meeting via MS Teams \nCall In Information:\nEnglish: (323) 776-6996\, access code 321 589 225#\nSpanish: (888) 204-5987\, código de acceso 9639884# \nCART Link:\nhttps://www.streamtext.net/player?event=SALT-5 \nFor more information about this meeting\, please email SALT5@dmh.lacounty.gov.
URL:https://dmh.lacounty.gov/event/salt-5-meeting-sept-27-2022/
LOCATION:Online
CATEGORIES:General Events
END:VEVENT
END:VCALENDAR