BEGIN:VCALENDAR
VERSION:2.0
PRODID:-//Department of Mental Health - ECPv6.15.20//NONSGML v1.0//EN
CALSCALE:GREGORIAN
METHOD:PUBLISH
X-WR-CALNAME:Department of Mental Health
X-ORIGINAL-URL:https://dmh.lacounty.gov
X-WR-CALDESC:Events for Department of Mental Health
REFRESH-INTERVAL;VALUE=DURATION:PT1H
X-Robots-Tag:noindex
X-PUBLISHED-TTL:PT1H
BEGIN:VTIMEZONE
TZID:America/Los_Angeles
BEGIN:DAYLIGHT
TZOFFSETFROM:-0800
TZOFFSETTO:-0700
TZNAME:PDT
DTSTART:20210314T100000
END:DAYLIGHT
BEGIN:STANDARD
TZOFFSETFROM:-0700
TZOFFSETTO:-0800
TZNAME:PST
DTSTART:20211107T090000
END:STANDARD
BEGIN:DAYLIGHT
TZOFFSETFROM:-0800
TZOFFSETTO:-0700
TZNAME:PDT
DTSTART:20220313T100000
END:DAYLIGHT
BEGIN:STANDARD
TZOFFSETFROM:-0700
TZOFFSETTO:-0800
TZNAME:PST
DTSTART:20221106T090000
END:STANDARD
BEGIN:DAYLIGHT
TZOFFSETFROM:-0800
TZOFFSETTO:-0700
TZNAME:PDT
DTSTART:20230312T100000
END:DAYLIGHT
BEGIN:STANDARD
TZOFFSETFROM:-0700
TZOFFSETTO:-0800
TZNAME:PST
DTSTART:20231105T090000
END:STANDARD
END:VTIMEZONE
BEGIN:VEVENT
DTSTART;TZID=America/Los_Angeles:20220609T093000
DTEND;TZID=America/Los_Angeles:20220609T093000
DTSTAMP:20260423T023558
CREATED:20220128T194232Z
LAST-MODIFIED:20220128T194232Z
UID:15790-1654767000-1654767000@dmh.lacounty.gov
SUMMARY:SALT 2 Meeting - June 09\, 2022
DESCRIPTION:Service Area Leadership Team 2 (SALT 2) Meeting \nVirtual Conference:\nJoin Meeting via MS Teams \nCall In Information:\nEnglish: (323) 776-6996\, access code 795 951 062#\nSpanish: (888) 204-5987\, código de acceso 9639884# \nCART Link:\nhttps://www.streamtext.net/player?event=SALT-2 \nFor more information about this meeting\, please email SALT2@dmh.lacounty.gov.
URL:https://dmh.lacounty.gov/event/salt-2-meeting-june-09-2022/
LOCATION:Online
CATEGORIES:General Events
END:VEVENT
BEGIN:VEVENT
DTSTART;TZID=America/Los_Angeles:20220609T120000
DTEND;TZID=America/Los_Angeles:20220609T140000
DTSTAMP:20260423T023558
CREATED:20210911T003806Z
LAST-MODIFIED:20220606T184846Z
UID:14290-1654776000-1654783200@dmh.lacounty.gov
SUMMARY:MHC Executive Committee Meeting - Jun. 09\, 2022
DESCRIPTION:Please view agenda in both English and Spanish. \nDue to COVID-19\, until further notice\, the Mental Health Commission will hold all meetings through virtual teleconference platforms. \nFor more information about this meeting\, please email MHCommission@dmh.lacounty.gov. \nFor Live CART Captioning please click on the following link: MHC-EXECUTIVECOMMITTEE : Real Time Text (streamtext.net) \nLive Meeting Link: https://teams.microsoft.com/l/meetup-join/19%3ameeting_NTg2MWU2NTQtNGUyOS00YmViLTkyYjEtMWRiYjM4OTUwMDJl%40thread.v2/0?context=%7b%22Tid%22%3a%2207597248-ea38-451b-8abe-a638eddbac81%22%2c%22Oid%22%3a%226829d411-dcc3-4715-9a94-fa36ac9c9e4c%22%2c%22IsBroadcastMeeting%22%3atrue%7d&btype=a&role=a. \n 
URL:https://dmh.lacounty.gov/event/mhc-executive-committee-meeting-jun-09-2022/
LOCATION:Online
CATEGORIES:General Events
END:VEVENT
BEGIN:VEVENT
DTSTART;TZID=America/Los_Angeles:20220609T140000
DTEND;TZID=America/Los_Angeles:20220609T160000
DTSTAMP:20260423T023558
CREATED:20220128T200315Z
LAST-MODIFIED:20220606T175747Z
UID:15810-1654783200-1654790400@dmh.lacounty.gov
SUMMARY:SALT 3 Meeting - June 09\, 2022
DESCRIPTION:Service Area Leadership Team 3 (SALT 3) Meeting \nVirtual Conference:\nJoin Meeting via MS Teams \nCall In Information:\nEnglish: (323) 776-6996\, access code 563 246 482#\nSpanish: (888) 204-5987\, código de acceso 9639884# \nCART Link:\nhttps://www.streamtext.net/player?event=SALT-3 \nFor more information about this meeting\, please email SALT3@dmh.lacounty.gov.
URL:https://dmh.lacounty.gov/event/salt-3-meeting-june-09-2022/
LOCATION:Online
CATEGORIES:General Events
END:VEVENT
END:VCALENDAR