BEGIN:VCALENDAR
VERSION:2.0
PRODID:-//Department of Mental Health - ECPv6.15.20//NONSGML v1.0//EN
CALSCALE:GREGORIAN
METHOD:PUBLISH
X-ORIGINAL-URL:https://dmh.lacounty.gov
X-WR-CALDESC:Events for Department of Mental Health
REFRESH-INTERVAL;VALUE=DURATION:PT1H
X-Robots-Tag:noindex
X-PUBLISHED-TTL:PT1H
BEGIN:VTIMEZONE
TZID:America/Los_Angeles
BEGIN:DAYLIGHT
TZOFFSETFROM:-0800
TZOFFSETTO:-0700
TZNAME:PDT
DTSTART:20190310T100000
END:DAYLIGHT
BEGIN:STANDARD
TZOFFSETFROM:-0700
TZOFFSETTO:-0800
TZNAME:PST
DTSTART:20191103T090000
END:STANDARD
BEGIN:DAYLIGHT
TZOFFSETFROM:-0800
TZOFFSETTO:-0700
TZNAME:PDT
DTSTART:20200308T100000
END:DAYLIGHT
BEGIN:STANDARD
TZOFFSETFROM:-0700
TZOFFSETTO:-0800
TZNAME:PST
DTSTART:20201101T090000
END:STANDARD
BEGIN:DAYLIGHT
TZOFFSETFROM:-0800
TZOFFSETTO:-0700
TZNAME:PDT
DTSTART:20210314T100000
END:DAYLIGHT
BEGIN:STANDARD
TZOFFSETFROM:-0700
TZOFFSETTO:-0800
TZNAME:PST
DTSTART:20211107T090000
END:STANDARD
END:VTIMEZONE
BEGIN:VEVENT
DTSTART;TZID=America/Los_Angeles:20201112T093000
DTEND;TZID=America/Los_Angeles:20201112T110000
DTSTAMP:20260425T132642
CREATED:20200622T173029Z
LAST-MODIFIED:20200622T173029Z
UID:8205-1605173400-1605178800@dmh.lacounty.gov
SUMMARY:SALT 2 Meeting – Nov. 12\, 2020
DESCRIPTION:For more information about this meeting\, please contact \nPauline Barrera at (818) 610-6732 or\nPBarrera@dmh.lacounty.gov
URL:https://dmh.lacounty.gov/event/salt-2-meeting-nov-12-2020/
LOCATION:TBD
CATEGORIES:General Events
END:VEVENT
BEGIN:VEVENT
DTSTART;TZID=America/Los_Angeles:20201112T100000
DTEND;TZID=America/Los_Angeles:20201112T120000
DTSTAMP:20260425T132642
CREATED:20200810T173309Z
LAST-MODIFIED:20200810T173309Z
UID:8939-1605175200-1605182400@dmh.lacounty.gov
SUMMARY:Access for All UsCC Meeting – Nov. 12\, 2020
DESCRIPTION:To participate in this meeting via Skype\, please call 323-776-6996 and enter conference ID 292182025\nFor more information about this meeting and to request accommodations\, please contact Rosario Ribleza at rribleza@dmh.lacounty.gov. \nLearn more about LACDMH’s Underserved Cultural Communities Unit.
URL:https://dmh.lacounty.gov/event/access-for-all-uscc-meeting-nov-12-2020/
LOCATION:Online
CATEGORIES:General Events
END:VEVENT
BEGIN:VEVENT
DTSTART;TZID=America/Los_Angeles:20201112T120000
DTEND;TZID=America/Los_Angeles:20201112T140000
DTSTAMP:20260425T132642
CREATED:20200605T175613Z
LAST-MODIFIED:20201106T184241Z
UID:7906-1605182400-1605189600@dmh.lacounty.gov
SUMMARY:MHC Executive Committee Meeting - November 12\, 2020
DESCRIPTION:(Please note the change in regular meeting time) \n  \n\n\n\nWatch Online (Virtual) \nPublic Comment Line \nÚnase por teléfono \nCART Link \n\n\nClick to Watch Live \n \n844-867-6163 \nAccess Code: 4473459\nEspañol: (888) 204-5987 \nID de conferencia: 9639884#\nClosed Captioning Link \n \n\n\n\n  \n For more information about this meeting\, please call (213) 738-4772 \n2020/2021 meeting schedule for the Mental Health Commission is available here
URL:https://dmh.lacounty.gov/event/mhc-executive-committee-meeting-november-12-2020/
LOCATION:TBD
CATEGORIES:General Events
END:VEVENT
BEGIN:VEVENT
DTSTART;TZID=America/Los_Angeles:20201112T140000
DTEND;TZID=America/Los_Angeles:20201112T160000
DTSTAMP:20260425T132642
CREATED:20200624T152301Z
LAST-MODIFIED:20200624T152301Z
UID:8254-1605189600-1605196800@dmh.lacounty.gov
SUMMARY:SALT 3 Meeting – Nov. 12\, 2020
DESCRIPTION:For more information about this meeting\, please contact Jaime Renteria at (626) 430-2935 or JRenteria@dmh.lacounty.gov for more information.
URL:https://dmh.lacounty.gov/event/salt-3-meeting-nov-12-2020/
LOCATION:CA
CATEGORIES:General Events
END:VEVENT
END:VCALENDAR