BEGIN:VCALENDAR
VERSION:2.0
PRODID:-//Department of Mental Health - ECPv6.15.20//NONSGML v1.0//EN
CALSCALE:GREGORIAN
METHOD:PUBLISH
X-WR-CALNAME:Department of Mental Health
X-ORIGINAL-URL:https://dmh.lacounty.gov
X-WR-CALDESC:Events for Department of Mental Health
REFRESH-INTERVAL;VALUE=DURATION:PT1H
X-Robots-Tag:noindex
X-PUBLISHED-TTL:PT1H
BEGIN:VTIMEZONE
TZID:America/Los_Angeles
BEGIN:DAYLIGHT
TZOFFSETFROM:-0800
TZOFFSETTO:-0700
TZNAME:PDT
DTSTART:20190310T100000
END:DAYLIGHT
BEGIN:STANDARD
TZOFFSETFROM:-0700
TZOFFSETTO:-0800
TZNAME:PST
DTSTART:20191103T090000
END:STANDARD
BEGIN:DAYLIGHT
TZOFFSETFROM:-0800
TZOFFSETTO:-0700
TZNAME:PDT
DTSTART:20200308T100000
END:DAYLIGHT
BEGIN:STANDARD
TZOFFSETFROM:-0700
TZOFFSETTO:-0800
TZNAME:PST
DTSTART:20201101T090000
END:STANDARD
BEGIN:DAYLIGHT
TZOFFSETFROM:-0800
TZOFFSETTO:-0700
TZNAME:PDT
DTSTART:20210314T100000
END:DAYLIGHT
BEGIN:STANDARD
TZOFFSETFROM:-0700
TZOFFSETTO:-0800
TZNAME:PST
DTSTART:20211107T090000
END:STANDARD
END:VTIMEZONE
BEGIN:VEVENT
DTSTART;VALUE=DATE:20200702
DTEND;VALUE=DATE:20200703
DTSTAMP:20260420T025045
CREATED:20200626T164812Z
LAST-MODIFIED:20200629T190046Z
UID:8329-1593648000-1593734399@dmh.lacounty.gov
SUMMARY:Public Comment for MHSA Three-Year Plan Meeting - July 2\, 2020\, 10 a.m.
DESCRIPTION:Due to technical difficulties during the public comment portion of the June 25 Public Hearing for the MHSA Three-Year Plan\, the Mental Health Commission (MHC) and LACDMH will be holding a separate event to hear public comments & for the MHC commissioners to vote on the plan. \nAgenda is available in English & Spanish. \nThe MHSA Three-Year Plan is available to view/download on this page\, and the recording & supplemental materials of the June 25 meeting is available here. \nJoin the virtual conference via Microsoft Teams \nJoin via phone:\nEnglish: (844) 291-6356\, Access Code: 8002519\nEspañol: (888) 204-5987\, ID de conferences: 9639884# \nCART link for Closed Captioning \nFor additional questions about this event\, please email MHCommission@dmh.lacounty.gov.
URL:https://dmh.lacounty.gov/event/mhsa-three-year-plan-for-public-comment-july-2-2020/
LOCATION:Online
CATEGORIES:General Events
END:VEVENT
END:VCALENDAR