BEGIN:VCALENDAR
VERSION:2.0
PRODID:-//Department of Mental Health - ECPv6.15.20//NONSGML v1.0//EN
CALSCALE:GREGORIAN
METHOD:PUBLISH
X-WR-CALNAME:Department of Mental Health
X-ORIGINAL-URL:https://dmh.lacounty.gov
X-WR-CALDESC:Events for Department of Mental Health
REFRESH-INTERVAL;VALUE=DURATION:PT1H
X-Robots-Tag:noindex
X-PUBLISHED-TTL:PT1H
BEGIN:VTIMEZONE
TZID:America/Los_Angeles
BEGIN:DAYLIGHT
TZOFFSETFROM:-0800
TZOFFSETTO:-0700
TZNAME:PDT
DTSTART:20190310T100000
END:DAYLIGHT
BEGIN:STANDARD
TZOFFSETFROM:-0700
TZOFFSETTO:-0800
TZNAME:PST
DTSTART:20191103T090000
END:STANDARD
BEGIN:DAYLIGHT
TZOFFSETFROM:-0800
TZOFFSETTO:-0700
TZNAME:PDT
DTSTART:20200308T100000
END:DAYLIGHT
BEGIN:STANDARD
TZOFFSETFROM:-0700
TZOFFSETTO:-0800
TZNAME:PST
DTSTART:20201101T090000
END:STANDARD
BEGIN:DAYLIGHT
TZOFFSETFROM:-0800
TZOFFSETTO:-0700
TZNAME:PDT
DTSTART:20210314T100000
END:DAYLIGHT
BEGIN:STANDARD
TZOFFSETFROM:-0700
TZOFFSETTO:-0800
TZNAME:PST
DTSTART:20211107T090000
END:STANDARD
END:VTIMEZONE
BEGIN:VEVENT
DTSTART;TZID=America/Los_Angeles:20200611T093000
DTEND;TZID=America/Los_Angeles:20200611T110000
DTSTAMP:20260421T070541
CREATED:20200127T183127Z
LAST-MODIFIED:20200211T183509Z
UID:6053-1591867800-1591873200@dmh.lacounty.gov
SUMMARY:SALT 2 Meeting – June 11\, 2020
DESCRIPTION:For more information about this meeting\, please contact \nPauline Barrera at (818) 610-6732 or\nPBarrera@dmh.lacounty.gov
URL:https://dmh.lacounty.gov/event/saac-2-meeting-june-11-2020/
LOCATION:Zev Yaroslavsky Family Support Center\, 7555 Van Nuys Blvd\, Van Nuys\, CA\, 91405\, United States
CATEGORIES:General Events
END:VEVENT
BEGIN:VEVENT
DTSTART;TZID=America/Los_Angeles:20200611T100000
DTEND;TZID=America/Los_Angeles:20200611T120000
DTSTAMP:20260421T070541
CREATED:20200113T205035Z
LAST-MODIFIED:20200609T002051Z
UID:5855-1591869600-1591876800@dmh.lacounty.gov
SUMMARY:MHC Executive Committee Meeting - June 11\, 2020
DESCRIPTION:Join via Skype (Online Virtual)\nJoin online meeting\n \nJoin via Phone\nEnglish: (323) 776-6996\nConference ID: 783071337# \nÚnase por teléfono\nEspañol: (888) 204-5987\nID de conferencia: 9639884# \nMeeting Agenda\nHighlights from April 2020 Meeting \nMental Health Resources \nHere are resources available as we continue our social connections as a community. \nHEADSPACE \nA free subscription to Headspace\, a digital guide to mindfulness\, meditation and more for all 10 million L.A. County residents. https://help.headspace.com/hc/en-us/articles/360046874573-Headspace-for-Los-Angeles-County-Residents \nThere is no substitute for talking to somebody. Speak to a trained counselor with the new L.A. County Wellbeing Line by calling (800) 854-7771 or visiting https://dmh.lacounty.gov/covid-19-information/. \nFor more information about this meeting\, please call (213) 738-4772 \n2020/2021 meeting schedule for the Mental Health Commission is available here
URL:https://dmh.lacounty.gov/event/mhc-executive-committee-meeting-june-11-2020/
LOCATION:Online
CATEGORIES:General Events
END:VEVENT
BEGIN:VEVENT
DTSTART;TZID=America/Los_Angeles:20200611T133000
DTEND;TZID=America/Los_Angeles:20200611T160000
DTSTAMP:20260421T070541
CREATED:20200122T235440Z
LAST-MODIFIED:20200616T165521Z
UID:5949-1591882200-1591891200@dmh.lacounty.gov
SUMMARY:SALT 3 Meeting - June 11\, 2020
DESCRIPTION:For more information about this meeting\, please contact Jaime Renteria at (626) 430-2935 or JRenteria@dmh.lacounty.gov for more information.
URL:https://dmh.lacounty.gov/event/saac-3-meeting-june-11-2020/
LOCATION:Online
CATEGORIES:General Events
END:VEVENT
END:VCALENDAR