BEGIN:VCALENDAR
VERSION:2.0
PRODID:-//Department of Mental Health - ECPv6.15.20//NONSGML v1.0//EN
CALSCALE:GREGORIAN
METHOD:PUBLISH
X-WR-CALNAME:Department of Mental Health
X-ORIGINAL-URL:https://dmh.lacounty.gov
X-WR-CALDESC:Events for Department of Mental Health
REFRESH-INTERVAL;VALUE=DURATION:PT1H
X-Robots-Tag:noindex
X-PUBLISHED-TTL:PT1H
BEGIN:VTIMEZONE
TZID:America/Los_Angeles
BEGIN:DAYLIGHT
TZOFFSETFROM:-0800
TZOFFSETTO:-0700
TZNAME:PDT
DTSTART:20190310T100000
END:DAYLIGHT
BEGIN:STANDARD
TZOFFSETFROM:-0700
TZOFFSETTO:-0800
TZNAME:PST
DTSTART:20191103T090000
END:STANDARD
BEGIN:DAYLIGHT
TZOFFSETFROM:-0800
TZOFFSETTO:-0700
TZNAME:PDT
DTSTART:20200308T100000
END:DAYLIGHT
BEGIN:STANDARD
TZOFFSETFROM:-0700
TZOFFSETTO:-0800
TZNAME:PST
DTSTART:20201101T090000
END:STANDARD
BEGIN:DAYLIGHT
TZOFFSETFROM:-0800
TZOFFSETTO:-0700
TZNAME:PDT
DTSTART:20210314T100000
END:DAYLIGHT
BEGIN:STANDARD
TZOFFSETFROM:-0700
TZOFFSETTO:-0800
TZNAME:PST
DTSTART:20211107T090000
END:STANDARD
END:VTIMEZONE
BEGIN:VEVENT
DTSTART;VALUE=DATE:20200501
DTEND;VALUE=DATE:20200601
DTSTAMP:20260419T074347
CREATED:20200512T200440Z
LAST-MODIFIED:20200512T200440Z
UID:7597-1588291200-1590969599@dmh.lacounty.gov
SUMMARY:We Rise 2020 - Virtual May
DESCRIPTION:WE RISE 2020: Virtual May is a month-long spotlight on wellbeing and healing through art\, music and creative expression to help the entire Los Angeles County community. We are stronger together. And\, together\, we are building a community where everyone feels a sense of belonging\, connection\, meaning and purpose. This is a safe space where all are welcome. \nThis May\, you’ll find opportunities for creativity\, conversation and connection even while we remain physically apart. Let’s look to hope and recovery during Mental Health Awareness Month. Let’s rise together. For more information\, visit http://werise.la
URL:https://dmh.lacounty.gov/event/we-rise-2020-virtual-may/
LOCATION:CA
CATEGORIES:General Events
END:VEVENT
END:VCALENDAR