BEGIN:VCALENDAR
VERSION:2.0
PRODID:-//Department of Mental Health - ECPv6.15.20//NONSGML v1.0//EN
CALSCALE:GREGORIAN
METHOD:PUBLISH
X-WR-CALNAME:Department of Mental Health
X-ORIGINAL-URL:https://dmh.lacounty.gov
X-WR-CALDESC:Events for Department of Mental Health
REFRESH-INTERVAL;VALUE=DURATION:PT1H
X-Robots-Tag:noindex
X-PUBLISHED-TTL:PT1H
BEGIN:VTIMEZONE
TZID:UTC
BEGIN:STANDARD
TZOFFSETFROM:+0000
TZOFFSETTO:+0000
TZNAME:UTC
DTSTART:20180101T000000
END:STANDARD
END:VTIMEZONE
BEGIN:VEVENT
DTSTART;TZID=UTC:20190813T103000
DTEND;TZID=UTC:20190813T120000
DTSTAMP:20260425T180745
CREATED:20190802T013355Z
LAST-MODIFIED:20190918T210605Z
UID:4006-1565692200-1565697600@dmh.lacounty.gov
SUMMARY:SA3 Health Neighborhood (East SGV) Meeting - Aug. 13\, 2019
DESCRIPTION:For more information about this meeting\, please contact Evelyn Lemus at elemus@dmh.lacounty.gov or (626) 430-2937 \nLearn more about Health Neighborhoods
URL:https://dmh.lacounty.gov/event/sa3-health-neighborhood-east-sgv-meeting-aug-13-2019/
LOCATION:Masonic Center\, 1650 East Old Badillo Street\, Covina\, California\, 91724\, United States
CATEGORIES:General Events
END:VEVENT
BEGIN:VEVENT
DTSTART;TZID=UTC:20190813T113000
DTEND;TZID=UTC:20190813T133000
DTSTAMP:20260425T180745
CREATED:20190108T051217Z
LAST-MODIFIED:20190918T210604Z
UID:2347-1565695800-1565703000@dmh.lacounty.gov
SUMMARY:MHC / SAAC Co-Chairs Meeting – August 13\, 2019
DESCRIPTION:For more information about this meeting\, please call (213) 738-4772 \n2019 meeting schedule for the Mental Health Commission is available here. \n 
URL:https://dmh.lacounty.gov/event/mhc-saac-co-chairs-meeting-august-13-2019/
LOCATION:DMH Headquarters -MHC Meetings\, 550 S. Vermont Avenue\, 9th Floor\, Terrace Level Conference Rooms\, Los Angeles\, CA\, 90020\, United States
CATEGORIES:General Events
END:VEVENT
BEGIN:VEVENT
DTSTART;TZID=UTC:20190813T140000
DTEND;TZID=UTC:20190813T140000
DTSTAMP:20260425T180745
CREATED:20190726T013322Z
LAST-MODIFIED:20190918T210604Z
UID:3927-1565704800-1565704800@dmh.lacounty.gov
SUMMARY:American Indian/Alaska Native (AI/AN) UsCC Subcommittee Meeting – Aug. 13\, 2019
DESCRIPTION:For more information about this meeting\, please contact Kelly Wilkerson at kewilkerson@dmh.lacounty.gov. \nLearn more about LACDMH’s Underserved Cultural Communities Unit. \nAmerican Indian/Alaska Native UsCC Subcommittee Meetings\n8/13/19\, 2-4pm\, United American Indian Involvement-1125 W. 6th St.\, LA\, CA 90017\, Seven Generations-Dakota Room\n9/4/19\, 2-4pm\, West Central Mental Health-3751 Stocker St.\, LA\, CA 90008\n10/2/19\, 2-4pm\, United American Indian Involvement-1125 W. 6th St.\, LA\, CA 90017\, Seven Generations-Dakota Room\n11/6/19\, 2-4pm\, American Indian Counseling Center-17707 Studebaker Rd. # 208\, Cerritos\, CA 90703\n12/4/19\, 2-4pm\, United American Indian Involvement-1125 W. 6th St.\, LA\, CA 90017\, Seven Generations-Dakota Room
URL:https://dmh.lacounty.gov/event/american-indian-alaska-native-ai-an-uscc-subcommittee-meeting-aug-13-2019/
LOCATION:UAII\, Seven Generations\, 1125 W 6th Street\, Los Angeles\, CA\, 90017\, United States
CATEGORIES:General Events
END:VEVENT
END:VCALENDAR